BEGIN:VCALENDAR
VERSION:2.0
PRODID:-//La Salle University - ECPv6.15.20//NONSGML v1.0//EN
CALSCALE:GREGORIAN
METHOD:PUBLISH
X-ORIGINAL-URL:https://www.lasalle.edu
X-WR-CALDESC:Events for La Salle University
REFRESH-INTERVAL;VALUE=DURATION:PT1H
X-Robots-Tag:noindex
X-PUBLISHED-TTL:PT1H
BEGIN:VTIMEZONE
TZID:America/New_York
BEGIN:DAYLIGHT
TZOFFSETFROM:-0500
TZOFFSETTO:-0400
TZNAME:EDT
DTSTART:20210314T070000
END:DAYLIGHT
BEGIN:STANDARD
TZOFFSETFROM:-0400
TZOFFSETTO:-0500
TZNAME:EST
DTSTART:20211107T060000
END:STANDARD
BEGIN:DAYLIGHT
TZOFFSETFROM:-0500
TZOFFSETTO:-0400
TZNAME:EDT
DTSTART:20220313T070000
END:DAYLIGHT
BEGIN:STANDARD
TZOFFSETFROM:-0400
TZOFFSETTO:-0500
TZNAME:EST
DTSTART:20221106T060000
END:STANDARD
BEGIN:DAYLIGHT
TZOFFSETFROM:-0500
TZOFFSETTO:-0400
TZNAME:EDT
DTSTART:20230312T070000
END:DAYLIGHT
BEGIN:STANDARD
TZOFFSETFROM:-0400
TZOFFSETTO:-0500
TZNAME:EST
DTSTART:20231105T060000
END:STANDARD
END:VTIMEZONE
BEGIN:VEVENT
DTSTART;TZID=America/New_York:20221118T000000
DTEND;TZID=America/New_York:20221118T235959
DTSTAMP:20260422T074340
CREATED:20230420T150909Z
LAST-MODIFIED:20230420T150909Z
UID:10001220-1668729600-1668815999@www.lasalle.edu
SUMMARY:SWK Semester Courses End
DESCRIPTION:
URL:https://www.lasalle.edu/event/swk-semester-courses-end-2/
LOCATION:All Locations
CATEGORIES:Academic-DAY,Academic-EVE
END:VEVENT
BEGIN:VEVENT
DTSTART;TZID=America/New_York:20221110T000000
DTEND;TZID=America/New_York:20221110T235959
DTSTAMP:20260422T074340
CREATED:20230420T150817Z
LAST-MODIFIED:20230420T150817Z
UID:10001217-1668038400-1668124799@www.lasalle.edu
SUMMARY:Sophomore Registration for Spring 2022 Begin
DESCRIPTION:
URL:https://www.lasalle.edu/event/sophomore-registration-for-spring-2022-begin/
LOCATION:Main Campus
CATEGORIES:Academic-DAY
END:VEVENT
BEGIN:VEVENT
DTSTART;TZID=America/New_York:20221108T000000
DTEND;TZID=America/New_York:20221108T235959
DTSTAMP:20260422T074340
CREATED:20230420T150817Z
LAST-MODIFIED:20230420T150817Z
UID:10001216-1667865600-1667951999@www.lasalle.edu
SUMMARY:SWK 3 Last Day for Withdrawal
DESCRIPTION:
URL:https://www.lasalle.edu/event/swk-3-last-day-for-withdrawal/
LOCATION:All Locations
CATEGORIES:Academic-DAY,Academic-EVE
END:VEVENT
BEGIN:VEVENT
DTSTART;TZID=America/New_York:20221104T000000
DTEND;TZID=America/New_York:20221104T235959
DTSTAMP:20260422T074340
CREATED:20230420T150816Z
LAST-MODIFIED:20230420T150816Z
UID:10001215-1667520000-1667606399@www.lasalle.edu
SUMMARY:Fall Semester Last Day for Withdrawal
DESCRIPTION:
URL:https://www.lasalle.edu/event/fall-semester-last-day-for-withdrawal/
LOCATION:All Locations
CATEGORIES:Academic-DAY,Academic-EVE,Academic-GRAD
END:VEVENT
BEGIN:VEVENT
DTSTART;TZID=America/New_York:20221103T000000
DTEND;TZID=America/New_York:20221103T235959
DTSTAMP:20260422T074340
CREATED:20230420T150816Z
LAST-MODIFIED:20230420T150816Z
UID:10001214-1667433600-1667519999@www.lasalle.edu
SUMMARY:Junior Registration for Spring 2022 Begin
DESCRIPTION:
URL:https://www.lasalle.edu/event/junior-registration-for-spring-2022-begin/
LOCATION:Main Campus
CATEGORIES:Academic-DAY
END:VEVENT
BEGIN:VEVENT
DTSTART;TZID=America/New_York:20221028T000000
DTEND;TZID=America/New_York:20221028T235959
DTSTAMP:20260422T074340
CREATED:20230420T150802Z
LAST-MODIFIED:20230420T150802Z
UID:10001211-1666915200-1667001599@www.lasalle.edu
SUMMARY:SWK 3 Last Day for Filing P/F Option
DESCRIPTION:
URL:https://www.lasalle.edu/event/swk-3-last-day-for-filing-p-f-option/
LOCATION:All Locations
CATEGORIES:Academic-DAY,Academic-EVE
END:VEVENT
BEGIN:VEVENT
DTSTART;TZID=America/New_York:20221028T000000
DTEND;TZID=America/New_York:20221028T235959
DTSTAMP:20260422T074340
CREATED:20230420T150802Z
LAST-MODIFIED:20230420T150802Z
UID:10001212-1666915200-1667001599@www.lasalle.edu
SUMMARY:7-Week II Last Day for Filing P/F Option
DESCRIPTION:
URL:https://www.lasalle.edu/event/7-week-ii-last-day-for-filing-p-f-option/
LOCATION:All Locations
CATEGORIES:Academic-DAY,Academic-EVE
END:VEVENT
BEGIN:VEVENT
DTSTART;TZID=America/New_York:20221027T000000
DTEND;TZID=America/New_York:20221027T235959
DTSTAMP:20260422T074340
CREATED:20230420T150800Z
LAST-MODIFIED:20230420T150800Z
UID:10001208-1666828800-1666915199@www.lasalle.edu
SUMMARY:Senior Registration for Spring 2022 Begin
DESCRIPTION:
URL:https://www.lasalle.edu/event/senior-registration-for-spring-2022-begin/
LOCATION:Main Campus
CATEGORIES:Academic-DAY
END:VEVENT
BEGIN:VEVENT
DTSTART;TZID=America/New_York:20221026T000000
DTEND;TZID=America/New_York:20221026T235959
DTSTAMP:20260422T074340
CREATED:20230420T150747Z
LAST-MODIFIED:20230420T150747Z
UID:10001206-1666742400-1666828799@www.lasalle.edu
SUMMARY:SWK 2 Grades Due
DESCRIPTION:
URL:https://www.lasalle.edu/event/swk-2-grades-due/
LOCATION:All Locations
CATEGORIES:Academic-DAY,Academic-EVE
END:VEVENT
BEGIN:VEVENT
DTSTART;TZID=America/New_York:20221024T000000
DTEND;TZID=America/New_York:20221024T235959
DTSTAMP:20260422T074340
CREATED:20230420T150746Z
LAST-MODIFIED:20230420T150746Z
UID:10001203-1666569600-1666655999@www.lasalle.edu
SUMMARY:SWK 3 Last Day for Registration and Change of Roster
DESCRIPTION:
URL:https://www.lasalle.edu/event/swk-3-last-day-for-registration-and-change-of-roster/
LOCATION:All Locations
CATEGORIES:Academic-DAY,Academic-EVE
END:VEVENT
BEGIN:VEVENT
DTSTART;TZID=America/New_York:20221024T000000
DTEND;TZID=America/New_York:20221024T235959
DTSTAMP:20260422T074340
CREATED:20230420T150732Z
LAST-MODIFIED:20230420T150732Z
UID:10001202-1666569600-1666655999@www.lasalle.edu
SUMMARY:SWK 3 Courses Begin
DESCRIPTION:
URL:https://www.lasalle.edu/event/swk-3-courses-begin/
LOCATION:All Locations
CATEGORIES:Academic-DAY,Academic-EVE
END:VEVENT
BEGIN:VEVENT
DTSTART;TZID=America/New_York:20221021T000000
DTEND;TZID=America/New_York:20221021T235959
DTSTAMP:20260422T074340
CREATED:20230420T150717Z
LAST-MODIFIED:20230420T150717Z
UID:10001196-1666310400-1666396799@www.lasalle.edu
SUMMARY:SWK 2 Courses End
DESCRIPTION:
URL:https://www.lasalle.edu/event/swk-2-courses-end/
LOCATION:All Locations
CATEGORIES:Academic-DAY,Academic-EVE
END:VEVENT
BEGIN:VEVENT
DTSTART;TZID=America/New_York:20221021T000000
DTEND;TZID=America/New_York:20221021T235959
DTSTAMP:20260422T074340
CREATED:20230420T150717Z
LAST-MODIFIED:20230420T150717Z
UID:10001197-1666310400-1666396799@www.lasalle.edu
SUMMARY:SWK Semester Last Day for Withdrawal
DESCRIPTION:
URL:https://www.lasalle.edu/event/swk-semester-last-day-for-withdrawal-2/
LOCATION:All Locations
CATEGORIES:Academic-DAY,Academic-EVE
END:VEVENT
BEGIN:VEVENT
DTSTART;TZID=America/New_York:20221021T000000
DTEND;TZID=America/New_York:20221021T235959
DTSTAMP:20260422T074340
CREATED:20230420T150716Z
LAST-MODIFIED:20230420T150716Z
UID:10001194-1666310400-1666396799@www.lasalle.edu
SUMMARY:7-Week I Grades Due
DESCRIPTION:
URL:https://www.lasalle.edu/event/7-week-i-grades-due/
LOCATION:All Locations
CATEGORIES:Academic-DAY,Academic-EVE
END:VEVENT
BEGIN:VEVENT
DTSTART;TZID=America/New_York:20221020T000000
DTEND;TZID=America/New_York:20221020T235959
DTSTAMP:20260422T074340
CREATED:20230420T150702Z
LAST-MODIFIED:20230420T150702Z
UID:10001192-1666224000-1666310399@www.lasalle.edu
SUMMARY:7-Week II Last Day for Registration and Change of Roster
DESCRIPTION:
URL:https://www.lasalle.edu/event/7-week-ii-last-day-for-registration-and-change-of-roster/
LOCATION:All Locations
CATEGORIES:Academic-DAY,Academic-EVE
END:VEVENT
BEGIN:VEVENT
DTSTART;TZID=America/New_York:20221019T000000
DTEND;TZID=America/New_York:20221019T235959
DTSTAMP:20260422T074340
CREATED:20230420T150702Z
LAST-MODIFIED:20230420T150702Z
UID:10001191-1666137600-1666223999@www.lasalle.edu
SUMMARY:Mid-Semester Grades Due for Freshmen/Sophomores/First time transfer              (Day Students)
DESCRIPTION:
URL:https://www.lasalle.edu/event/mid-semester-grades-due-for-freshmen-sophomores-first-time-transfer-day-students/
LOCATION:Main Campus
CATEGORIES:Academic-DAY
END:VEVENT
BEGIN:VEVENT
DTSTART;TZID=America/New_York:20221019T000000
DTEND;TZID=America/New_York:20221019T235959
DTSTAMP:20260422T074340
CREATED:20230420T150701Z
LAST-MODIFIED:20230420T150701Z
UID:10001189-1666137600-1666223999@www.lasalle.edu
SUMMARY:7-Week II Courses Begin
DESCRIPTION:
URL:https://www.lasalle.edu/event/7-week-ii-courses-begin/
LOCATION:All Locations
CATEGORIES:Academic-DAY,Academic-EVE
END:VEVENT
BEGIN:VEVENT
DTSTART;TZID=America/New_York:20221018T000000
DTEND;TZID=America/New_York:20221018T235959
DTSTAMP:20260422T074340
CREATED:20230420T150647Z
LAST-MODIFIED:20230420T150647Z
UID:10001187-1666051200-1666137599@www.lasalle.edu
SUMMARY:Mid-Semester Holiday - Fall
DESCRIPTION:
URL:https://www.lasalle.edu/event/mid-semester-holiday-fall-2/
LOCATION:All Locations
CATEGORIES:Academic-DAY,Academic-EVE,Academic-GRAD
END:VEVENT
BEGIN:VEVENT
DTSTART;TZID=America/New_York:20221017T000000
DTEND;TZID=America/New_York:20221017T235959
DTSTAMP:20260422T074340
CREATED:20230420T150647Z
LAST-MODIFIED:20230420T150647Z
UID:10001186-1665964800-1666051199@www.lasalle.edu
SUMMARY:Mid-Semester Holiday - Fall
DESCRIPTION:
URL:https://www.lasalle.edu/event/mid-semester-holiday-fall/
LOCATION:All Locations
CATEGORIES:Academic-DAY,Academic-EVE,Academic-GRAD
END:VEVENT
BEGIN:VEVENT
DTSTART;TZID=America/New_York:20221016T000000
DTEND;TZID=America/New_York:20221016T235959
DTSTAMP:20260422T074340
CREATED:20230420T150646Z
LAST-MODIFIED:20230420T150646Z
UID:10001184-1665878400-1665964799@www.lasalle.edu
SUMMARY:7-Week I Courses End
DESCRIPTION:
URL:https://www.lasalle.edu/event/7-week-i-courses-end/
LOCATION:All Locations
CATEGORIES:Academic-DAY,Academic-EVE
END:VEVENT
BEGIN:VEVENT
DTSTART;TZID=America/New_York:20221011T000000
DTEND;TZID=America/New_York:20221011T235959
DTSTAMP:20260422T074340
CREATED:20230420T150632Z
LAST-MODIFIED:20230420T150632Z
UID:10001182-1665446400-1665532799@www.lasalle.edu
SUMMARY:SWK 2 Last Day for Withdrawal
DESCRIPTION:
URL:https://www.lasalle.edu/event/swk-2-last-day-for-withdrawal/
LOCATION:All Locations
CATEGORIES:Academic-DAY,Academic-EVE
END:VEVENT
BEGIN:VEVENT
DTSTART;TZID=America/New_York:20220930T000000
DTEND;TZID=America/New_York:20220930T235959
DTSTAMP:20260422T074340
CREATED:20230420T150631Z
LAST-MODIFIED:20230420T150631Z
UID:10001179-1664496000-1664582399@www.lasalle.edu
SUMMARY:SWK 2 Last Day for Filing P/F Option
DESCRIPTION:
URL:https://www.lasalle.edu/event/swk-2-last-day-for-filing-p-f-option/
LOCATION:All Locations
CATEGORIES:Academic-DAY,Academic-EVE
END:VEVENT
BEGIN:VEVENT
DTSTART;TZID=America/New_York:20220928T000000
DTEND;TZID=America/New_York:20220928T235959
DTSTAMP:20260422T074340
CREATED:20230420T150630Z
LAST-MODIFIED:20230420T150630Z
UID:10001178-1664323200-1664409599@www.lasalle.edu
SUMMARY:SWK 1 Grades Due
DESCRIPTION:
URL:https://www.lasalle.edu/event/swk-1-grades-due/
LOCATION:All Locations
CATEGORIES:Academic-DAY,Academic-EVE
END:VEVENT
BEGIN:VEVENT
DTSTART;TZID=America/New_York:20220928T000000
DTEND;TZID=America/New_York:20220928T235959
DTSTAMP:20260422T074340
CREATED:20230420T150617Z
LAST-MODIFIED:20230420T150617Z
UID:10001176-1664323200-1664409599@www.lasalle.edu
SUMMARY:7-Week I Last Day for Withdrawal
DESCRIPTION:
URL:https://www.lasalle.edu/event/7-week-i-last-day-for-withdrawal/
LOCATION:All Locations
CATEGORIES:Academic-DAY,Academic-EVE
END:VEVENT
BEGIN:VEVENT
DTSTART;TZID=America/New_York:20220926T000000
DTEND;TZID=America/New_York:20220926T235959
DTSTAMP:20260422T074340
CREATED:20230420T150617Z
LAST-MODIFIED:20230420T150617Z
UID:10001175-1664150400-1664236799@www.lasalle.edu
SUMMARY:SWK 2 Last Day for Registration and Change of Roster
DESCRIPTION:
URL:https://www.lasalle.edu/event/swk-2-last-day-for-registration-and-change-of-roster/
LOCATION:All Locations
CATEGORIES:Academic-DAY,Academic-EVE
END:VEVENT
BEGIN:VEVENT
DTSTART;TZID=America/New_York:20220926T000000
DTEND;TZID=America/New_York:20220926T235959
DTSTAMP:20260422T074340
CREATED:20230420T150616Z
LAST-MODIFIED:20230420T150616Z
UID:10001174-1664150400-1664236799@www.lasalle.edu
SUMMARY:SWK 2 Courses Begin
DESCRIPTION:
URL:https://www.lasalle.edu/event/swk-2-courses-begin/
LOCATION:All Locations
CATEGORIES:Academic-DAY,Academic-EVE
END:VEVENT
BEGIN:VEVENT
DTSTART;TZID=America/New_York:20220923T000000
DTEND;TZID=America/New_York:20220923T235959
DTSTAMP:20260422T074340
CREATED:20230420T150616Z
LAST-MODIFIED:20230420T150616Z
UID:10001173-1663891200-1663977599@www.lasalle.edu
SUMMARY:Honors Convocation
DESCRIPTION:
URL:https://www.lasalle.edu/event/honors-convocation/
LOCATION:Main Campus
CATEGORIES:Academic-DAY,Academic-EVE
END:VEVENT
BEGIN:VEVENT
DTSTART;TZID=America/New_York:20220923T000000
DTEND;TZID=America/New_York:20220923T235959
DTSTAMP:20260422T074340
CREATED:20230420T150602Z
LAST-MODIFIED:20230420T150602Z
UID:10001172-1663891200-1663977599@www.lasalle.edu
SUMMARY:SWK 1 Courses End
DESCRIPTION:
URL:https://www.lasalle.edu/event/swk-1-courses-end/
LOCATION:All Locations
CATEGORIES:Academic-DAY,Academic-EVE
END:VEVENT
BEGIN:VEVENT
DTSTART;TZID=America/New_York:20220916T000000
DTEND;TZID=America/New_York:20220916T235959
DTSTAMP:20260422T074340
CREATED:20230420T150602Z
LAST-MODIFIED:20230420T150602Z
UID:10001171-1663286400-1663372799@www.lasalle.edu
SUMMARY:Fall Semester Last Day for Filing P/F Option
DESCRIPTION:
URL:https://www.lasalle.edu/event/fall-semester-last-day-for-filing-p-f-option/
LOCATION:All Locations
CATEGORIES:Academic-DAY,Academic-EVE
END:VEVENT
BEGIN:VEVENT
DTSTART;TZID=America/New_York:20220913T000000
DTEND;TZID=America/New_York:20220913T235959
DTSTAMP:20260422T074340
CREATED:20230420T150601Z
LAST-MODIFIED:20230420T150601Z
UID:10001169-1663027200-1663113599@www.lasalle.edu
SUMMARY:SWK 1 Last Day for Withdrawal
DESCRIPTION:
URL:https://www.lasalle.edu/event/swk-1-last-day-for-withdrawal/
LOCATION:All Locations
CATEGORIES:Academic-DAY,Academic-EVE
END:VEVENT
END:VCALENDAR