BEGIN:VCALENDAR
VERSION:2.0
PRODID:-//La Salle University - ECPv6.15.20//NONSGML v1.0//EN
CALSCALE:GREGORIAN
METHOD:PUBLISH
X-ORIGINAL-URL:https://www.lasalle.edu
X-WR-CALDESC:Events for La Salle University
REFRESH-INTERVAL;VALUE=DURATION:PT1H
X-Robots-Tag:noindex
X-PUBLISHED-TTL:PT1H
BEGIN:VTIMEZONE
TZID:America/New_York
BEGIN:DAYLIGHT
TZOFFSETFROM:-0500
TZOFFSETTO:-0400
TZNAME:EDT
DTSTART:20230312T070000
END:DAYLIGHT
BEGIN:STANDARD
TZOFFSETFROM:-0400
TZOFFSETTO:-0500
TZNAME:EST
DTSTART:20231105T060000
END:STANDARD
BEGIN:DAYLIGHT
TZOFFSETFROM:-0500
TZOFFSETTO:-0400
TZNAME:EDT
DTSTART:20240310T070000
END:DAYLIGHT
BEGIN:STANDARD
TZOFFSETFROM:-0400
TZOFFSETTO:-0500
TZNAME:EST
DTSTART:20241103T060000
END:STANDARD
BEGIN:DAYLIGHT
TZOFFSETFROM:-0500
TZOFFSETTO:-0400
TZNAME:EDT
DTSTART:20250309T070000
END:DAYLIGHT
BEGIN:STANDARD
TZOFFSETFROM:-0400
TZOFFSETTO:-0500
TZNAME:EST
DTSTART:20251102T060000
END:STANDARD
END:VTIMEZONE
BEGIN:VEVENT
DTSTART;TZID=America/New_York:20241025T000000
DTEND;TZID=America/New_York:20241025T235959
DTSTAMP:20260421T070557
CREATED:20240118T172609Z
LAST-MODIFIED:20240118T172609Z
UID:10002349-1729814400-1729900799@www.lasalle.edu
SUMMARY:MBA ONLINE I Grades Due
DESCRIPTION:
URL:https://www.lasalle.edu/event/mba-online-i-grades-due-8/
LOCATION:Online
CATEGORIES:Academic-GRAD
END:VEVENT
BEGIN:VEVENT
DTSTART;TZID=America/New_York:20241025T000000
DTEND;TZID=America/New_York:20241025T235959
DTSTAMP:20260421T070557
CREATED:20240118T172608Z
LAST-MODIFIED:20240118T172608Z
UID:10002348-1729814400-1729900799@www.lasalle.edu
SUMMARY:8-Week I Grades Due
DESCRIPTION:
URL:https://www.lasalle.edu/event/8-week-i-grades-due-5/
LOCATION:All Locations
CATEGORIES:Academic-GRAD
END:VEVENT
BEGIN:VEVENT
DTSTART;TZID=America/New_York:20241024T000000
DTEND;TZID=America/New_York:20241024T235959
DTSTAMP:20260421T070557
CREATED:20240822T212516Z
LAST-MODIFIED:20240822T212516Z
UID:10003147-1729728000-1729814399@www.lasalle.edu
SUMMARY:Graduate Registration for Spring 2025 Begins
DESCRIPTION:
URL:https://www.lasalle.edu/event/graduate-registration-for-spring-2025-begins-3/
LOCATION:All Locations
CATEGORIES:Academic-GRAD
END:VEVENT
BEGIN:VEVENT
DTSTART;TZID=America/New_York:20241024T000000
DTEND;TZID=America/New_York:20241024T235959
DTSTAMP:20260421T070557
CREATED:20240118T172611Z
LAST-MODIFIED:20240118T172611Z
UID:10002351-1729728000-1729814399@www.lasalle.edu
SUMMARY:Graduate Registration for Spring 2025 Begins
DESCRIPTION:
URL:https://www.lasalle.edu/event/graduate-registration-for-spring-2025-begins-2/
LOCATION:All Locations
CATEGORIES:Academic-GRAD
END:VEVENT
BEGIN:VEVENT
DTSTART;TZID=America/New_York:20241024T000000
DTEND;TZID=America/New_York:20241024T235959
DTSTAMP:20260421T070557
CREATED:20240118T172606Z
LAST-MODIFIED:20240118T172606Z
UID:10002346-1729728000-1729814399@www.lasalle.edu
SUMMARY:Graduate Registration for Spring 2025 Begins
DESCRIPTION:
URL:https://www.lasalle.edu/event/graduate-registration-for-spring-2025-begins/
LOCATION:All Locations
CATEGORIES:Academic-GRAD
END:VEVENT
BEGIN:VEVENT
DTSTART;TZID=America/New_York:20241022T000000
DTEND;TZID=America/New_York:20241022T235959
DTSTAMP:20260421T070557
CREATED:20240822T212319Z
LAST-MODIFIED:20240822T212319Z
UID:10003145-1729555200-1729641599@www.lasalle.edu
SUMMARY:MBA ONLINE II Last Day to Add a Course
DESCRIPTION:
URL:https://www.lasalle.edu/event/mba-online-ii-last-day-to-add-a-course-11/
LOCATION:Online
CATEGORIES:Academic-GRAD
END:VEVENT
BEGIN:VEVENT
DTSTART;TZID=America/New_York:20241022T000000
DTEND;TZID=America/New_York:20241022T235959
DTSTAMP:20260421T070557
CREATED:20240822T212318Z
LAST-MODIFIED:20240822T212318Z
UID:10003144-1729555200-1729641599@www.lasalle.edu
SUMMARY:8-Week II Last Day to Add/Drop a Course
DESCRIPTION:
URL:https://www.lasalle.edu/event/8-week-ii-last-day-to-add-drop-a-course-6/
LOCATION:All Locations
CATEGORIES:Academic-GRAD
END:VEVENT
BEGIN:VEVENT
DTSTART;TZID=America/New_York:20241022T000000
DTEND;TZID=America/New_York:20241022T235959
DTSTAMP:20260421T070557
CREATED:20240118T172552Z
LAST-MODIFIED:20240118T172552Z
UID:10002344-1729555200-1729641599@www.lasalle.edu
SUMMARY:MBA ONLINE II Last Day to Add a Course
DESCRIPTION:
URL:https://www.lasalle.edu/event/mba-online-ii-last-day-to-add-a-course-8/
LOCATION:Online
CATEGORIES:Academic-GRAD
END:VEVENT
BEGIN:VEVENT
DTSTART;TZID=America/New_York:20241022T000000
DTEND;TZID=America/New_York:20241022T235959
DTSTAMP:20260421T070557
CREATED:20240118T172551Z
LAST-MODIFIED:20240118T172551Z
UID:10002343-1729555200-1729641599@www.lasalle.edu
SUMMARY:8-Week II Last Day to Add/Drop a Course
DESCRIPTION:
URL:https://www.lasalle.edu/event/8-week-ii-last-day-to-add-drop-a-course-4/
LOCATION:All Locations
CATEGORIES:Academic-GRAD
END:VEVENT
BEGIN:VEVENT
DTSTART;TZID=America/New_York:20241022T000000
DTEND;TZID=America/New_York:20241022T235959
DTSTAMP:20260421T070557
CREATED:20240118T172547Z
LAST-MODIFIED:20240118T172547Z
UID:10002339-1729555200-1729641599@www.lasalle.edu
SUMMARY:MBA ONLINE II Last Day to Add a Course
DESCRIPTION:
URL:https://www.lasalle.edu/event/mba-online-ii-last-day-to-add-a-course-7/
LOCATION:Online
CATEGORIES:Academic-GRAD
END:VEVENT
BEGIN:VEVENT
DTSTART;TZID=America/New_York:20241022T000000
DTEND;TZID=America/New_York:20241022T235959
DTSTAMP:20260421T070557
CREATED:20240118T172546Z
LAST-MODIFIED:20240118T172546Z
UID:10002338-1729555200-1729641599@www.lasalle.edu
SUMMARY:8-Week II Last Day to Add/Drop a Course
DESCRIPTION:
URL:https://www.lasalle.edu/event/8-week-ii-last-day-to-add-drop-a-course-3/
LOCATION:All Locations
CATEGORIES:Academic-GRAD
END:VEVENT
BEGIN:VEVENT
DTSTART;TZID=America/New_York:20241021T000000
DTEND;TZID=America/New_York:20241021T235959
DTSTAMP:20260421T070557
CREATED:20240822T212315Z
LAST-MODIFIED:20240822T212315Z
UID:10003141-1729468800-1729555199@www.lasalle.edu
SUMMARY:MBA ONLINE II Courses Begin
DESCRIPTION:
URL:https://www.lasalle.edu/event/mba-online-ii-courses-begin-8/
LOCATION:Online
CATEGORIES:Academic-GRAD
END:VEVENT
BEGIN:VEVENT
DTSTART;TZID=America/New_York:20241021T000000
DTEND;TZID=America/New_York:20241021T235959
DTSTAMP:20260421T070557
CREATED:20240822T212119Z
LAST-MODIFIED:20240822T212119Z
UID:10003140-1729468800-1729555199@www.lasalle.edu
SUMMARY:8-Week II Courses Begin
DESCRIPTION:
URL:https://www.lasalle.edu/event/8-week-ii-courses-begin-7/
LOCATION:All Locations
CATEGORIES:Academic-GRAD
END:VEVENT
BEGIN:VEVENT
DTSTART;TZID=America/New_York:20241021T000000
DTEND;TZID=America/New_York:20241021T235959
DTSTAMP:20260421T070557
CREATED:20240118T172548Z
LAST-MODIFIED:20240118T172548Z
UID:10002340-1729468800-1729555199@www.lasalle.edu
SUMMARY:MBA ONLINE II Courses Begin
DESCRIPTION:
URL:https://www.lasalle.edu/event/mba-online-ii-courses-begin-6/
LOCATION:Online
CATEGORIES:Academic-GRAD
END:VEVENT
BEGIN:VEVENT
DTSTART;TZID=America/New_York:20241021T000000
DTEND;TZID=America/New_York:20241021T235959
DTSTAMP:20260421T070557
CREATED:20240118T172543Z
LAST-MODIFIED:20240118T172543Z
UID:10002335-1729468800-1729555199@www.lasalle.edu
SUMMARY:MBA ONLINE II Courses Begin
DESCRIPTION:
URL:https://www.lasalle.edu/event/mba-online-ii-courses-begin-5/
LOCATION:Online
CATEGORIES:Academic-GRAD
END:VEVENT
BEGIN:VEVENT
DTSTART;TZID=America/New_York:20241021T000000
DTEND;TZID=America/New_York:20241021T235959
DTSTAMP:20260421T070557
CREATED:20240118T172530Z
LAST-MODIFIED:20240118T172530Z
UID:10002334-1729468800-1729555199@www.lasalle.edu
SUMMARY:8-Week II Courses Begin
DESCRIPTION:
URL:https://www.lasalle.edu/event/8-week-ii-courses-begin-5/
LOCATION:All Locations
CATEGORIES:Academic-GRAD
END:VEVENT
BEGIN:VEVENT
DTSTART;TZID=America/New_York:20241020T000000
DTEND;TZID=America/New_York:20241020T235959
DTSTAMP:20260421T070557
CREATED:20240822T212117Z
LAST-MODIFIED:20240822T212117Z
UID:10003138-1729382400-1729468799@www.lasalle.edu
SUMMARY:MBA ONLINE I Courses End
DESCRIPTION:
URL:https://www.lasalle.edu/event/mba-online-i-courses-end-12/
LOCATION:Online
CATEGORIES:Academic-GRAD
END:VEVENT
BEGIN:VEVENT
DTSTART;TZID=America/New_York:20241020T000000
DTEND;TZID=America/New_York:20241020T235959
DTSTAMP:20260421T070557
CREATED:20240822T212116Z
LAST-MODIFIED:20240822T212116Z
UID:10003137-1729382400-1729468799@www.lasalle.edu
SUMMARY:8-Week I Courses End
DESCRIPTION:
URL:https://www.lasalle.edu/event/8-week-i-courses-end-8/
LOCATION:All Locations
CATEGORIES:Academic-GRAD
END:VEVENT
BEGIN:VEVENT
DTSTART;TZID=America/New_York:20241020T000000
DTEND;TZID=America/New_York:20241020T235959
DTSTAMP:20260421T070558
CREATED:20240118T172528Z
LAST-MODIFIED:20240118T172528Z
UID:10002332-1729382400-1729468799@www.lasalle.edu
SUMMARY:MBA ONLINE I Courses End
DESCRIPTION:
URL:https://www.lasalle.edu/event/mba-online-i-courses-end-8/
LOCATION:Online
CATEGORIES:Academic-GRAD
END:VEVENT
BEGIN:VEVENT
DTSTART;TZID=America/New_York:20241020T000000
DTEND;TZID=America/New_York:20241020T235959
DTSTAMP:20260421T070558
CREATED:20240118T172527Z
LAST-MODIFIED:20240118T172527Z
UID:10002331-1729382400-1729468799@www.lasalle.edu
SUMMARY:8-Week I Courses End
DESCRIPTION:
URL:https://www.lasalle.edu/event/8-week-i-courses-end-5/
LOCATION:All Locations
CATEGORIES:Academic-GRAD
END:VEVENT
BEGIN:VEVENT
DTSTART;TZID=America/New_York:20241016T000000
DTEND;TZID=America/New_York:20241016T235959
DTSTAMP:20260421T070558
CREATED:20240822T212047Z
LAST-MODIFIED:20240822T212047Z
UID:10003128-1729036800-1729123199@www.lasalle.edu
SUMMARY:MBA ONLINE II Last Day to Add a Course
DESCRIPTION:
URL:https://www.lasalle.edu/event/mba-online-ii-last-day-to-add-a-course-10/
LOCATION:Online
CATEGORIES:Academic-GRAD
END:VEVENT
BEGIN:VEVENT
DTSTART;TZID=America/New_York:20241016T000000
DTEND;TZID=America/New_York:20241016T235959
DTSTAMP:20260421T070558
CREATED:20240118T172444Z
LAST-MODIFIED:20240118T172444Z
UID:10002322-1729036800-1729123199@www.lasalle.edu
SUMMARY:MBA ONLINE II Last Day to Add a Course
DESCRIPTION:
URL:https://www.lasalle.edu/event/mba-online-ii-last-day-to-add-a-course-6/
LOCATION:Online
CATEGORIES:Academic-GRAD
END:VEVENT
BEGIN:VEVENT
DTSTART;TZID=America/New_York:20241015T000000
DTEND;TZID=America/New_York:20241015T235959
DTSTAMP:20260421T070558
CREATED:20240822T212046Z
LAST-MODIFIED:20241008T185631Z
UID:10003127-1728950400-1729036799@www.lasalle.edu
SUMMARY:Fall Break – No Classes. Offices Open.
DESCRIPTION:
URL:https://www.lasalle.edu/event/mid-semester-holiday-fall-8/
LOCATION:All Locations
CATEGORIES:Academic-DAY,Academic-EVE,Academic-GRAD
END:VEVENT
BEGIN:VEVENT
DTSTART;TZID=America/New_York:20241014T000000
DTEND;TZID=America/New_York:20241014T235959
DTSTAMP:20260421T070558
CREATED:20240822T212045Z
LAST-MODIFIED:20240822T212045Z
UID:10003126-1728864000-1728950399@www.lasalle.edu
SUMMARY:Mid-Semester Holiday - Fall
DESCRIPTION:
URL:https://www.lasalle.edu/event/mid-semester-holiday-fall-7/
LOCATION:All Locations
CATEGORIES:Academic-DAY,Academic-EVE,Academic-GRAD
END:VEVENT
BEGIN:VEVENT
DTSTART;TZID=America/New_York:20241002T000000
DTEND;TZID=America/New_York:20241002T235959
DTSTAMP:20260421T070558
CREATED:20240822T212029Z
LAST-MODIFIED:20240822T212029Z
UID:10003121-1727827200-1727913599@www.lasalle.edu
SUMMARY:MBA ONLINE I Last Day for Withdrawal
DESCRIPTION:
URL:https://www.lasalle.edu/event/mba-online-i-last-day-for-withdrawal-11/
LOCATION:Online
CATEGORIES:Academic-GRAD
END:VEVENT
BEGIN:VEVENT
DTSTART;TZID=America/New_York:20241002T000000
DTEND;TZID=America/New_York:20241002T235959
DTSTAMP:20260421T070558
CREATED:20240822T212017Z
LAST-MODIFIED:20240822T212017Z
UID:10003120-1727827200-1727913599@www.lasalle.edu
SUMMARY:8-Week 1 Last Day for Withdrawal
DESCRIPTION:
URL:https://www.lasalle.edu/event/8-week-1-last-day-for-withdrawal-2/
LOCATION:All Locations
CATEGORIES:Academic-GRAD
END:VEVENT
BEGIN:VEVENT
DTSTART;TZID=America/New_York:20241002T000000
DTEND;TZID=America/New_York:20241002T235959
DTSTAMP:20260421T070558
CREATED:20240118T171029Z
LAST-MODIFIED:20240118T171029Z
UID:10002315-1727827200-1727913599@www.lasalle.edu
SUMMARY:MBA ONLINE I Last Day for Withdrawal
DESCRIPTION:
URL:https://www.lasalle.edu/event/mba-online-i-last-day-for-withdrawal-8/
LOCATION:Online
CATEGORIES:Academic-GRAD
END:VEVENT
BEGIN:VEVENT
DTSTART;TZID=America/New_York:20241002T000000
DTEND;TZID=America/New_York:20241002T235959
DTSTAMP:20260421T070558
CREATED:20240118T170832Z
LAST-MODIFIED:20240118T170832Z
UID:10002314-1727827200-1727913599@www.lasalle.edu
SUMMARY:8-Week 1 Last Day for Withdrawal
DESCRIPTION:
URL:https://www.lasalle.edu/event/8-week-1-last-day-for-withdrawal/
LOCATION:All Locations
CATEGORIES:Academic-GRAD
END:VEVENT
BEGIN:VEVENT
DTSTART;TZID=America/New_York:20240902T000000
DTEND;TZID=America/New_York:20240902T235959
DTSTAMP:20260421T070558
CREATED:20240822T211948Z
LAST-MODIFIED:20240822T211948Z
UID:10003107-1725235200-1725321599@www.lasalle.edu
SUMMARY:Labor Day Holiday
DESCRIPTION:
URL:https://www.lasalle.edu/event/labor-day-holiday-4/
LOCATION:All Locations
CATEGORIES:Academic-DAY,Academic-EVE,Academic-GRAD
END:VEVENT
BEGIN:VEVENT
DTSTART;TZID=America/New_York:20240901T000000
DTEND;TZID=America/New_York:20240901T235959
DTSTAMP:20260421T070558
CREATED:20240822T211933Z
LAST-MODIFIED:20240822T211933Z
UID:10003105-1725148800-1725235199@www.lasalle.edu
SUMMARY:Fall Semester Last Day to Add/Drop a Course
DESCRIPTION:
URL:https://www.lasalle.edu/event/fall-semester-last-day-to-add-drop-a-course-2/
LOCATION:All Locations
CATEGORIES:Academic-DAY,Academic-EVE,Academic-GRAD
END:VEVENT
END:VCALENDAR