BEGIN:VCALENDAR
VERSION:2.0
PRODID:-//La Salle University - ECPv6.15.20//NONSGML v1.0//EN
CALSCALE:GREGORIAN
METHOD:PUBLISH
X-WR-CALNAME:La Salle University
X-ORIGINAL-URL:https://www.lasalle.edu
X-WR-CALDESC:Events for La Salle University
REFRESH-INTERVAL;VALUE=DURATION:PT1H
X-Robots-Tag:noindex
X-PUBLISHED-TTL:PT1H
BEGIN:VTIMEZONE
TZID:America/New_York
BEGIN:DAYLIGHT
TZOFFSETFROM:-0500
TZOFFSETTO:-0400
TZNAME:EDT
DTSTART:20240310T070000
END:DAYLIGHT
BEGIN:STANDARD
TZOFFSETFROM:-0400
TZOFFSETTO:-0500
TZNAME:EST
DTSTART:20241103T060000
END:STANDARD
BEGIN:DAYLIGHT
TZOFFSETFROM:-0500
TZOFFSETTO:-0400
TZNAME:EDT
DTSTART:20250309T070000
END:DAYLIGHT
BEGIN:STANDARD
TZOFFSETFROM:-0400
TZOFFSETTO:-0500
TZNAME:EST
DTSTART:20251102T060000
END:STANDARD
BEGIN:DAYLIGHT
TZOFFSETFROM:-0500
TZOFFSETTO:-0400
TZNAME:EDT
DTSTART:20260308T070000
END:DAYLIGHT
BEGIN:STANDARD
TZOFFSETFROM:-0400
TZOFFSETTO:-0500
TZNAME:EST
DTSTART:20261101T060000
END:STANDARD
END:VTIMEZONE
BEGIN:VEVENT
DTSTART;TZID=America/New_York:20250514T000000
DTEND;TZID=America/New_York:20250514T235959
DTSTAMP:20260422T234634
CREATED:20240118T184239Z
LAST-MODIFIED:20240228T143745Z
UID:10002514-1747180800-1747267199@www.lasalle.edu
SUMMARY:MBA ONLINE II Grades Due
DESCRIPTION:
URL:https://www.lasalle.edu/event/mba-online-ii-grades-due-6/
LOCATION:Online
CATEGORIES:Academic-GRAD
END:VEVENT
BEGIN:VEVENT
DTSTART;TZID=America/New_York:20250514T000000
DTEND;TZID=America/New_York:20250514T235959
DTSTAMP:20260422T234634
CREATED:20240822T221929Z
LAST-MODIFIED:20240822T221929Z
UID:10003288-1747180800-1747267199@www.lasalle.edu
SUMMARY:8-Week II Grades Due
DESCRIPTION:
URL:https://www.lasalle.edu/event/8-week-ii-grades-due-8/
LOCATION:All Locations
CATEGORIES:Academic-GRAD
END:VEVENT
BEGIN:VEVENT
DTSTART;TZID=America/New_York:20250514T000000
DTEND;TZID=America/New_York:20250514T235959
DTSTAMP:20260422T234634
CREATED:20240822T221930Z
LAST-MODIFIED:20240822T221930Z
UID:10003289-1747180800-1747267199@www.lasalle.edu
SUMMARY:Spring Semester Grades Due
DESCRIPTION:
URL:https://www.lasalle.edu/event/spring-semester-grades-due-3/
LOCATION:All Locations
CATEGORIES:Academic-DAY,Academic-EVE,Academic-GRAD
END:VEVENT
BEGIN:VEVENT
DTSTART;TZID=America/New_York:20250514T000000
DTEND;TZID=America/New_York:20250514T235959
DTSTAMP:20260422T234634
CREATED:20240822T221931Z
LAST-MODIFIED:20240822T221931Z
UID:10003290-1747180800-1747267199@www.lasalle.edu
SUMMARY:MBA ONLINE II Grades Due
DESCRIPTION:
URL:https://www.lasalle.edu/event/mba-online-ii-grades-due-8/
LOCATION:Online
CATEGORIES:Academic-GRAD
END:VEVENT
END:VCALENDAR