BEGIN:VCALENDAR
VERSION:2.0
PRODID:-//La Salle University - ECPv6.15.20//NONSGML v1.0//EN
CALSCALE:GREGORIAN
METHOD:PUBLISH
X-WR-CALNAME:La Salle University
X-ORIGINAL-URL:https://www.lasalle.edu
X-WR-CALDESC:Events for La Salle University
REFRESH-INTERVAL;VALUE=DURATION:PT1H
X-Robots-Tag:noindex
X-PUBLISHED-TTL:PT1H
BEGIN:VTIMEZONE
TZID:America/New_York
BEGIN:DAYLIGHT
TZOFFSETFROM:-0500
TZOFFSETTO:-0400
TZNAME:EDT
DTSTART:20230312T070000
END:DAYLIGHT
BEGIN:STANDARD
TZOFFSETFROM:-0400
TZOFFSETTO:-0500
TZNAME:EST
DTSTART:20231105T060000
END:STANDARD
BEGIN:DAYLIGHT
TZOFFSETFROM:-0500
TZOFFSETTO:-0400
TZNAME:EDT
DTSTART:20240310T070000
END:DAYLIGHT
BEGIN:STANDARD
TZOFFSETFROM:-0400
TZOFFSETTO:-0500
TZNAME:EST
DTSTART:20241103T060000
END:STANDARD
BEGIN:DAYLIGHT
TZOFFSETFROM:-0500
TZOFFSETTO:-0400
TZNAME:EDT
DTSTART:20250309T070000
END:DAYLIGHT
BEGIN:STANDARD
TZOFFSETFROM:-0400
TZOFFSETTO:-0500
TZNAME:EST
DTSTART:20251102T060000
END:STANDARD
END:VTIMEZONE
BEGIN:VEVENT
DTSTART;TZID=America/New_York:20240826T000000
DTEND;TZID=America/New_York:20240826T235959
DTSTAMP:20260421T135104
CREATED:20240822T211848Z
LAST-MODIFIED:20240822T211848Z
UID:10003090-1724630400-1724716799@www.lasalle.edu
SUMMARY:Fall Semester Courses Begin
DESCRIPTION:
URL:https://www.lasalle.edu/event/fall-semester-courses-begin-3/
LOCATION:All Locations
CATEGORIES:Academic-DAY,Academic-EVE,Academic-GRAD
END:VEVENT
BEGIN:VEVENT
DTSTART;TZID=America/New_York:20240826T000000
DTEND;TZID=America/New_York:20240826T235959
DTSTAMP:20260421T135104
CREATED:20240822T211847Z
LAST-MODIFIED:20240822T211847Z
UID:10003089-1724630400-1724716799@www.lasalle.edu
SUMMARY:8-Week I Courses Begin
DESCRIPTION:
URL:https://www.lasalle.edu/event/8-week-i-courses-begin-7/
LOCATION:All Locations
CATEGORIES:Academic-GRAD
END:VEVENT
BEGIN:VEVENT
DTSTART;TZID=America/New_York:20240826T000000
DTEND;TZID=America/New_York:20240826T235959
DTSTAMP:20260421T135104
CREATED:20240118T170139Z
LAST-MODIFIED:20240118T170139Z
UID:10002286-1724630400-1724716799@www.lasalle.edu
SUMMARY:MBA ONLINE Registration for ONLINE II Begin
DESCRIPTION:
URL:https://www.lasalle.edu/event/mba-online-registration-for-online-ii-begin-5/
LOCATION:Online
CATEGORIES:Academic-GRAD
END:VEVENT
BEGIN:VEVENT
DTSTART;TZID=America/New_York:20240826T000000
DTEND;TZID=America/New_York:20240826T235959
DTSTAMP:20260421T135104
CREATED:20240118T170138Z
LAST-MODIFIED:20240118T170138Z
UID:10002285-1724630400-1724716799@www.lasalle.edu
SUMMARY:MBA ONLINE I Courses Begin
DESCRIPTION:
URL:https://www.lasalle.edu/event/mba-online-i-courses-begin-8/
LOCATION:Online
CATEGORIES:Academic-GRAD
END:VEVENT
BEGIN:VEVENT
DTSTART;TZID=America/New_York:20240826T000000
DTEND;TZID=America/New_York:20240826T235959
DTSTAMP:20260421T135104
CREATED:20240118T165940Z
LAST-MODIFIED:20240118T165940Z
UID:10002283-1724630400-1724716799@www.lasalle.edu
SUMMARY:8-Week I Courses Begin
DESCRIPTION:
URL:https://www.lasalle.edu/event/8-week-i-courses-begin-5/
LOCATION:All Locations
CATEGORIES:Academic-GRAD
END:VEVENT
BEGIN:VEVENT
DTSTART;TZID=America/New_York:20240821T000000
DTEND;TZID=America/New_York:20240821T235959
DTSTAMP:20260421T135104
CREATED:20240822T211832Z
LAST-MODIFIED:20240822T211832Z
UID:10003084-1724198400-1724284799@www.lasalle.edu
SUMMARY:MBA ONLINE I Last Day to Add a Course
DESCRIPTION:
URL:https://www.lasalle.edu/event/mba-online-i-last-day-to-add-a-course-12/
LOCATION:Online
CATEGORIES:Academic-GRAD
END:VEVENT
BEGIN:VEVENT
DTSTART;TZID=America/New_York:20240821T000000
DTEND;TZID=America/New_York:20240821T235959
DTSTAMP:20260421T135104
CREATED:20240118T165739Z
LAST-MODIFIED:20240118T165739Z
UID:10002278-1724198400-1724284799@www.lasalle.edu
SUMMARY:MBA ONLINE I Last Day to Add a Course
DESCRIPTION:
URL:https://www.lasalle.edu/event/mba-online-i-last-day-to-add-a-course-8/
LOCATION:Online
CATEGORIES:Academic-GRAD
END:VEVENT
BEGIN:VEVENT
DTSTART;TZID=America/New_York:20240820T000000
DTEND;TZID=America/New_York:20240820T235959
DTSTAMP:20260421T135104
CREATED:20240822T211831Z
LAST-MODIFIED:20240822T211831Z
UID:10003083-1724112000-1724198399@www.lasalle.edu
SUMMARY:Summer Intercession Grades Due
DESCRIPTION:
URL:https://www.lasalle.edu/event/summer-intercession-grades-due-2/
LOCATION:All Locations
CATEGORIES:Academic-DAY,Academic-EVE,Academic-GRAD
END:VEVENT
BEGIN:VEVENT
DTSTART;TZID=America/New_York:20240815T000000
DTEND;TZID=America/New_York:20240815T235959
DTSTAMP:20260421T135104
CREATED:20240822T211830Z
LAST-MODIFIED:20240822T211830Z
UID:10003082-1723680000-1723766399@www.lasalle.edu
SUMMARY:Summer Intercession Courses End
DESCRIPTION:
URL:https://www.lasalle.edu/event/summer-intercession-courses-end-2/
LOCATION:All Locations
CATEGORIES:Academic-DAY,Academic-EVE,Academic-GRAD
END:VEVENT
BEGIN:VEVENT
DTSTART;TZID=America/New_York:20240810T000000
DTEND;TZID=America/New_York:20240810T235959
DTSTAMP:20260421T135104
CREATED:20240822T211800Z
LAST-MODIFIED:20240822T211800Z
UID:10003079-1723248000-1723334399@www.lasalle.edu
SUMMARY:Summer Intercession Last Day for Withdrawal
DESCRIPTION:
URL:https://www.lasalle.edu/event/summer-intercession-last-day-for-withdrawal-2/
LOCATION:All Locations
CATEGORIES:Academic-DAY,Academic-EVE,Academic-GRAD
END:VEVENT
BEGIN:VEVENT
DTSTART;TZID=America/New_York:20240806T000000
DTEND;TZID=America/New_York:20240806T235959
DTSTAMP:20260421T135104
CREATED:20240822T211745Z
LAST-MODIFIED:20240822T211745Z
UID:10003074-1722902400-1722988799@www.lasalle.edu
SUMMARY:Summer Intercession Last Day for Filing P/F Option
DESCRIPTION:
URL:https://www.lasalle.edu/event/summer-intercession-last-day-for-filing-p-f-option-2/
LOCATION:All Locations
CATEGORIES:Academic-DAY,Academic-EVE,Academic-GRAD
END:VEVENT
BEGIN:VEVENT
DTSTART;TZID=America/New_York:20240806T000000
DTEND;TZID=America/New_York:20240806T235959
DTSTAMP:20260421T135104
CREATED:20240822T211744Z
LAST-MODIFIED:20240822T211744Z
UID:10003072-1722902400-1722988799@www.lasalle.edu
SUMMARY:Summer Full Semester Grades Due
DESCRIPTION:
URL:https://www.lasalle.edu/event/summer-full-semester-grades-due-4/
LOCATION:All Locations
CATEGORIES:Academic-DAY,Academic-EVE,Academic-GRAD
END:VEVENT
BEGIN:VEVENT
DTSTART;TZID=America/New_York:20240806T000000
DTEND;TZID=America/New_York:20240806T235959
DTSTAMP:20260421T135104
CREATED:20240822T211744Z
LAST-MODIFIED:20240822T211744Z
UID:10003073-1722902400-1722988799@www.lasalle.edu
SUMMARY:Summer II Grades Due
DESCRIPTION:
URL:https://www.lasalle.edu/event/summer-ii-grades-due-4/
LOCATION:All Locations
CATEGORIES:Academic-DAY,Academic-EVE,Academic-GRAD
END:VEVENT
BEGIN:VEVENT
DTSTART;TZID=America/New_York:20240805T000000
DTEND;TZID=America/New_York:20240805T235959
DTSTAMP:20260421T135104
CREATED:20240822T211743Z
LAST-MODIFIED:20240822T211743Z
UID:10003071-1722816000-1722902399@www.lasalle.edu
SUMMARY:Summer Intercession Last Day to Add/Drop a Course
DESCRIPTION:
URL:https://www.lasalle.edu/event/summer-intercession-last-day-to-add-drop-a-course-2/
LOCATION:All Locations
CATEGORIES:Academic-DAY,Academic-EVE,Academic-GRAD
END:VEVENT
BEGIN:VEVENT
DTSTART;TZID=America/New_York:20240805T000000
DTEND;TZID=America/New_York:20240805T235959
DTSTAMP:20260421T135104
CREATED:20240822T211730Z
LAST-MODIFIED:20240822T211730Z
UID:10003070-1722816000-1722902399@www.lasalle.edu
SUMMARY:Summer Intercession Courses Begin
DESCRIPTION:
URL:https://www.lasalle.edu/event/summer-intercession-courses-begin-2/
LOCATION:All Locations
CATEGORIES:Academic-DAY,Academic-EVE,Academic-GRAD
END:VEVENT
BEGIN:VEVENT
DTSTART;TZID=America/New_York:20240802T000000
DTEND;TZID=America/New_York:20240802T235959
DTSTAMP:20260421T135104
CREATED:20240822T211730Z
LAST-MODIFIED:20240822T211730Z
UID:10003069-1722556800-1722643199@www.lasalle.edu
SUMMARY:Summer II Courses End
DESCRIPTION:
URL:https://www.lasalle.edu/event/summer-ii-courses-end-4/
LOCATION:All Locations
CATEGORIES:Academic-DAY,Academic-EVE,Academic-GRAD
END:VEVENT
BEGIN:VEVENT
DTSTART;TZID=America/New_York:20240802T000000
DTEND;TZID=America/New_York:20240802T235959
DTSTAMP:20260421T135104
CREATED:20240822T211729Z
LAST-MODIFIED:20240822T211729Z
UID:10003068-1722556800-1722643199@www.lasalle.edu
SUMMARY:Summer Full Semester Courses End
DESCRIPTION:
URL:https://www.lasalle.edu/event/summer-full-semester-courses-end-4/
LOCATION:All Locations
CATEGORIES:Academic-DAY,Academic-EVE,Academic-GRAD
END:VEVENT
BEGIN:VEVENT
DTSTART;TZID=America/New_York:20240730T000000
DTEND;TZID=America/New_York:20240730T235959
DTSTAMP:20260421T135104
CREATED:20240822T211728Z
LAST-MODIFIED:20240822T211728Z
UID:10003067-1722297600-1722383999@www.lasalle.edu
SUMMARY:10-Week Grades Due
DESCRIPTION:
URL:https://www.lasalle.edu/event/10-week-grades-due-4/
LOCATION:All Locations
CATEGORIES:Academic-DAY,Academic-EVE,Academic-GRAD
END:VEVENT
BEGIN:VEVENT
DTSTART;TZID=America/New_York:20240725T000000
DTEND;TZID=America/New_York:20240725T235959
DTSTAMP:20260421T135104
CREATED:20240822T211727Z
LAST-MODIFIED:20240822T211727Z
UID:10003066-1721865600-1721951999@www.lasalle.edu
SUMMARY:10-Week Courses End
DESCRIPTION:
URL:https://www.lasalle.edu/event/10-week-courses-end-4/
LOCATION:All Locations
CATEGORIES:Academic-DAY,Academic-EVE,Academic-GRAD
END:VEVENT
BEGIN:VEVENT
DTSTART;TZID=America/New_York:20240722T000000
DTEND;TZID=America/New_York:20240722T235959
DTSTAMP:20260421T135104
CREATED:20240822T211715Z
LAST-MODIFIED:20240822T211715Z
UID:10003065-1721606400-1721692799@www.lasalle.edu
SUMMARY:Summer II Last Day for Withdrawal
DESCRIPTION:
URL:https://www.lasalle.edu/event/summer-ii-last-day-for-withdrawal-4/
LOCATION:All Locations
CATEGORIES:Academic-DAY,Academic-EVE,Academic-GRAD
END:VEVENT
BEGIN:VEVENT
DTSTART;TZID=America/New_York:20240719T000000
DTEND;TZID=America/New_York:20240719T235959
DTSTAMP:20260421T135104
CREATED:20240822T211715Z
LAST-MODIFIED:20240822T211715Z
UID:10003064-1721347200-1721433599@www.lasalle.edu
SUMMARY:MBA ONLINE I Grades Due
DESCRIPTION:
URL:https://www.lasalle.edu/event/mba-online-i-grades-due-11/
LOCATION:Online
CATEGORIES:Academic-GRAD
END:VEVENT
BEGIN:VEVENT
DTSTART;TZID=America/New_York:20240719T000000
DTEND;TZID=America/New_York:20240719T235959
DTSTAMP:20260421T135104
CREATED:20240822T211714Z
LAST-MODIFIED:20240822T211714Z
UID:10003063-1721347200-1721433599@www.lasalle.edu
SUMMARY:8-Week Grades Due
DESCRIPTION:
URL:https://www.lasalle.edu/event/8-week-grades-due-4/
LOCATION:All Locations
CATEGORIES:Academic-GRAD
END:VEVENT
BEGIN:VEVENT
DTSTART;TZID=America/New_York:20240719T000000
DTEND;TZID=America/New_York:20240719T235959
DTSTAMP:20260421T135104
CREATED:20240118T165344Z
LAST-MODIFIED:20240118T165344Z
UID:10002258-1721347200-1721433599@www.lasalle.edu
SUMMARY:MBA ONLINE I Grades Due
DESCRIPTION:
URL:https://www.lasalle.edu/event/mba-online-i-grades-due-7/
LOCATION:Online
CATEGORIES:Academic-GRAD
END:VEVENT
BEGIN:VEVENT
DTSTART;TZID=America/New_York:20240719T000000
DTEND;TZID=America/New_York:20240719T235959
DTSTAMP:20260421T135104
CREATED:20240118T165343Z
LAST-MODIFIED:20240118T165343Z
UID:10002257-1721347200-1721433599@www.lasalle.edu
SUMMARY:8-Week Grades Due
DESCRIPTION:
URL:https://www.lasalle.edu/event/8-week-grades-due-3/
LOCATION:All Locations
CATEGORIES:Academic-GRAD
END:VEVENT
BEGIN:VEVENT
DTSTART;TZID=America/New_York:20240714T000000
DTEND;TZID=America/New_York:20240714T235959
DTSTAMP:20260421T135104
CREATED:20240822T211659Z
LAST-MODIFIED:20240822T211659Z
UID:10003058-1720915200-1721001599@www.lasalle.edu
SUMMARY:MBA ONLINE I Courses End
DESCRIPTION:
URL:https://www.lasalle.edu/event/mba-online-i-courses-end-11/
LOCATION:Online
CATEGORIES:Academic-GRAD
END:VEVENT
BEGIN:VEVENT
DTSTART;TZID=America/New_York:20240714T000000
DTEND;TZID=America/New_York:20240714T235959
DTSTAMP:20260421T135104
CREATED:20240822T211658Z
LAST-MODIFIED:20240822T211658Z
UID:10003057-1720915200-1721001599@www.lasalle.edu
SUMMARY:8-Week Courses End
DESCRIPTION:
URL:https://www.lasalle.edu/event/8-week-courses-end-4/
LOCATION:All Locations
CATEGORIES:Academic-GRAD
END:VEVENT
BEGIN:VEVENT
DTSTART;TZID=America/New_York:20240714T000000
DTEND;TZID=America/New_York:20240714T235959
DTSTAMP:20260421T135104
CREATED:20240118T165328Z
LAST-MODIFIED:20240118T165328Z
UID:10002252-1720915200-1721001599@www.lasalle.edu
SUMMARY:MBA ONLINE I Courses End
DESCRIPTION:
URL:https://www.lasalle.edu/event/mba-online-i-courses-end-7/
LOCATION:Online
CATEGORIES:Academic-GRAD
END:VEVENT
BEGIN:VEVENT
DTSTART;TZID=America/New_York:20240714T000000
DTEND;TZID=America/New_York:20240714T235959
DTSTAMP:20260421T135104
CREATED:20240118T165327Z
LAST-MODIFIED:20240118T165327Z
UID:10002251-1720915200-1721001599@www.lasalle.edu
SUMMARY:8-Week Courses End
DESCRIPTION:
URL:https://www.lasalle.edu/event/8-week-courses-end-3/
LOCATION:All Locations
CATEGORIES:Academic-GRAD
END:VEVENT
BEGIN:VEVENT
DTSTART;TZID=America/New_York:20240712T000000
DTEND;TZID=America/New_York:20240712T235959
DTSTAMP:20260421T135104
CREATED:20240822T211657Z
LAST-MODIFIED:20240822T211657Z
UID:10003056-1720742400-1720828799@www.lasalle.edu
SUMMARY:Independence Day Makeup Day
DESCRIPTION:
URL:https://www.lasalle.edu/event/independence-day-makeup-day-2/
LOCATION:All Locations
CATEGORIES:Academic-DAY,Academic-EVE,Academic-GRAD
END:VEVENT
BEGIN:VEVENT
DTSTART;TZID=America/New_York:20240706T000000
DTEND;TZID=America/New_York:20240706T235959
DTSTAMP:20260421T135104
CREATED:20240822T211627Z
LAST-MODIFIED:20240822T211627Z
UID:10003046-1720224000-1720310399@www.lasalle.edu
SUMMARY:10-Week Last Day for Withdrawal
DESCRIPTION:
URL:https://www.lasalle.edu/event/10-week-last-day-for-withdrawal-4/
LOCATION:All Locations
CATEGORIES:Academic-DAY,Academic-EVE,Academic-GRAD
END:VEVENT
END:VCALENDAR