BEGIN:VCALENDAR
VERSION:2.0
PRODID:-//La Salle University - ECPv6.15.20//NONSGML v1.0//EN
CALSCALE:GREGORIAN
METHOD:PUBLISH
X-ORIGINAL-URL:https://www.lasalle.edu
X-WR-CALDESC:Events for La Salle University
REFRESH-INTERVAL;VALUE=DURATION:PT1H
X-Robots-Tag:noindex
X-PUBLISHED-TTL:PT1H
BEGIN:VTIMEZONE
TZID:America/New_York
BEGIN:DAYLIGHT
TZOFFSETFROM:-0500
TZOFFSETTO:-0400
TZNAME:EDT
DTSTART:20230312T070000
END:DAYLIGHT
BEGIN:STANDARD
TZOFFSETFROM:-0400
TZOFFSETTO:-0500
TZNAME:EST
DTSTART:20231105T060000
END:STANDARD
BEGIN:DAYLIGHT
TZOFFSETFROM:-0500
TZOFFSETTO:-0400
TZNAME:EDT
DTSTART:20240310T070000
END:DAYLIGHT
BEGIN:STANDARD
TZOFFSETFROM:-0400
TZOFFSETTO:-0500
TZNAME:EST
DTSTART:20241103T060000
END:STANDARD
BEGIN:DAYLIGHT
TZOFFSETFROM:-0500
TZOFFSETTO:-0400
TZNAME:EDT
DTSTART:20250309T070000
END:DAYLIGHT
BEGIN:STANDARD
TZOFFSETFROM:-0400
TZOFFSETTO:-0500
TZNAME:EST
DTSTART:20251102T060000
END:STANDARD
END:VTIMEZONE
BEGIN:VEVENT
DTSTART;TZID=America/New_York:20240714T000000
DTEND;TZID=America/New_York:20240714T235959
DTSTAMP:20260421T221851
CREATED:20240822T211659Z
LAST-MODIFIED:20240822T211659Z
UID:10003058-1720915200-1721001599@www.lasalle.edu
SUMMARY:MBA ONLINE I Courses End
DESCRIPTION:
URL:https://www.lasalle.edu/event/mba-online-i-courses-end-11/
LOCATION:Online
CATEGORIES:Academic-GRAD
END:VEVENT
BEGIN:VEVENT
DTSTART;TZID=America/New_York:20240714T000000
DTEND;TZID=America/New_York:20240714T235959
DTSTAMP:20260421T221851
CREATED:20240822T211658Z
LAST-MODIFIED:20240822T211658Z
UID:10003057-1720915200-1721001599@www.lasalle.edu
SUMMARY:8-Week Courses End
DESCRIPTION:
URL:https://www.lasalle.edu/event/8-week-courses-end-4/
LOCATION:All Locations
CATEGORIES:Academic-GRAD
END:VEVENT
BEGIN:VEVENT
DTSTART;TZID=America/New_York:20240714T000000
DTEND;TZID=America/New_York:20240714T235959
DTSTAMP:20260421T221851
CREATED:20240118T165328Z
LAST-MODIFIED:20240118T165328Z
UID:10002252-1720915200-1721001599@www.lasalle.edu
SUMMARY:MBA ONLINE I Courses End
DESCRIPTION:
URL:https://www.lasalle.edu/event/mba-online-i-courses-end-7/
LOCATION:Online
CATEGORIES:Academic-GRAD
END:VEVENT
BEGIN:VEVENT
DTSTART;TZID=America/New_York:20240714T000000
DTEND;TZID=America/New_York:20240714T235959
DTSTAMP:20260421T221851
CREATED:20240118T165327Z
LAST-MODIFIED:20240118T165327Z
UID:10002251-1720915200-1721001599@www.lasalle.edu
SUMMARY:8-Week Courses End
DESCRIPTION:
URL:https://www.lasalle.edu/event/8-week-courses-end-3/
LOCATION:All Locations
CATEGORIES:Academic-GRAD
END:VEVENT
BEGIN:VEVENT
DTSTART;TZID=America/New_York:20240712T000000
DTEND;TZID=America/New_York:20240712T235959
DTSTAMP:20260421T221851
CREATED:20240822T211657Z
LAST-MODIFIED:20240822T211657Z
UID:10003056-1720742400-1720828799@www.lasalle.edu
SUMMARY:Independence Day Makeup Day
DESCRIPTION:
URL:https://www.lasalle.edu/event/independence-day-makeup-day-2/
LOCATION:All Locations
CATEGORIES:Academic-DAY,Academic-EVE,Academic-GRAD
END:VEVENT
BEGIN:VEVENT
DTSTART;TZID=America/New_York:20240706T000000
DTEND;TZID=America/New_York:20240706T235959
DTSTAMP:20260421T221851
CREATED:20240822T211627Z
LAST-MODIFIED:20240822T211627Z
UID:10003046-1720224000-1720310399@www.lasalle.edu
SUMMARY:10-Week Last Day for Withdrawal
DESCRIPTION:
URL:https://www.lasalle.edu/event/10-week-last-day-for-withdrawal-4/
LOCATION:All Locations
CATEGORIES:Academic-DAY,Academic-EVE,Academic-GRAD
END:VEVENT
BEGIN:VEVENT
DTSTART;TZID=America/New_York:20240704T000000
DTEND;TZID=America/New_York:20240704T235959
DTSTAMP:20260421T221851
CREATED:20240822T211615Z
LAST-MODIFIED:20240822T211615Z
UID:10003044-1720051200-1720137599@www.lasalle.edu
SUMMARY:Independence Day
DESCRIPTION:
URL:https://www.lasalle.edu/event/independence-day-3/
LOCATION:All Locations
CATEGORIES:Academic-DAY,Academic-EVE,Academic-GRAD
END:VEVENT
BEGIN:VEVENT
DTSTART;TZID=America/New_York:20240704T000000
DTEND;TZID=America/New_York:20240704T235959
DTSTAMP:20260421T221851
CREATED:20240822T211615Z
LAST-MODIFIED:20240822T211615Z
UID:10003045-1720051200-1720137599@www.lasalle.edu
SUMMARY:Summer II Last Day for Filing P/F Option
DESCRIPTION:
URL:https://www.lasalle.edu/event/summer-ii-last-day-for-filing-p-f-option-4/
LOCATION:All Locations
CATEGORIES:Academic-DAY,Academic-EVE,Academic-GRAD
END:VEVENT
BEGIN:VEVENT
DTSTART;TZID=America/New_York:20240701T000000
DTEND;TZID=America/New_York:20240701T235959
DTSTAMP:20260421T221851
CREATED:20240822T211613Z
LAST-MODIFIED:20240822T211613Z
UID:10003042-1719792000-1719878399@www.lasalle.edu
SUMMARY:Summer I Grades Due
DESCRIPTION:
URL:https://www.lasalle.edu/event/summer-i-grades-due-4/
LOCATION:All Locations
CATEGORIES:Academic-DAY,Academic-EVE,Academic-GRAD
END:VEVENT
BEGIN:VEVENT
DTSTART;TZID=America/New_York:20240627T000000
DTEND;TZID=America/New_York:20240627T235959
DTSTAMP:20260421T221851
CREATED:20240822T211612Z
LAST-MODIFIED:20240822T211612Z
UID:10003041-1719446400-1719532799@www.lasalle.edu
SUMMARY:Summer II Last Day to Add/Drop a Course
DESCRIPTION:
URL:https://www.lasalle.edu/event/summer-ii-last-day-to-add-drop-a-course-3/
LOCATION:All Locations
CATEGORIES:Academic-DAY,Academic-EVE,Academic-GRAD
END:VEVENT
BEGIN:VEVENT
DTSTART;TZID=America/New_York:20240626T000000
DTEND;TZID=America/New_York:20240626T235959
DTSTAMP:20260421T221851
CREATED:20240822T211559Z
LAST-MODIFIED:20240822T211559Z
UID:10003039-1719360000-1719446399@www.lasalle.edu
SUMMARY:MBA ONLINE I Last Day for Withdrawal
DESCRIPTION:
URL:https://www.lasalle.edu/event/mba-online-i-last-day-for-withdrawal-10/
LOCATION:Online
CATEGORIES:Academic-GRAD
END:VEVENT
BEGIN:VEVENT
DTSTART;TZID=America/New_York:20240626T000000
DTEND;TZID=America/New_York:20240626T235959
DTSTAMP:20260421T221851
CREATED:20240822T211559Z
LAST-MODIFIED:20240822T211559Z
UID:10003040-1719360000-1719446399@www.lasalle.edu
SUMMARY:Summer II Courses Begin
DESCRIPTION:
URL:https://www.lasalle.edu/event/summer-ii-courses-begin-4/
LOCATION:All Locations
CATEGORIES:Academic-DAY,Academic-EVE,Academic-GRAD
END:VEVENT
BEGIN:VEVENT
DTSTART;TZID=America/New_York:20240626T000000
DTEND;TZID=America/New_York:20240626T235959
DTSTAMP:20260421T221851
CREATED:20240822T211558Z
LAST-MODIFIED:20240822T211558Z
UID:10003038-1719360000-1719446399@www.lasalle.edu
SUMMARY:8-Week Last Day for Withdrawal
DESCRIPTION:
URL:https://www.lasalle.edu/event/8-week-last-day-for-withdrawal-4/
LOCATION:All Locations
CATEGORIES:Academic-GRAD
END:VEVENT
BEGIN:VEVENT
DTSTART;TZID=America/New_York:20240625T000000
DTEND;TZID=America/New_York:20240625T235959
DTSTAMP:20260421T221851
CREATED:20240822T211557Z
LAST-MODIFIED:20240822T211557Z
UID:10003037-1719273600-1719359999@www.lasalle.edu
SUMMARY:Summer I Courses End
DESCRIPTION:
URL:https://www.lasalle.edu/event/summer-i-courses-end-4/
LOCATION:All Locations
CATEGORIES:Academic-DAY,Academic-EVE,Academic-GRAD
END:VEVENT
BEGIN:VEVENT
DTSTART;TZID=America/New_York:20240621T000000
DTEND;TZID=America/New_York:20240621T235959
DTSTAMP:20260421T221851
CREATED:20240822T211543Z
LAST-MODIFIED:20240822T211543Z
UID:10003034-1718928000-1719014399@www.lasalle.edu
SUMMARY:Juneteenth Make-Up Day
DESCRIPTION:
URL:https://www.lasalle.edu/event/juneteenth-make-up-day-2/
LOCATION:All Locations
CATEGORIES:Academic-DAY,Academic-EVE,Academic-GRAD
END:VEVENT
BEGIN:VEVENT
DTSTART;TZID=America/New_York:20240619T000000
DTEND;TZID=America/New_York:20240619T235959
DTSTAMP:20260421T221851
CREATED:20240822T211543Z
LAST-MODIFIED:20240822T211543Z
UID:10003033-1718755200-1718841599@www.lasalle.edu
SUMMARY:Juneteenth Holiday
DESCRIPTION:
URL:https://www.lasalle.edu/event/juneteenth-holiday-2/
LOCATION:All Locations
CATEGORIES:Academic-DAY,Academic-EVE,Academic-GRAD
END:VEVENT
BEGIN:VEVENT
DTSTART;TZID=America/New_York:20240615T000000
DTEND;TZID=America/New_York:20240615T235959
DTSTAMP:20260421T221851
CREATED:20240822T211542Z
LAST-MODIFIED:20240822T211542Z
UID:10003032-1718409600-1718495999@www.lasalle.edu
SUMMARY:Summer I Last Day for Withdrawal
DESCRIPTION:
URL:https://www.lasalle.edu/event/summer-i-last-day-for-withdrawal-4/
LOCATION:All Locations
CATEGORIES:Academic-DAY,Academic-EVE,Academic-GRAD
END:VEVENT
BEGIN:VEVENT
DTSTART;TZID=America/New_York:20240603T000000
DTEND;TZID=America/New_York:20240603T235959
DTSTAMP:20260421T221851
CREATED:20240822T211342Z
LAST-MODIFIED:20240822T211342Z
UID:10003027-1717372800-1717459199@www.lasalle.edu
SUMMARY:10-Week Last Day for Filing P/F Option
DESCRIPTION:
URL:https://www.lasalle.edu/event/10-week-last-day-for-filing-p-f-option-4/
LOCATION:All Locations
CATEGORIES:Academic-DAY,Academic-EVE,Academic-GRAD
END:VEVENT
BEGIN:VEVENT
DTSTART;TZID=America/New_York:20240603T000000
DTEND;TZID=America/New_York:20240603T235959
DTSTAMP:20260421T221851
CREATED:20240822T211342Z
LAST-MODIFIED:20240822T211342Z
UID:10003028-1717372800-1717459199@www.lasalle.edu
SUMMARY:Graduate Registration for Fall 2024 Begins
DESCRIPTION:
URL:https://www.lasalle.edu/event/graduate-registration-for-fall-2024-begins-2/
LOCATION:All Locations
CATEGORIES:Academic-GRAD
END:VEVENT
BEGIN:VEVENT
DTSTART;TZID=America/New_York:20240531T000000
DTEND;TZID=America/New_York:20240531T235959
DTSTAMP:20260421T221851
CREATED:20240822T211341Z
LAST-MODIFIED:20240822T211341Z
UID:10003026-1717113600-1717199999@www.lasalle.edu
SUMMARY:Memorial Day Make-Up
DESCRIPTION:
URL:https://www.lasalle.edu/event/memorial-day-make-up-4/
LOCATION:All Locations
CATEGORIES:Academic-DAY,Academic-EVE,Academic-GRAD
END:VEVENT
BEGIN:VEVENT
DTSTART;TZID=America/New_York:20240527T000000
DTEND;TZID=America/New_York:20240527T235959
DTSTAMP:20260421T221851
CREATED:20240822T211240Z
LAST-MODIFIED:20240822T211240Z
UID:10003022-1716768000-1716854399@www.lasalle.edu
SUMMARY:Memorial Day Holiday
DESCRIPTION:
URL:https://www.lasalle.edu/event/memorial-day-holiday-4/
LOCATION:All Locations
CATEGORIES:Academic-DAY,Academic-EVE,Academic-GRAD
END:VEVENT
BEGIN:VEVENT
DTSTART;TZID=America/New_York:20240526T000000
DTEND;TZID=America/New_York:20240526T235959
DTSTAMP:20260421T221851
CREATED:20240822T211225Z
LAST-MODIFIED:20240822T211225Z
UID:10003020-1716681600-1716767999@www.lasalle.edu
SUMMARY:Summer Full Semester Last Day to Add/Drop a Course
DESCRIPTION:
URL:https://www.lasalle.edu/event/summer-full-semester-last-day-to-add-drop-a-course-3/
LOCATION:All Locations
CATEGORIES:Academic-DAY,Academic-EVE,Academic-GRAD
END:VEVENT
BEGIN:VEVENT
DTSTART;TZID=America/New_York:20240526T000000
DTEND;TZID=America/New_York:20240526T235959
DTSTAMP:20260421T221851
CREATED:20240822T211224Z
LAST-MODIFIED:20240822T211224Z
UID:10003018-1716681600-1716767999@www.lasalle.edu
SUMMARY:10-Week Last Day to Add/Drop a Course
DESCRIPTION:
URL:https://www.lasalle.edu/event/10-week-last-day-to-add-drop-a-course-3/
LOCATION:All Locations
CATEGORIES:Academic-DAY,Academic-EVE,Academic-GRAD
END:VEVENT
BEGIN:VEVENT
DTSTART;TZID=America/New_York:20240521T000000
DTEND;TZID=America/New_York:20240521T235959
DTSTAMP:20260421T221851
CREATED:20240822T211222Z
LAST-MODIFIED:20240822T211222Z
UID:10003016-1716249600-1716335999@www.lasalle.edu
SUMMARY:Summer I Last Day to Add/Drop a Course
DESCRIPTION:
URL:https://www.lasalle.edu/event/summer-i-last-day-to-add-drop-a-course-3/
LOCATION:All Locations
CATEGORIES:Academic-DAY,Academic-EVE,Academic-GRAD
END:VEVENT
BEGIN:VEVENT
DTSTART;TZID=America/New_York:20240521T000000
DTEND;TZID=America/New_York:20240521T235959
DTSTAMP:20260421T221851
CREATED:20240822T211209Z
LAST-MODIFIED:20240822T211209Z
UID:10003014-1716249600-1716335999@www.lasalle.edu
SUMMARY:MBA ONLINE I Last Day to Drop a Course
DESCRIPTION:
URL:https://www.lasalle.edu/event/mba-online-i-last-day-to-drop-a-course-11/
LOCATION:Online
CATEGORIES:Academic-GRAD
END:VEVENT
BEGIN:VEVENT
DTSTART;TZID=America/New_York:20240521T000000
DTEND;TZID=America/New_York:20240521T235959
DTSTAMP:20260421T221851
CREATED:20240822T211208Z
LAST-MODIFIED:20240822T211208Z
UID:10003013-1716249600-1716335999@www.lasalle.edu
SUMMARY:8-Week Last Day to Add/Drop a Course
DESCRIPTION:
URL:https://www.lasalle.edu/event/8-week-last-day-to-add-drop-a-course-3/
LOCATION:All Locations
CATEGORIES:Academic-GRAD
END:VEVENT
BEGIN:VEVENT
DTSTART;TZID=America/New_York:20240521T000000
DTEND;TZID=America/New_York:20240521T235959
DTSTAMP:20260421T221851
CREATED:20240118T164142Z
LAST-MODIFIED:20240118T164142Z
UID:10002208-1716249600-1716335999@www.lasalle.edu
SUMMARY:MBA ONLINE I Last Day to Drop a Course
DESCRIPTION:
URL:https://www.lasalle.edu/event/mba-online-i-last-day-to-drop-a-course-8/
LOCATION:Online
CATEGORIES:Academic-GRAD
END:VEVENT
BEGIN:VEVENT
DTSTART;TZID=America/New_York:20240521T000000
DTEND;TZID=America/New_York:20240521T235959
DTSTAMP:20260421T221851
CREATED:20240118T164141Z
LAST-MODIFIED:20240118T164141Z
UID:10002207-1716249600-1716335999@www.lasalle.edu
SUMMARY:8-Week Last Day to Add/Drop a Course
DESCRIPTION:
URL:https://www.lasalle.edu/event/8-week-last-day-to-add-drop-a-course-2/
LOCATION:All Locations
CATEGORIES:Academic-GRAD
END:VEVENT
BEGIN:VEVENT
DTSTART;TZID=America/New_York:20240520T000000
DTEND;TZID=America/New_York:20240520T235959
DTSTAMP:20260421T221851
CREATED:20240822T211152Z
LAST-MODIFIED:20240822T211152Z
UID:10003010-1716163200-1716249599@www.lasalle.edu
SUMMARY:Summer I Courses Begin
DESCRIPTION:
URL:https://www.lasalle.edu/event/summer-i-courses-begin-4/
LOCATION:All Locations
CATEGORIES:Academic-DAY,Academic-EVE,Academic-GRAD
END:VEVENT
BEGIN:VEVENT
DTSTART;TZID=America/New_York:20240520T000000
DTEND;TZID=America/New_York:20240520T235959
DTSTAMP:20260421T221851
CREATED:20240822T211151Z
LAST-MODIFIED:20240822T211151Z
UID:10003009-1716163200-1716249599@www.lasalle.edu
SUMMARY:Summer Full Semester Courses Begin
DESCRIPTION:
URL:https://www.lasalle.edu/event/summer-full-semester-courses-begin-4/
LOCATION:All Locations
CATEGORIES:Academic-DAY,Academic-EVE,Academic-GRAD
END:VEVENT
END:VCALENDAR