BEGIN:VCALENDAR
VERSION:2.0
PRODID:-//La Salle University - ECPv6.15.20//NONSGML v1.0//EN
CALSCALE:GREGORIAN
METHOD:PUBLISH
X-WR-CALNAME:La Salle University
X-ORIGINAL-URL:https://www.lasalle.edu
X-WR-CALDESC:Events for La Salle University
REFRESH-INTERVAL;VALUE=DURATION:PT1H
X-Robots-Tag:noindex
X-PUBLISHED-TTL:PT1H
BEGIN:VTIMEZONE
TZID:America/New_York
BEGIN:DAYLIGHT
TZOFFSETFROM:-0500
TZOFFSETTO:-0400
TZNAME:EDT
DTSTART:20230312T070000
END:DAYLIGHT
BEGIN:STANDARD
TZOFFSETFROM:-0400
TZOFFSETTO:-0500
TZNAME:EST
DTSTART:20231105T060000
END:STANDARD
BEGIN:DAYLIGHT
TZOFFSETFROM:-0500
TZOFFSETTO:-0400
TZNAME:EDT
DTSTART:20240310T070000
END:DAYLIGHT
BEGIN:STANDARD
TZOFFSETFROM:-0400
TZOFFSETTO:-0500
TZNAME:EST
DTSTART:20241103T060000
END:STANDARD
BEGIN:DAYLIGHT
TZOFFSETFROM:-0500
TZOFFSETTO:-0400
TZNAME:EDT
DTSTART:20250309T070000
END:DAYLIGHT
BEGIN:STANDARD
TZOFFSETFROM:-0400
TZOFFSETTO:-0500
TZNAME:EST
DTSTART:20251102T060000
END:STANDARD
END:VTIMEZONE
BEGIN:VEVENT
DTSTART;TZID=America/New_York:20240318T000000
DTEND;TZID=America/New_York:20240318T235959
DTSTAMP:20260422T131218
CREATED:20230420T175427Z
LAST-MODIFIED:20230420T175427Z
UID:10001617-1710720000-1710806399@www.lasalle.edu
SUMMARY:8-Week II Courses Begin
DESCRIPTION:
URL:https://www.lasalle.edu/event/8-week-ii-courses-begin-4/
LOCATION:All Locations
CATEGORIES:Academic-GRAD
END:VEVENT
BEGIN:VEVENT
DTSTART;TZID=America/New_York:20240317T000000
DTEND;TZID=America/New_York:20240317T235959
DTSTAMP:20260422T131218
CREATED:20230420T175422Z
LAST-MODIFIED:20230420T175422Z
UID:10001616-1710633600-1710719999@www.lasalle.edu
SUMMARY:Mid-Semester Holiday - Spring
DESCRIPTION:
URL:https://www.lasalle.edu/event/mid-semester-holiday-spring-18/
LOCATION:All Locations
CATEGORIES:Academic-DAY,Academic-EVE,Academic-GRAD
END:VEVENT
BEGIN:VEVENT
DTSTART;TZID=America/New_York:20240316T000000
DTEND;TZID=America/New_York:20240316T235959
DTSTAMP:20260422T131218
CREATED:20230420T175422Z
LAST-MODIFIED:20230420T175422Z
UID:10001615-1710547200-1710633599@www.lasalle.edu
SUMMARY:Mid-Semester Holiday - Spring
DESCRIPTION:
URL:https://www.lasalle.edu/event/mid-semester-holiday-spring-17/
LOCATION:All Locations
CATEGORIES:Academic-DAY,Academic-EVE,Academic-GRAD
END:VEVENT
BEGIN:VEVENT
DTSTART;TZID=America/New_York:20240315T000000
DTEND;TZID=America/New_York:20240315T235959
DTSTAMP:20260422T131218
CREATED:20230420T175421Z
LAST-MODIFIED:20230420T175421Z
UID:10001613-1710460800-1710547199@www.lasalle.edu
SUMMARY:MBA ONLINE I Grades Due
DESCRIPTION:
URL:https://www.lasalle.edu/event/mba-online-i-grades-due-6/
LOCATION:Online
CATEGORIES:Academic-GRAD
END:VEVENT
BEGIN:VEVENT
DTSTART;TZID=America/New_York:20240315T000000
DTEND;TZID=America/New_York:20240315T235959
DTSTAMP:20260422T131218
CREATED:20230420T175421Z
LAST-MODIFIED:20230420T175421Z
UID:10001614-1710460800-1710547199@www.lasalle.edu
SUMMARY:Mid-Semester Holiday - Spring
DESCRIPTION:
URL:https://www.lasalle.edu/event/mid-semester-holiday-spring-16/
LOCATION:All Locations
CATEGORIES:Academic-DAY,Academic-EVE,Academic-GRAD
END:VEVENT
BEGIN:VEVENT
DTSTART;TZID=America/New_York:20240315T000000
DTEND;TZID=America/New_York:20240315T235959
DTSTAMP:20260422T131218
CREATED:20230420T175420Z
LAST-MODIFIED:20230420T175420Z
UID:10001612-1710460800-1710547199@www.lasalle.edu
SUMMARY:8-Week I Grades Due
DESCRIPTION:
URL:https://www.lasalle.edu/event/8-week-i-grades-due-4/
LOCATION:All Locations
CATEGORIES:Academic-GRAD
END:VEVENT
BEGIN:VEVENT
DTSTART;TZID=America/New_York:20240314T000000
DTEND;TZID=America/New_York:20240314T235959
DTSTAMP:20260422T131218
CREATED:20230420T175419Z
LAST-MODIFIED:20230420T175419Z
UID:10001611-1710374400-1710460799@www.lasalle.edu
SUMMARY:Mid-Semester Holiday - Spring
DESCRIPTION:
URL:https://www.lasalle.edu/event/mid-semester-holiday-spring-15/
LOCATION:All Locations
CATEGORIES:Academic-DAY,Academic-EVE,Academic-GRAD
END:VEVENT
BEGIN:VEVENT
DTSTART;TZID=America/New_York:20240314T000000
DTEND;TZID=America/New_York:20240314T235959
DTSTAMP:20260422T131218
CREATED:20230420T175419Z
LAST-MODIFIED:20231027T173337Z
UID:10001609-1710374400-1710460799@www.lasalle.edu
SUMMARY:MBA ONLINE II Last Day to Add a Course
DESCRIPTION:
URL:https://www.lasalle.edu/event/mba-online-ii-last-day-to-add-a-course-5/
LOCATION:Online
CATEGORIES:Academic-GRAD
END:VEVENT
BEGIN:VEVENT
DTSTART;TZID=America/New_York:20240314T000000
DTEND;TZID=America/New_York:20240314T235959
DTSTAMP:20260422T131218
CREATED:20230420T175417Z
LAST-MODIFIED:20230420T175417Z
UID:10001606-1710374400-1710460799@www.lasalle.edu
SUMMARY:Mid-Semester Holiday - Spring
DESCRIPTION:
URL:https://www.lasalle.edu/event/mid-semester-holiday-spring-11/
LOCATION:All Locations
CATEGORIES:Academic-DAY,Academic-EVE,Academic-GRAD
END:VEVENT
BEGIN:VEVENT
DTSTART;TZID=America/New_York:20240313T000000
DTEND;TZID=America/New_York:20240313T235959
DTSTAMP:20260422T131218
CREATED:20230420T175419Z
LAST-MODIFIED:20230420T175419Z
UID:10001610-1710288000-1710374399@www.lasalle.edu
SUMMARY:Mid-Semester Holiday - Spring
DESCRIPTION:
URL:https://www.lasalle.edu/event/mid-semester-holiday-spring-14/
LOCATION:All Locations
CATEGORIES:Academic-DAY,Academic-EVE,Academic-GRAD
END:VEVENT
BEGIN:VEVENT
DTSTART;TZID=America/New_York:20240313T000000
DTEND;TZID=America/New_York:20240313T235959
DTSTAMP:20260422T131218
CREATED:20230420T175416Z
LAST-MODIFIED:20230420T175416Z
UID:10001604-1710288000-1710374399@www.lasalle.edu
SUMMARY:MBA ONLINE II Last Day to Add a Course
DESCRIPTION:
URL:https://www.lasalle.edu/event/mba-online-ii-last-day-to-add-a-course-4/
LOCATION:Online
CATEGORIES:Academic-GRAD
END:VEVENT
BEGIN:VEVENT
DTSTART;TZID=America/New_York:20240313T000000
DTEND;TZID=America/New_York:20240313T235959
DTSTAMP:20260422T131218
CREATED:20230420T175416Z
LAST-MODIFIED:20230420T175416Z
UID:10001605-1710288000-1710374399@www.lasalle.edu
SUMMARY:Mid-Semester Holiday - Spring
DESCRIPTION:
URL:https://www.lasalle.edu/event/mid-semester-holiday-spring-10/
LOCATION:All Locations
CATEGORIES:Academic-DAY,Academic-EVE,Academic-GRAD
END:VEVENT
BEGIN:VEVENT
DTSTART;TZID=America/New_York:20240312T000000
DTEND;TZID=America/New_York:20240312T235959
DTSTAMP:20260422T131218
CREATED:20230420T175418Z
LAST-MODIFIED:20230420T175418Z
UID:10001608-1710201600-1710287999@www.lasalle.edu
SUMMARY:Mid-Semester Holiday - Spring
DESCRIPTION:
URL:https://www.lasalle.edu/event/mid-semester-holiday-spring-13/
LOCATION:All Locations
CATEGORIES:Academic-DAY,Academic-EVE,Academic-GRAD
END:VEVENT
BEGIN:VEVENT
DTSTART;TZID=America/New_York:20240312T000000
DTEND;TZID=America/New_York:20240312T235959
DTSTAMP:20260422T131218
CREATED:20230420T175415Z
LAST-MODIFIED:20230420T175415Z
UID:10001603-1710201600-1710287999@www.lasalle.edu
SUMMARY:Mid-Semester Holiday - Spring
DESCRIPTION:
URL:https://www.lasalle.edu/event/mid-semester-holiday-spring-9/
LOCATION:All Locations
CATEGORIES:Academic-DAY,Academic-EVE,Academic-GRAD
END:VEVENT
BEGIN:VEVENT
DTSTART;TZID=America/New_York:20240311T000000
DTEND;TZID=America/New_York:20240311T235959
DTSTAMP:20260422T131218
CREATED:20230420T175417Z
LAST-MODIFIED:20230420T175417Z
UID:10001607-1710115200-1710201599@www.lasalle.edu
SUMMARY:Mid-Semester Holiday - Spring
DESCRIPTION:
URL:https://www.lasalle.edu/event/mid-semester-holiday-spring-12/
LOCATION:All Locations
CATEGORIES:Academic-DAY,Academic-EVE,Academic-GRAD
END:VEVENT
BEGIN:VEVENT
DTSTART;TZID=America/New_York:20240311T000000
DTEND;TZID=America/New_York:20240311T235959
DTSTAMP:20260422T131218
CREATED:20230420T175414Z
LAST-MODIFIED:20230420T175414Z
UID:10001602-1710115200-1710201599@www.lasalle.edu
SUMMARY:Mid-Semester Holiday - Spring
DESCRIPTION:
URL:https://www.lasalle.edu/event/mid-semester-holiday-spring-8/
LOCATION:All Locations
CATEGORIES:Academic-DAY,Academic-EVE,Academic-GRAD
END:VEVENT
BEGIN:VEVENT
DTSTART;TZID=America/New_York:20240310T000000
DTEND;TZID=America/New_York:20240310T235959
DTSTAMP:20260422T131218
CREATED:20230420T175410Z
LAST-MODIFIED:20230420T175410Z
UID:10001600-1710028800-1710115199@www.lasalle.edu
SUMMARY:8-Week I Courses End
DESCRIPTION:
URL:https://www.lasalle.edu/event/8-week-i-courses-end-4/
LOCATION:All Locations
CATEGORIES:Academic-GRAD
END:VEVENT
BEGIN:VEVENT
DTSTART;TZID=America/New_York:20240310T000000
DTEND;TZID=America/New_York:20240310T235959
DTSTAMP:20260422T131218
CREATED:20230420T175410Z
LAST-MODIFIED:20230420T175410Z
UID:10001601-1710028800-1710115199@www.lasalle.edu
SUMMARY:MBA ONLINE I Courses End
DESCRIPTION:
URL:https://www.lasalle.edu/event/mba-online-i-courses-end-6/
LOCATION:Online
CATEGORIES:Academic-GRAD
END:VEVENT
BEGIN:VEVENT
DTSTART;TZID=America/New_York:20240222T000000
DTEND;TZID=America/New_York:20240222T235959
DTSTAMP:20260422T131218
CREATED:20230420T175357Z
LAST-MODIFIED:20230420T175357Z
UID:10001585-1708560000-1708646399@www.lasalle.edu
SUMMARY:MBA ONLINE I Last Day for Withdrawal
DESCRIPTION:
URL:https://www.lasalle.edu/event/mba-online-i-last-day-for-withdrawal-6/
LOCATION:Online
CATEGORIES:Academic-GRAD
END:VEVENT
BEGIN:VEVENT
DTSTART;TZID=America/New_York:20240222T000000
DTEND;TZID=America/New_York:20240222T235959
DTSTAMP:20260422T131218
CREATED:20230420T175356Z
LAST-MODIFIED:20230420T175356Z
UID:10001584-1708560000-1708646399@www.lasalle.edu
SUMMARY:8-Week I Last Day for Withdrawal
DESCRIPTION:
URL:https://www.lasalle.edu/event/8-week-i-last-day-for-withdrawal-4/
LOCATION:All Locations
CATEGORIES:Academic-GRAD
END:VEVENT
BEGIN:VEVENT
DTSTART;TZID=America/New_York:20240122T000000
DTEND;TZID=America/New_York:20240122T235959
DTSTAMP:20260422T131218
CREATED:20230420T175344Z
LAST-MODIFIED:20240122T175315Z
UID:10001576-1705881600-1705967999@www.lasalle.edu
SUMMARY:Full Semester Last Day to Add/Drop a Course
DESCRIPTION:
URL:https://www.lasalle.edu/event/full-semester-last-day-to-add-drop-a-course-3/
LOCATION:All Locations
CATEGORIES:Academic-DAY,Academic-EVE,Academic-GRAD
END:VEVENT
BEGIN:VEVENT
DTSTART;TZID=America/New_York:20240119T000000
DTEND;TZID=America/New_York:20240119T235959
DTSTAMP:20260422T131218
CREATED:20230420T175344Z
LAST-MODIFIED:20230420T175344Z
UID:10001575-1705622400-1705708799@www.lasalle.edu
SUMMARY:Winter Intersession Grades Due
DESCRIPTION:
URL:https://www.lasalle.edu/event/winter-intersession-grades-due-3/
LOCATION:All Locations
CATEGORIES:Academic-DAY,Academic-EVE,Academic-GRAD
END:VEVENT
BEGIN:VEVENT
DTSTART;TZID=America/New_York:20240119T000000
DTEND;TZID=America/New_York:20240119T235959
DTSTAMP:20260422T131218
CREATED:20230420T175341Z
LAST-MODIFIED:20230420T175341Z
UID:10001570-1705622400-1705708799@www.lasalle.edu
SUMMARY:Winter Intersession Grades Due
DESCRIPTION:
URL:https://www.lasalle.edu/event/winter-intersession-grades-due-2/
LOCATION:All Locations
CATEGORIES:Academic-DAY,Academic-EVE,Academic-GRAD
END:VEVENT
BEGIN:VEVENT
DTSTART;TZID=America/New_York:20240117T000000
DTEND;TZID=America/New_York:20240117T235959
DTSTAMP:20260422T131218
CREATED:20230420T175343Z
LAST-MODIFIED:20230420T175343Z
UID:10001573-1705449600-1705535999@www.lasalle.edu
SUMMARY:MBA ONLINE I Last Day to Drop a Course
DESCRIPTION:
URL:https://www.lasalle.edu/event/mba-online-i-last-day-to-drop-a-course-7/
LOCATION:Online
CATEGORIES:Academic-GRAD
END:VEVENT
BEGIN:VEVENT
DTSTART;TZID=America/New_York:20240117T000000
DTEND;TZID=America/New_York:20240117T235959
DTSTAMP:20260422T131218
CREATED:20230420T175342Z
LAST-MODIFIED:20230420T175342Z
UID:10001572-1705449600-1705535999@www.lasalle.edu
SUMMARY:8-Week I Last Day to Add/Drop a Course
DESCRIPTION:
URL:https://www.lasalle.edu/event/8-week-i-last-day-to-add-drop-a-course-3/
LOCATION:All Locations
CATEGORIES:Academic-GRAD
END:VEVENT
BEGIN:VEVENT
DTSTART;TZID=America/New_York:20240117T000000
DTEND;TZID=America/New_York:20240117T235959
DTSTAMP:20260422T131218
CREATED:20230420T175340Z
LAST-MODIFIED:20230420T175340Z
UID:10001568-1705449600-1705535999@www.lasalle.edu
SUMMARY:MBA ONLINE I Last Day to Drop a Course
DESCRIPTION:
URL:https://www.lasalle.edu/event/mba-online-i-last-day-to-drop-a-course-6/
LOCATION:Online
CATEGORIES:Academic-GRAD
END:VEVENT
BEGIN:VEVENT
DTSTART;TZID=America/New_York:20240117T000000
DTEND;TZID=America/New_York:20240117T235959
DTSTAMP:20260422T131218
CREATED:20230420T175339Z
LAST-MODIFIED:20230420T175339Z
UID:10001567-1705449600-1705535999@www.lasalle.edu
SUMMARY:8-Week I Last Day to Add/Drop a Course
DESCRIPTION:
URL:https://www.lasalle.edu/event/8-week-i-last-day-to-add-drop-a-course-2/
LOCATION:All Locations
CATEGORIES:Academic-GRAD
END:VEVENT
BEGIN:VEVENT
DTSTART;TZID=America/New_York:20240116T000000
DTEND;TZID=America/New_York:20240116T235959
DTSTAMP:20260422T131218
CREATED:20230420T175336Z
LAST-MODIFIED:20230420T175336Z
UID:10001562-1705363200-1705449599@www.lasalle.edu
SUMMARY:MBA ONLINE Registration for ONLINE II Begin
DESCRIPTION:
URL:https://www.lasalle.edu/event/mba-online-registration-for-online-ii-begin-4/
LOCATION:Online
CATEGORIES:Academic-GRAD
END:VEVENT
BEGIN:VEVENT
DTSTART;TZID=America/New_York:20240116T000000
DTEND;TZID=America/New_York:20240116T235959
DTSTAMP:20260422T131218
CREATED:20230420T175333Z
LAST-MODIFIED:20230420T175333Z
UID:10001560-1705363200-1705449599@www.lasalle.edu
SUMMARY:Full Semester Courses Begin
DESCRIPTION:
URL:https://www.lasalle.edu/event/full-semester-courses-begin-2/
LOCATION:All Locations
CATEGORIES:Academic-DAY,Academic-EVE,Academic-GRAD
END:VEVENT
BEGIN:VEVENT
DTSTART;TZID=America/New_York:20240116T000000
DTEND;TZID=America/New_York:20240116T235959
DTSTAMP:20260422T131218
CREATED:20230420T175333Z
LAST-MODIFIED:20230420T175333Z
UID:10001561-1705363200-1705449599@www.lasalle.edu
SUMMARY:MBA ONLINE I Courses Begin
DESCRIPTION:
URL:https://www.lasalle.edu/event/mba-online-i-courses-begin-6/
LOCATION:Online
CATEGORIES:Academic-GRAD
END:VEVENT
END:VCALENDAR