BEGIN:VCALENDAR
VERSION:2.0
PRODID:-//La Salle University - ECPv6.15.20//NONSGML v1.0//EN
CALSCALE:GREGORIAN
METHOD:PUBLISH
X-WR-CALNAME:La Salle University
X-ORIGINAL-URL:https://www.lasalle.edu
X-WR-CALDESC:Events for La Salle University
REFRESH-INTERVAL;VALUE=DURATION:PT1H
X-Robots-Tag:noindex
X-PUBLISHED-TTL:PT1H
BEGIN:VTIMEZONE
TZID:America/New_York
BEGIN:DAYLIGHT
TZOFFSETFROM:-0500
TZOFFSETTO:-0400
TZNAME:EDT
DTSTART:20220313T070000
END:DAYLIGHT
BEGIN:STANDARD
TZOFFSETFROM:-0400
TZOFFSETTO:-0500
TZNAME:EST
DTSTART:20221106T060000
END:STANDARD
BEGIN:DAYLIGHT
TZOFFSETFROM:-0500
TZOFFSETTO:-0400
TZNAME:EDT
DTSTART:20230312T070000
END:DAYLIGHT
BEGIN:STANDARD
TZOFFSETFROM:-0400
TZOFFSETTO:-0500
TZNAME:EST
DTSTART:20231105T060000
END:STANDARD
BEGIN:DAYLIGHT
TZOFFSETFROM:-0500
TZOFFSETTO:-0400
TZNAME:EDT
DTSTART:20240310T070000
END:DAYLIGHT
BEGIN:STANDARD
TZOFFSETFROM:-0400
TZOFFSETTO:-0500
TZNAME:EST
DTSTART:20241103T060000
END:STANDARD
END:VTIMEZONE
BEGIN:VEVENT
DTSTART;TZID=America/New_York:20231222T000000
DTEND;TZID=America/New_York:20231222T235959
DTSTAMP:20260422T190925
CREATED:20230420T175322Z
LAST-MODIFIED:20230420T175322Z
UID:10001550-1703203200-1703289599@www.lasalle.edu
SUMMARY:8-Week II Grades Due
DESCRIPTION:
URL:https://www.lasalle.edu/event/8-week-ii-grades-due-3/
LOCATION:All Locations
CATEGORIES:Academic-GRAD
END:VEVENT
BEGIN:VEVENT
DTSTART;TZID=America/New_York:20231222T000000
DTEND;TZID=America/New_York:20231222T235959
DTSTAMP:20260422T190925
CREATED:20230420T175322Z
LAST-MODIFIED:20230420T175322Z
UID:10001551-1703203200-1703289599@www.lasalle.edu
SUMMARY:MBA ONLINE II Grades Due
DESCRIPTION:
URL:https://www.lasalle.edu/event/mba-online-ii-grades-due-3/
LOCATION:Online
CATEGORIES:Academic-GRAD
END:VEVENT
BEGIN:VEVENT
DTSTART;TZID=America/New_York:20231220T000000
DTEND;TZID=America/New_York:20231220T235959
DTSTAMP:20260422T190925
CREATED:20230420T175321Z
LAST-MODIFIED:20230420T175321Z
UID:10001548-1703030400-1703116799@www.lasalle.edu
SUMMARY:Full Semester Fall Grades Due
DESCRIPTION:Due date 12/23/2021 whether Supplementary Exam Date needed ir not
URL:https://www.lasalle.edu/event/full-semester-fall-grades-due/
LOCATION:All Locations
CATEGORIES:Academic-DAY,Academic-EVE,Academic-GRAD
END:VEVENT
BEGIN:VEVENT
DTSTART;TZID=America/New_York:20231218T000000
DTEND;TZID=America/New_York:20231218T235959
DTSTAMP:20260422T190925
CREATED:20230420T175320Z
LAST-MODIFIED:20230420T175320Z
UID:10001547-1702857600-1702943999@www.lasalle.edu
SUMMARY:Winter Intersession Last Day to Add/Drop a Course
DESCRIPTION:
URL:https://www.lasalle.edu/event/winter-intersession-last-day-to-add-drop-a-course/
LOCATION:All Locations
CATEGORIES:Academic-DAY,Academic-EVE,Academic-GRAD
END:VEVENT
BEGIN:VEVENT
DTSTART;TZID=America/New_York:20231218T000000
DTEND;TZID=America/New_York:20231218T235959
DTSTAMP:20260422T190925
CREATED:20230420T175316Z
LAST-MODIFIED:20230420T175316Z
UID:10001546-1702857600-1702943999@www.lasalle.edu
SUMMARY:Winter Intersession Courses Begin
DESCRIPTION:On-campus Courses do not meet when University is closed
URL:https://www.lasalle.edu/event/winter-intersession-courses-begin-2/
LOCATION:All Locations
CATEGORIES:Academic-DAY,Academic-EVE,Academic-GRAD
END:VEVENT
BEGIN:VEVENT
DTSTART;TZID=America/New_York:20231217T000000
DTEND;TZID=America/New_York:20231217T235959
DTSTAMP:20260422T190925
CREATED:20230420T175316Z
LAST-MODIFIED:20230420T175316Z
UID:10001545-1702771200-1702857599@www.lasalle.edu
SUMMARY:MBA ONLINE II Courses End
DESCRIPTION:
URL:https://www.lasalle.edu/event/mba-online-ii-courses-end-3/
LOCATION:Online
CATEGORIES:Academic-GRAD
END:VEVENT
BEGIN:VEVENT
DTSTART;TZID=America/New_York:20231217T000000
DTEND;TZID=America/New_York:20231217T235959
DTSTAMP:20260422T190925
CREATED:20230420T175315Z
LAST-MODIFIED:20230420T175315Z
UID:10001544-1702771200-1702857599@www.lasalle.edu
SUMMARY:8-Week II Courses End
DESCRIPTION:
URL:https://www.lasalle.edu/event/8-week-ii-courses-end-3/
LOCATION:All Locations
CATEGORIES:Academic-GRAD
END:VEVENT
BEGIN:VEVENT
DTSTART;TZID=America/New_York:20231216T000000
DTEND;TZID=America/New_York:20231216T235959
DTSTAMP:20260422T190925
CREATED:20230420T175315Z
LAST-MODIFIED:20230420T175315Z
UID:10001543-1702684800-1702771199@www.lasalle.edu
SUMMARY:Full Semester Final Examinations
DESCRIPTION:Final exam dates vary for accelerated programs
URL:https://www.lasalle.edu/event/full-semester-final-examinations-6/
LOCATION:All Locations
CATEGORIES:Academic-DAY,Academic-EVE,Academic-GRAD
END:VEVENT
BEGIN:VEVENT
DTSTART;TZID=America/New_York:20231215T000000
DTEND;TZID=America/New_York:20231215T235959
DTSTAMP:20260422T190925
CREATED:20230420T175306Z
LAST-MODIFIED:20230420T175306Z
UID:10001540-1702598400-1702684799@www.lasalle.edu
SUMMARY:Full Semester Final Examinations
DESCRIPTION:Final exam dates vary for accelerated programs
URL:https://www.lasalle.edu/event/full-semester-final-examinations-5/
LOCATION:All Locations
CATEGORIES:Academic-DAY,Academic-EVE,Academic-GRAD
END:VEVENT
BEGIN:VEVENT
DTSTART;TZID=America/New_York:20231214T000000
DTEND;TZID=America/New_York:20231214T235959
DTSTAMP:20260422T190925
CREATED:20230420T175305Z
LAST-MODIFIED:20230420T175305Z
UID:10001538-1702512000-1702598399@www.lasalle.edu
SUMMARY:Full Semester Final Examinations
DESCRIPTION:Final exam dates vary for accelerated programs
URL:https://www.lasalle.edu/event/full-semester-final-examinations-4/
LOCATION:All Locations
CATEGORIES:Academic-DAY,Academic-EVE,Academic-GRAD
END:VEVENT
BEGIN:VEVENT
DTSTART;TZID=America/New_York:20231213T000000
DTEND;TZID=America/New_York:20231213T235959
DTSTAMP:20260422T190925
CREATED:20230420T175304Z
LAST-MODIFIED:20230420T175304Z
UID:10001537-1702425600-1702511999@www.lasalle.edu
SUMMARY:Full Semester Final Examinations
DESCRIPTION:Final exam dates vary for accelerated programs
URL:https://www.lasalle.edu/event/full-semester-final-examinations-3/
LOCATION:All Locations
CATEGORIES:Academic-DAY,Academic-EVE,Academic-GRAD
END:VEVENT
BEGIN:VEVENT
DTSTART;TZID=America/New_York:20231212T000000
DTEND;TZID=America/New_York:20231212T235959
DTSTAMP:20260422T190925
CREATED:20230420T175303Z
LAST-MODIFIED:20230420T175303Z
UID:10001536-1702339200-1702425599@www.lasalle.edu
SUMMARY:Full Semester Final Examinations
DESCRIPTION:Final exam dates vary for accelerated programs
URL:https://www.lasalle.edu/event/full-semester-final-examinations-2/
LOCATION:All Locations
CATEGORIES:Academic-DAY,Academic-EVE,Academic-GRAD
END:VEVENT
BEGIN:VEVENT
DTSTART;TZID=America/New_York:20231211T000000
DTEND;TZID=America/New_York:20231211T235959
DTSTAMP:20260422T190925
CREATED:20230420T175302Z
LAST-MODIFIED:20230420T175302Z
UID:10001535-1702252800-1702339199@www.lasalle.edu
SUMMARY:Full Semester Final Examinations
DESCRIPTION:Final exam dates vary for accelerated programs
URL:https://www.lasalle.edu/event/full-semester-final-examinations/
LOCATION:All Locations
CATEGORIES:Academic-DAY,Academic-EVE,Academic-GRAD
END:VEVENT
BEGIN:VEVENT
DTSTART;TZID=America/New_York:20231129T000000
DTEND;TZID=America/New_York:20231129T235959
DTSTAMP:20260422T190925
CREATED:20230420T175247Z
LAST-MODIFIED:20231027T171908Z
UID:10001528-1701216000-1701302399@www.lasalle.edu
SUMMARY:8-Week II Last Day for Withdrawal
DESCRIPTION:
URL:https://www.lasalle.edu/event/8-week-ii-last-day-for-withdrawal-3/
LOCATION:All Locations
CATEGORIES:Academic-GRAD
END:VEVENT
BEGIN:VEVENT
DTSTART;TZID=America/New_York:20231129T000000
DTEND;TZID=America/New_York:20231129T235959
DTSTAMP:20260422T190925
CREATED:20230420T175247Z
LAST-MODIFIED:20231027T171951Z
UID:10001529-1701216000-1701302399@www.lasalle.edu
SUMMARY:MBA ONLINE II Last Day for Withdrawal
DESCRIPTION:
URL:https://www.lasalle.edu/event/mba-online-ii-last-day-for-withdrawal-3/
LOCATION:Online
CATEGORIES:Academic-GRAD
END:VEVENT
BEGIN:VEVENT
DTSTART;TZID=America/New_York:20231126T000000
DTEND;TZID=America/New_York:20231126T235959
DTSTAMP:20260422T190925
CREATED:20230420T175244Z
LAST-MODIFIED:20230420T175244Z
UID:10001526-1700956800-1701043199@www.lasalle.edu
SUMMARY:Thanksgiving Holidays
DESCRIPTION:
URL:https://www.lasalle.edu/event/thanksgiving-holidays-10/
LOCATION:All Locations
CATEGORIES:Academic-DAY,Academic-EVE,Academic-GRAD
END:VEVENT
BEGIN:VEVENT
DTSTART;TZID=America/New_York:20231125T000000
DTEND;TZID=America/New_York:20231125T235959
DTSTAMP:20260422T190925
CREATED:20230420T175243Z
LAST-MODIFIED:20230420T175243Z
UID:10001525-1700870400-1700956799@www.lasalle.edu
SUMMARY:Thanksgiving Holidays
DESCRIPTION:
URL:https://www.lasalle.edu/event/thanksgiving-holidays-9/
LOCATION:All Locations
CATEGORIES:Academic-DAY,Academic-EVE,Academic-GRAD
END:VEVENT
BEGIN:VEVENT
DTSTART;TZID=America/New_York:20231124T000000
DTEND;TZID=America/New_York:20231124T235959
DTSTAMP:20260422T190925
CREATED:20230420T175243Z
LAST-MODIFIED:20230420T175243Z
UID:10001524-1700784000-1700870399@www.lasalle.edu
SUMMARY:Thanksgiving Holidays
DESCRIPTION:
URL:https://www.lasalle.edu/event/thanksgiving-holidays-8/
LOCATION:All Locations
CATEGORIES:Academic-DAY,Academic-EVE,Academic-GRAD
END:VEVENT
BEGIN:VEVENT
DTSTART;TZID=America/New_York:20231123T000000
DTEND;TZID=America/New_York:20231123T235959
DTSTAMP:20260422T190925
CREATED:20230420T175242Z
LAST-MODIFIED:20230420T175242Z
UID:10001523-1700697600-1700783999@www.lasalle.edu
SUMMARY:Thanksgiving Holidays
DESCRIPTION:
URL:https://www.lasalle.edu/event/thanksgiving-holidays-7/
LOCATION:All Locations
CATEGORIES:Academic-DAY,Academic-EVE,Academic-GRAD
END:VEVENT
BEGIN:VEVENT
DTSTART;TZID=America/New_York:20231122T000000
DTEND;TZID=America/New_York:20231122T235959
DTSTAMP:20260422T190925
CREATED:20230420T175242Z
LAST-MODIFIED:20230420T175242Z
UID:10001522-1700611200-1700697599@www.lasalle.edu
SUMMARY:Thanksgiving Holidays
DESCRIPTION:
URL:https://www.lasalle.edu/event/thanksgiving-holidays-6/
LOCATION:All Locations
CATEGORIES:Academic-DAY,Academic-EVE,Academic-GRAD
END:VEVENT
BEGIN:VEVENT
DTSTART;TZID=America/New_York:20231106T000000
DTEND;TZID=America/New_York:20231106T235959
DTSTAMP:20260422T190925
CREATED:20230420T175214Z
LAST-MODIFIED:20231027T172038Z
UID:10001510-1699228800-1699315199@www.lasalle.edu
SUMMARY:Full Semester Last Day for Withdrawal
DESCRIPTION:
URL:https://www.lasalle.edu/event/full-semester-last-day-for-withdrawal/
LOCATION:All Locations
CATEGORIES:Academic-DAY,Academic-EVE,Academic-GRAD
END:VEVENT
BEGIN:VEVENT
DTSTART;TZID=America/New_York:20231027T000000
DTEND;TZID=America/New_York:20231027T235959
DTSTAMP:20260422T190925
CREATED:20230420T175206Z
LAST-MODIFIED:20230420T175206Z
UID:10001504-1698364800-1698451199@www.lasalle.edu
SUMMARY:8-Week I Grades Due
DESCRIPTION:
URL:https://www.lasalle.edu/event/8-week-i-grades-due-3/
LOCATION:All Locations
CATEGORIES:Academic-GRAD
END:VEVENT
BEGIN:VEVENT
DTSTART;TZID=America/New_York:20231027T000000
DTEND;TZID=America/New_York:20231027T235959
DTSTAMP:20260422T190925
CREATED:20230420T175206Z
LAST-MODIFIED:20230420T175206Z
UID:10001505-1698364800-1698451199@www.lasalle.edu
SUMMARY:MBA ONLINE I Grades Due
DESCRIPTION:
URL:https://www.lasalle.edu/event/mba-online-i-grades-due-5/
LOCATION:Online
CATEGORIES:Academic-GRAD
END:VEVENT
BEGIN:VEVENT
DTSTART;TZID=America/New_York:20231026T000000
DTEND;TZID=America/New_York:20231026T235959
DTSTAMP:20260422T190925
CREATED:20230420T175205Z
LAST-MODIFIED:20230420T175205Z
UID:10001502-1698278400-1698364799@www.lasalle.edu
SUMMARY:Graduate Registration for Spring 2024 Begin
DESCRIPTION:
URL:https://www.lasalle.edu/event/graduate-registration-for-spring-2024-begin/
LOCATION:All Locations
CATEGORIES:Academic-GRAD
END:VEVENT
BEGIN:VEVENT
DTSTART;TZID=America/New_York:20231024T000000
DTEND;TZID=America/New_York:20231024T235959
DTSTAMP:20260422T190925
CREATED:20230420T175158Z
LAST-MODIFIED:20230420T175158Z
UID:10001500-1698105600-1698191999@www.lasalle.edu
SUMMARY:MBA ONLINE II Last Day to Drop a Course
DESCRIPTION:
URL:https://www.lasalle.edu/event/mba-online-ii-last-day-to-drop-a-course-3/
LOCATION:Online
CATEGORIES:Academic-GRAD
END:VEVENT
BEGIN:VEVENT
DTSTART;TZID=America/New_York:20231024T000000
DTEND;TZID=America/New_York:20231024T235959
DTSTAMP:20260422T190925
CREATED:20230420T175157Z
LAST-MODIFIED:20230420T175157Z
UID:10001499-1698105600-1698191999@www.lasalle.edu
SUMMARY:8-Week II Last Day to Add/Drop a Course
DESCRIPTION:
URL:https://www.lasalle.edu/event/8-week-ii-last-day-to-add-drop-a-course/
LOCATION:All Locations
CATEGORIES:Academic-GRAD
END:VEVENT
BEGIN:VEVENT
DTSTART;TZID=America/New_York:20231023T000000
DTEND;TZID=America/New_York:20231023T235959
DTSTAMP:20260422T190925
CREATED:20230420T175148Z
LAST-MODIFIED:20230420T175148Z
UID:10001496-1698019200-1698105599@www.lasalle.edu
SUMMARY:MBA ONLINE II Courses Begin
DESCRIPTION:
URL:https://www.lasalle.edu/event/mba-online-ii-courses-begin-3/
LOCATION:Online
CATEGORIES:Academic-GRAD
END:VEVENT
BEGIN:VEVENT
DTSTART;TZID=America/New_York:20231023T000000
DTEND;TZID=America/New_York:20231023T235959
DTSTAMP:20260422T190925
CREATED:20230420T175147Z
LAST-MODIFIED:20230420T175147Z
UID:10001495-1698019200-1698105599@www.lasalle.edu
SUMMARY:8-Week II Courses Begin
DESCRIPTION:
URL:https://www.lasalle.edu/event/8-week-ii-courses-begin-3/
LOCATION:All Locations
CATEGORIES:Academic-GRAD
END:VEVENT
BEGIN:VEVENT
DTSTART;TZID=America/New_York:20231022T000000
DTEND;TZID=America/New_York:20231022T235959
DTSTAMP:20260422T190925
CREATED:20230420T175147Z
LAST-MODIFIED:20230420T175147Z
UID:10001494-1697932800-1698019199@www.lasalle.edu
SUMMARY:MBA ONLINE I Courses End
DESCRIPTION:
URL:https://www.lasalle.edu/event/mba-online-i-courses-end-5/
LOCATION:Online
CATEGORIES:Academic-GRAD
END:VEVENT
BEGIN:VEVENT
DTSTART;TZID=America/New_York:20231022T000000
DTEND;TZID=America/New_York:20231022T235959
DTSTAMP:20260422T190925
CREATED:20230420T175146Z
LAST-MODIFIED:20230420T175146Z
UID:10001493-1697932800-1698019199@www.lasalle.edu
SUMMARY:8-Week I Courses End
DESCRIPTION:
URL:https://www.lasalle.edu/event/8-week-i-courses-end-3/
LOCATION:All Locations
CATEGORIES:Academic-GRAD
END:VEVENT
END:VCALENDAR