BEGIN:VCALENDAR
VERSION:2.0
PRODID:-//La Salle University - ECPv6.15.20//NONSGML v1.0//EN
CALSCALE:GREGORIAN
METHOD:PUBLISH
X-WR-CALNAME:La Salle University
X-ORIGINAL-URL:https://www.lasalle.edu
X-WR-CALDESC:Events for La Salle University
REFRESH-INTERVAL;VALUE=DURATION:PT1H
X-Robots-Tag:noindex
X-PUBLISHED-TTL:PT1H
BEGIN:VTIMEZONE
TZID:America/New_York
BEGIN:DAYLIGHT
TZOFFSETFROM:-0500
TZOFFSETTO:-0400
TZNAME:EDT
DTSTART:20220313T070000
END:DAYLIGHT
BEGIN:STANDARD
TZOFFSETFROM:-0400
TZOFFSETTO:-0500
TZNAME:EST
DTSTART:20221106T060000
END:STANDARD
BEGIN:DAYLIGHT
TZOFFSETFROM:-0500
TZOFFSETTO:-0400
TZNAME:EDT
DTSTART:20230312T070000
END:DAYLIGHT
BEGIN:STANDARD
TZOFFSETFROM:-0400
TZOFFSETTO:-0500
TZNAME:EST
DTSTART:20231105T060000
END:STANDARD
BEGIN:DAYLIGHT
TZOFFSETFROM:-0500
TZOFFSETTO:-0400
TZNAME:EDT
DTSTART:20240310T070000
END:DAYLIGHT
BEGIN:STANDARD
TZOFFSETFROM:-0400
TZOFFSETTO:-0500
TZNAME:EST
DTSTART:20241103T060000
END:STANDARD
END:VTIMEZONE
BEGIN:VEVENT
DTSTART;TZID=America/New_York:20230808T000000
DTEND;TZID=America/New_York:20230808T235959
DTSTAMP:20260423T024809
CREATED:20230420T174931Z
LAST-MODIFIED:20230420T174931Z
UID:10001428-1691452800-1691539199@www.lasalle.edu
SUMMARY:Summer II Grades Due
DESCRIPTION:
URL:https://www.lasalle.edu/event/summer-ii-grades-due-2/
LOCATION:All Locations
CATEGORIES:Academic-DAY,Academic-EVE,Academic-GRAD
END:VEVENT
BEGIN:VEVENT
DTSTART;TZID=America/New_York:20230808T000000
DTEND;TZID=America/New_York:20230808T235959
DTSTAMP:20260423T024809
CREATED:20230420T174931Z
LAST-MODIFIED:20230420T174931Z
UID:10001427-1691452800-1691539199@www.lasalle.edu
SUMMARY:Summer Full Semester Grades Due
DESCRIPTION:
URL:https://www.lasalle.edu/event/summer-full-semester-grades-due-2/
LOCATION:All Locations
CATEGORIES:Academic-DAY,Academic-EVE,Academic-GRAD
END:VEVENT
BEGIN:VEVENT
DTSTART;TZID=America/New_York:20230807T000000
DTEND;TZID=America/New_York:20230807T235959
DTSTAMP:20260423T024809
CREATED:20230420T174914Z
LAST-MODIFIED:20230420T174914Z
UID:10001426-1691366400-1691452799@www.lasalle.edu
SUMMARY:Summer Intersession Last Day to Add/Drop a Course
DESCRIPTION:
URL:https://www.lasalle.edu/event/summer-intersession-last-day-to-add-drop-a-course/
LOCATION:All Locations
CATEGORIES:Academic-DAY,Academic-EVE,Academic-GRAD
END:VEVENT
BEGIN:VEVENT
DTSTART;TZID=America/New_York:20230807T000000
DTEND;TZID=America/New_York:20230807T235959
DTSTAMP:20260423T024809
CREATED:20230420T174913Z
LAST-MODIFIED:20230420T174913Z
UID:10001425-1691366400-1691452799@www.lasalle.edu
SUMMARY:Summer Intersession Courses Begin
DESCRIPTION:
URL:https://www.lasalle.edu/event/summer-intersession-courses-begin-2/
LOCATION:All Locations
CATEGORIES:Academic-DAY,Academic-EVE,Academic-GRAD
END:VEVENT
BEGIN:VEVENT
DTSTART;TZID=America/New_York:20230803T000000
DTEND;TZID=America/New_York:20230803T235959
DTSTAMP:20260423T024809
CREATED:20230420T174913Z
LAST-MODIFIED:20230420T174913Z
UID:10001424-1691020800-1691107199@www.lasalle.edu
SUMMARY:Summer II Courses End
DESCRIPTION:
URL:https://www.lasalle.edu/event/summer-ii-courses-end-2/
LOCATION:All Locations
CATEGORIES:Academic-DAY,Academic-EVE,Academic-GRAD
END:VEVENT
BEGIN:VEVENT
DTSTART;TZID=America/New_York:20230803T000000
DTEND;TZID=America/New_York:20230803T235959
DTSTAMP:20260423T024809
CREATED:20230420T174912Z
LAST-MODIFIED:20230420T174912Z
UID:10001423-1691020800-1691107199@www.lasalle.edu
SUMMARY:Summer Full Semester Courses End
DESCRIPTION:
URL:https://www.lasalle.edu/event/summer-full-semester-courses-end-2/
LOCATION:All Locations
CATEGORIES:Academic-DAY,Academic-EVE,Academic-GRAD
END:VEVENT
BEGIN:VEVENT
DTSTART;TZID=America/New_York:20230801T000000
DTEND;TZID=America/New_York:20230801T235959
DTSTAMP:20260423T024809
CREATED:20230420T174912Z
LAST-MODIFIED:20230420T174912Z
UID:10001422-1690848000-1690934399@www.lasalle.edu
SUMMARY:10-Week Grades Due
DESCRIPTION:
URL:https://www.lasalle.edu/event/10-week-grades-due-2/
LOCATION:All Locations
CATEGORIES:Academic-DAY,Academic-EVE,Academic-GRAD
END:VEVENT
BEGIN:VEVENT
DTSTART;TZID=America/New_York:20230727T000000
DTEND;TZID=America/New_York:20230727T235959
DTSTAMP:20260423T024809
CREATED:20230420T174856Z
LAST-MODIFIED:20230420T174856Z
UID:10001421-1690416000-1690502399@www.lasalle.edu
SUMMARY:10-Week Courses End
DESCRIPTION:
URL:https://www.lasalle.edu/event/10-week-courses-end-2/
LOCATION:All Locations
CATEGORIES:Academic-DAY,Academic-EVE,Academic-GRAD
END:VEVENT
BEGIN:VEVENT
DTSTART;TZID=America/New_York:20230721T000000
DTEND;TZID=America/New_York:20230721T235959
DTSTAMP:20260423T024809
CREATED:20230420T174855Z
LAST-MODIFIED:20230420T174855Z
UID:10001420-1689897600-1689983999@www.lasalle.edu
SUMMARY:Summer II Last Day for Withdrawal
DESCRIPTION:
URL:https://www.lasalle.edu/event/summer-ii-last-day-for-withdrawal-2/
LOCATION:All Locations
CATEGORIES:Academic-DAY,Academic-EVE,Academic-GRAD
END:VEVENT
BEGIN:VEVENT
DTSTART;TZID=America/New_York:20230721T000000
DTEND;TZID=America/New_York:20230721T235959
DTSTAMP:20260423T024809
CREATED:20230420T174855Z
LAST-MODIFIED:20230420T174855Z
UID:10001419-1689897600-1689983999@www.lasalle.edu
SUMMARY:MBA ONLINE I Grades Due
DESCRIPTION:
URL:https://www.lasalle.edu/event/mba-online-i-grades-due-4/
LOCATION:Online
CATEGORIES:Academic-GRAD
END:VEVENT
BEGIN:VEVENT
DTSTART;TZID=America/New_York:20230721T000000
DTEND;TZID=America/New_York:20230721T235959
DTSTAMP:20260423T024809
CREATED:20230420T174854Z
LAST-MODIFIED:20230420T174854Z
UID:10001418-1689897600-1689983999@www.lasalle.edu
SUMMARY:8-Week Grades Due
DESCRIPTION:
URL:https://www.lasalle.edu/event/8-week-grades-due-2/
LOCATION:All Locations
CATEGORIES:Academic-GRAD
END:VEVENT
BEGIN:VEVENT
DTSTART;TZID=America/New_York:20230716T000000
DTEND;TZID=America/New_York:20230716T235959
DTSTAMP:20260423T024809
CREATED:20230420T174852Z
LAST-MODIFIED:20230420T174852Z
UID:10001414-1689465600-1689551999@www.lasalle.edu
SUMMARY:8-Week Courses End
DESCRIPTION:
URL:https://www.lasalle.edu/event/8-week-courses-end-2/
LOCATION:All Locations
CATEGORIES:Academic-GRAD
END:VEVENT
BEGIN:VEVENT
DTSTART;TZID=America/New_York:20230716T000000
DTEND;TZID=America/New_York:20230716T235959
DTSTAMP:20260423T024809
CREATED:20230420T174852Z
LAST-MODIFIED:20230420T174852Z
UID:10001415-1689465600-1689551999@www.lasalle.edu
SUMMARY:MBA ONLINE I Courses End
DESCRIPTION:
URL:https://www.lasalle.edu/event/mba-online-i-courses-end-4/
LOCATION:Online
CATEGORIES:Academic-GRAD
END:VEVENT
BEGIN:VEVENT
DTSTART;TZID=America/New_York:20230712T000000
DTEND;TZID=America/New_York:20230712T235959
DTSTAMP:20260423T024809
CREATED:20230420T174844Z
LAST-MODIFIED:20230420T174844Z
UID:10001409-1689120000-1689206399@www.lasalle.edu
SUMMARY:Summer Full Semester Last Day for Withdrawal
DESCRIPTION:
URL:https://www.lasalle.edu/event/summer-full-semester-last-day-for-withdrawal-2/
LOCATION:All Locations
CATEGORIES:Academic-DAY,Academic-EVE,Academic-GRAD
END:VEVENT
BEGIN:VEVENT
DTSTART;TZID=America/New_York:20230706T000000
DTEND;TZID=America/New_York:20230706T235959
DTSTAMP:20260423T024809
CREATED:20230420T174825Z
LAST-MODIFIED:20230420T174825Z
UID:10001402-1688601600-1688687999@www.lasalle.edu
SUMMARY:10-Week Last Day for Withdrawal
DESCRIPTION:
URL:https://www.lasalle.edu/event/10-week-last-day-for-withdrawal-2/
LOCATION:All Locations
CATEGORIES:Academic-DAY,Academic-EVE,Academic-GRAD
END:VEVENT
BEGIN:VEVENT
DTSTART;TZID=America/New_York:20230706T000000
DTEND;TZID=America/New_York:20230706T235959
DTSTAMP:20260423T024809
CREATED:20230420T174749Z
LAST-MODIFIED:20230420T174749Z
UID:10001401-1688601600-1688687999@www.lasalle.edu
SUMMARY:Summer II Last Day for Filing P/F Option
DESCRIPTION:
URL:https://www.lasalle.edu/event/summer-ii-last-day-for-filing-p-f-option-2/
LOCATION:All Locations
CATEGORIES:Academic-DAY,Academic-EVE,Academic-GRAD
END:VEVENT
BEGIN:VEVENT
DTSTART;TZID=America/New_York:20230704T000000
DTEND;TZID=America/New_York:20230704T235959
DTSTAMP:20260423T024810
CREATED:20230420T174748Z
LAST-MODIFIED:20230420T174748Z
UID:10001399-1688428800-1688515199@www.lasalle.edu
SUMMARY:Summer I Grades Due
DESCRIPTION:
URL:https://www.lasalle.edu/event/summer-i-grades-due-2/
LOCATION:All Locations
CATEGORIES:Academic-DAY,Academic-EVE,Academic-GRAD
END:VEVENT
BEGIN:VEVENT
DTSTART;TZID=America/New_York:20230704T000000
DTEND;TZID=America/New_York:20230704T235959
DTSTAMP:20260423T024810
CREATED:20230420T174747Z
LAST-MODIFIED:20230420T174747Z
UID:10001398-1688428800-1688515199@www.lasalle.edu
SUMMARY:Independence Day
DESCRIPTION:
URL:https://www.lasalle.edu/event/independence-day/
LOCATION:All Locations
CATEGORIES:Academic-DAY,Academic-EVE,Academic-GRAD
END:VEVENT
BEGIN:VEVENT
DTSTART;TZID=America/New_York:20230629T000000
DTEND;TZID=America/New_York:20230629T235959
DTSTAMP:20260423T024810
CREATED:20230420T174747Z
LAST-MODIFIED:20230420T174747Z
UID:10001397-1687996800-1688083199@www.lasalle.edu
SUMMARY:Summer II Last Day to Add/Drop a Course
DESCRIPTION:
URL:https://www.lasalle.edu/event/summer-ii-last-day-to-add-drop-a-course/
LOCATION:All Locations
CATEGORIES:Academic-DAY,Academic-EVE,Academic-GRAD
END:VEVENT
BEGIN:VEVENT
DTSTART;TZID=America/New_York:20230628T000000
DTEND;TZID=America/New_York:20230628T235959
DTSTAMP:20260423T024810
CREATED:20230420T174606Z
LAST-MODIFIED:20230420T174606Z
UID:10001396-1687910400-1687996799@www.lasalle.edu
SUMMARY:Summer II Courses Begin
DESCRIPTION:
URL:https://www.lasalle.edu/event/summer-ii-courses-begin-2/
LOCATION:All Locations
CATEGORIES:Academic-DAY,Academic-EVE,Academic-GRAD
END:VEVENT
BEGIN:VEVENT
DTSTART;TZID=America/New_York:20230627T000000
DTEND;TZID=America/New_York:20230627T235959
DTSTAMP:20260423T024810
CREATED:20230420T174606Z
LAST-MODIFIED:20230420T174606Z
UID:10001395-1687824000-1687910399@www.lasalle.edu
SUMMARY:Summer I Courses End
DESCRIPTION:
URL:https://www.lasalle.edu/event/summer-i-courses-end-2/
LOCATION:All Locations
CATEGORIES:Academic-DAY,Academic-EVE,Academic-GRAD
END:VEVENT
BEGIN:VEVENT
DTSTART;TZID=America/New_York:20230627T000000
DTEND;TZID=America/New_York:20230627T235959
DTSTAMP:20260423T024810
CREATED:20230420T174605Z
LAST-MODIFIED:20230420T174605Z
UID:10001393-1687824000-1687910399@www.lasalle.edu
SUMMARY:8-Week Last Day for Withdrawal
DESCRIPTION:
URL:https://www.lasalle.edu/event/8-week-last-day-for-withdrawal-2/
LOCATION:All Locations
CATEGORIES:Academic-GRAD
END:VEVENT
BEGIN:VEVENT
DTSTART;TZID=America/New_York:20230627T000000
DTEND;TZID=America/New_York:20230627T235959
DTSTAMP:20260423T024810
CREATED:20230420T174605Z
LAST-MODIFIED:20230420T174605Z
UID:10001394-1687824000-1687910399@www.lasalle.edu
SUMMARY:MBA ONLINE I Last Day for Withdrawal
DESCRIPTION:
URL:https://www.lasalle.edu/event/mba-online-i-last-day-for-withdrawal-4/
LOCATION:Online
CATEGORIES:Academic-GRAD
END:VEVENT
BEGIN:VEVENT
DTSTART;TZID=America/New_York:20230623T000000
DTEND;TZID=America/New_York:20230623T235959
DTSTAMP:20260423T024810
CREATED:20230420T174604Z
LAST-MODIFIED:20230420T174604Z
UID:10001392-1687478400-1687564799@www.lasalle.edu
SUMMARY:Juneteenth Make-up
DESCRIPTION:
URL:https://www.lasalle.edu/event/juneteenth-make-up/
LOCATION:All Locations
CATEGORIES:Academic-DAY,Academic-EVE,Academic-GRAD
END:VEVENT
BEGIN:VEVENT
DTSTART;TZID=America/New_York:20230619T000000
DTEND;TZID=America/New_York:20230619T235959
DTSTAMP:20260423T024810
CREATED:20230420T174437Z
LAST-MODIFIED:20230420T174437Z
UID:10001389-1687132800-1687219199@www.lasalle.edu
SUMMARY:Juneteenth
DESCRIPTION:
URL:https://www.lasalle.edu/event/juneteenth/
LOCATION:All Locations
CATEGORIES:Academic-DAY,Academic-EVE,Academic-GRAD
END:VEVENT
BEGIN:VEVENT
DTSTART;TZID=America/New_York:20230615T000000
DTEND;TZID=America/New_York:20230615T235959
DTSTAMP:20260423T024810
CREATED:20230420T174437Z
LAST-MODIFIED:20230420T174437Z
UID:10001388-1686787200-1686873599@www.lasalle.edu
SUMMARY:Summer I Last Day for Withdrawal
DESCRIPTION:
URL:https://www.lasalle.edu/event/summer-i-last-day-for-withdrawal-2/
LOCATION:All Locations
CATEGORIES:Academic-DAY,Academic-EVE,Academic-GRAD
END:VEVENT
BEGIN:VEVENT
DTSTART;TZID=America/New_York:20230605T000000
DTEND;TZID=America/New_York:20230605T235959
DTSTAMP:20260423T024810
CREATED:20230420T174237Z
LAST-MODIFIED:20230420T174237Z
UID:10001384-1685923200-1686009599@www.lasalle.edu
SUMMARY:Graduate Registration for Fall 2023 Begin
DESCRIPTION:
URL:https://www.lasalle.edu/event/graduate-registration-for-fall-2023-begin/
LOCATION:All Locations
CATEGORIES:Academic-GRAD
END:VEVENT
BEGIN:VEVENT
DTSTART;TZID=America/New_York:20230602T000000
DTEND;TZID=America/New_York:20230602T235959
DTSTAMP:20260423T024810
CREATED:20230420T174236Z
LAST-MODIFIED:20230420T174236Z
UID:10001382-1685664000-1685750399@www.lasalle.edu
SUMMARY:10-Week Last Day for Filing P/F Option
DESCRIPTION:
URL:https://www.lasalle.edu/event/10-week-last-day-for-filing-p-f-option-2/
LOCATION:All Locations
CATEGORIES:Academic-DAY,Academic-EVE,Academic-GRAD
END:VEVENT
BEGIN:VEVENT
DTSTART;TZID=America/New_York:20230602T000000
DTEND;TZID=America/New_York:20230602T235959
DTSTAMP:20260423T024810
CREATED:20230420T174236Z
LAST-MODIFIED:20230420T174236Z
UID:10001383-1685664000-1685750399@www.lasalle.edu
SUMMARY:Memorial Day Make-up
DESCRIPTION:
URL:https://www.lasalle.edu/event/memorial-day-make-up-2/
LOCATION:All Locations
CATEGORIES:Academic-DAY,Academic-EVE,Academic-GRAD
END:VEVENT
BEGIN:VEVENT
DTSTART;TZID=America/New_York:20230529T000000
DTEND;TZID=America/New_York:20230529T235959
DTSTAMP:20260423T024810
CREATED:20230420T174035Z
LAST-MODIFIED:20230420T174035Z
UID:10001378-1685318400-1685404799@www.lasalle.edu
SUMMARY:Memorial Day Holiday
DESCRIPTION:
URL:https://www.lasalle.edu/event/memorial-day-holiday-2/
LOCATION:All Locations
CATEGORIES:Academic-DAY,Academic-EVE,Academic-GRAD
END:VEVENT
END:VCALENDAR