BEGIN:VCALENDAR
VERSION:2.0
PRODID:-//La Salle University - ECPv6.15.20//NONSGML v1.0//EN
CALSCALE:GREGORIAN
METHOD:PUBLISH
X-ORIGINAL-URL:https://www.lasalle.edu
X-WR-CALDESC:Events for La Salle University
REFRESH-INTERVAL;VALUE=DURATION:PT1H
X-Robots-Tag:noindex
X-PUBLISHED-TTL:PT1H
BEGIN:VTIMEZONE
TZID:America/New_York
BEGIN:DAYLIGHT
TZOFFSETFROM:-0500
TZOFFSETTO:-0400
TZNAME:EDT
DTSTART:20210314T070000
END:DAYLIGHT
BEGIN:STANDARD
TZOFFSETFROM:-0400
TZOFFSETTO:-0500
TZNAME:EST
DTSTART:20211107T060000
END:STANDARD
BEGIN:DAYLIGHT
TZOFFSETFROM:-0500
TZOFFSETTO:-0400
TZNAME:EDT
DTSTART:20220313T070000
END:DAYLIGHT
BEGIN:STANDARD
TZOFFSETFROM:-0400
TZOFFSETTO:-0500
TZNAME:EST
DTSTART:20221106T060000
END:STANDARD
BEGIN:DAYLIGHT
TZOFFSETFROM:-0500
TZOFFSETTO:-0400
TZNAME:EDT
DTSTART:20230312T070000
END:DAYLIGHT
BEGIN:STANDARD
TZOFFSETFROM:-0400
TZOFFSETTO:-0500
TZNAME:EST
DTSTART:20231105T060000
END:STANDARD
END:VTIMEZONE
BEGIN:VEVENT
DTSTART;TZID=America/New_York:20221219T000000
DTEND;TZID=America/New_York:20221219T235959
DTSTAMP:20260424T025255
CREATED:20230420T151827Z
LAST-MODIFIED:20230420T151827Z
UID:10001252-1671408000-1671494399@www.lasalle.edu
SUMMARY:Winter Intersession Last Day for Registration and to Drop a Class
DESCRIPTION:
URL:https://www.lasalle.edu/event/winter-intersession-last-day-for-registration-and-to-drop-a-class/
LOCATION:All Locations
CATEGORIES:Academic-DAY,Academic-EVE,Academic-GRAD
END:VEVENT
BEGIN:VEVENT
DTSTART;TZID=America/New_York:20221218T000000
DTEND;TZID=America/New_York:20221218T235959
DTSTAMP:20260424T025255
CREATED:20230420T151826Z
LAST-MODIFIED:20230420T151826Z
UID:10001249-1671321600-1671407999@www.lasalle.edu
SUMMARY:8-Week II Courses End
DESCRIPTION:
URL:https://www.lasalle.edu/event/8-week-ii-courses-end/
LOCATION:All Locations
CATEGORIES:Academic-GRAD
END:VEVENT
BEGIN:VEVENT
DTSTART;TZID=America/New_York:20221218T000000
DTEND;TZID=America/New_York:20221218T235959
DTSTAMP:20260424T025255
CREATED:20230420T151826Z
LAST-MODIFIED:20230420T151826Z
UID:10001250-1671321600-1671407999@www.lasalle.edu
SUMMARY:MBA ONLINE II Courses End
DESCRIPTION:
URL:https://www.lasalle.edu/event/mba-online-ii-courses-end/
LOCATION:Online
CATEGORIES:Academic-GRAD
END:VEVENT
BEGIN:VEVENT
DTSTART;TZID=America/New_York:20221217T000000
DTEND;TZID=America/New_York:20221217T235959
DTSTAMP:20260424T025255
CREATED:20230420T151825Z
LAST-MODIFIED:20230420T151825Z
UID:10001248-1671235200-1671321599@www.lasalle.edu
SUMMARY:Fall Semester Final Examinations
DESCRIPTION:Final exam dates vary for accelerated programs
URL:https://www.lasalle.edu/event/fall-semester-final-examinations-6/
LOCATION:All Locations
CATEGORIES:Academic-DAY,Academic-EVE,Academic-GRAD
END:VEVENT
BEGIN:VEVENT
DTSTART;TZID=America/New_York:20221216T000000
DTEND;TZID=America/New_York:20221216T235959
DTSTAMP:20260424T025255
CREATED:20230420T151625Z
LAST-MODIFIED:20230420T151625Z
UID:10001245-1671148800-1671235199@www.lasalle.edu
SUMMARY:Fall Semester Final Examinations
DESCRIPTION:Final exam dates vary for accelerated programs
URL:https://www.lasalle.edu/event/fall-semester-final-examinations-5/
LOCATION:All Locations
CATEGORIES:Academic-DAY,Academic-EVE,Academic-GRAD
END:VEVENT
BEGIN:VEVENT
DTSTART;TZID=America/New_York:20221215T000000
DTEND;TZID=America/New_York:20221215T235959
DTSTAMP:20260424T025255
CREATED:20230420T151624Z
LAST-MODIFIED:20230420T151624Z
UID:10001243-1671062400-1671148799@www.lasalle.edu
SUMMARY:Fall Semester Final Examinations
DESCRIPTION:Final exam dates vary for accelerated programs
URL:https://www.lasalle.edu/event/fall-semester-final-examinations-4/
LOCATION:All Locations
CATEGORIES:Academic-DAY,Academic-EVE,Academic-GRAD
END:VEVENT
BEGIN:VEVENT
DTSTART;TZID=America/New_York:20221214T000000
DTEND;TZID=America/New_York:20221214T235959
DTSTAMP:20260424T025255
CREATED:20230420T151425Z
LAST-MODIFIED:20230420T151425Z
UID:10001242-1670976000-1671062399@www.lasalle.edu
SUMMARY:Fall Semester Final Examinations
DESCRIPTION:Final exam dates vary for accelerated programs
URL:https://www.lasalle.edu/event/fall-semester-final-examinations-3/
LOCATION:All Locations
CATEGORIES:Academic-DAY,Academic-EVE,Academic-GRAD
END:VEVENT
BEGIN:VEVENT
DTSTART;TZID=America/New_York:20221213T000000
DTEND;TZID=America/New_York:20221213T235959
DTSTAMP:20260424T025255
CREATED:20230420T151425Z
LAST-MODIFIED:20230420T151425Z
UID:10001241-1670889600-1670975999@www.lasalle.edu
SUMMARY:Fall Semester Final Examinations
DESCRIPTION:Final exam dates vary for accelerated programs
URL:https://www.lasalle.edu/event/fall-semester-final-examinations-2/
LOCATION:All Locations
CATEGORIES:Academic-DAY,Academic-EVE,Academic-GRAD
END:VEVENT
BEGIN:VEVENT
DTSTART;TZID=America/New_York:20221212T000000
DTEND;TZID=America/New_York:20221212T235959
DTSTAMP:20260424T025255
CREATED:20230420T151424Z
LAST-MODIFIED:20230420T151424Z
UID:10001240-1670803200-1670889599@www.lasalle.edu
SUMMARY:Fall Semester Final Examinations
DESCRIPTION:Final exam dates vary for accelerated programs
URL:https://www.lasalle.edu/event/fall-semester-final-examinations/
LOCATION:All Locations
CATEGORIES:Academic-DAY,Academic-EVE,Academic-GRAD
END:VEVENT
BEGIN:VEVENT
DTSTART;TZID=America/New_York:20221129T000000
DTEND;TZID=America/New_York:20221129T235959
DTSTAMP:20260424T025255
CREATED:20230420T151223Z
LAST-MODIFIED:20230420T151223Z
UID:10001234-1669680000-1669766399@www.lasalle.edu
SUMMARY:MBA ONLINE II Last Day for Withdrawal
DESCRIPTION:
URL:https://www.lasalle.edu/event/mba-online-ii-last-day-for-withdrawal/
LOCATION:Online
CATEGORIES:Academic-GRAD
END:VEVENT
BEGIN:VEVENT
DTSTART;TZID=America/New_York:20221129T000000
DTEND;TZID=America/New_York:20221129T235959
DTSTAMP:20260424T025255
CREATED:20230420T151222Z
LAST-MODIFIED:20230420T151222Z
UID:10001233-1669680000-1669766399@www.lasalle.edu
SUMMARY:8-Week II Last Day for Withdrawal
DESCRIPTION:
URL:https://www.lasalle.edu/event/8-week-ii-last-day-for-withdrawal/
LOCATION:All Locations
CATEGORIES:Academic-GRAD
END:VEVENT
BEGIN:VEVENT
DTSTART;TZID=America/New_York:20221127T000000
DTEND;TZID=America/New_York:20221127T235959
DTSTAMP:20260424T025255
CREATED:20230420T151023Z
LAST-MODIFIED:20230420T151023Z
UID:10001231-1669507200-1669593599@www.lasalle.edu
SUMMARY:Thanksgiving Holidays
DESCRIPTION:
URL:https://www.lasalle.edu/event/thanksgiving-holidays-5/
LOCATION:All Locations
CATEGORIES:Academic-DAY,Academic-EVE,Academic-GRAD
END:VEVENT
BEGIN:VEVENT
DTSTART;TZID=America/New_York:20221126T000000
DTEND;TZID=America/New_York:20221126T235959
DTSTAMP:20260424T025255
CREATED:20230420T151023Z
LAST-MODIFIED:20230420T151023Z
UID:10001230-1669420800-1669507199@www.lasalle.edu
SUMMARY:Thanksgiving Holidays
DESCRIPTION:
URL:https://www.lasalle.edu/event/thanksgiving-holidays-4/
LOCATION:All Locations
CATEGORIES:Academic-DAY,Academic-EVE,Academic-GRAD
END:VEVENT
BEGIN:VEVENT
DTSTART;TZID=America/New_York:20221125T000000
DTEND;TZID=America/New_York:20221125T235959
DTSTAMP:20260424T025255
CREATED:20230420T151022Z
LAST-MODIFIED:20230420T151022Z
UID:10001229-1669334400-1669420799@www.lasalle.edu
SUMMARY:Thanksgiving Holidays
DESCRIPTION:
URL:https://www.lasalle.edu/event/thanksgiving-holidays-3/
LOCATION:All Locations
CATEGORIES:Academic-DAY,Academic-EVE,Academic-GRAD
END:VEVENT
BEGIN:VEVENT
DTSTART;TZID=America/New_York:20221124T000000
DTEND;TZID=America/New_York:20221124T235959
DTSTAMP:20260424T025255
CREATED:20230420T151022Z
LAST-MODIFIED:20230420T151022Z
UID:10001228-1669248000-1669334399@www.lasalle.edu
SUMMARY:Thanksgiving Holidays
DESCRIPTION:
URL:https://www.lasalle.edu/event/thanksgiving-holidays-2/
LOCATION:All Locations
CATEGORIES:Academic-DAY,Academic-EVE,Academic-GRAD
END:VEVENT
BEGIN:VEVENT
DTSTART;TZID=America/New_York:20221123T000000
DTEND;TZID=America/New_York:20221123T235959
DTSTAMP:20260424T025255
CREATED:20230420T150925Z
LAST-MODIFIED:20230420T150925Z
UID:10001227-1669161600-1669247999@www.lasalle.edu
SUMMARY:Thanksgiving Holidays
DESCRIPTION:
URL:https://www.lasalle.edu/event/thanksgiving-holidays/
LOCATION:All Locations
CATEGORIES:Academic-DAY,Academic-EVE,Academic-GRAD
END:VEVENT
BEGIN:VEVENT
DTSTART;TZID=America/New_York:20221104T000000
DTEND;TZID=America/New_York:20221104T235959
DTSTAMP:20260424T025255
CREATED:20230420T150816Z
LAST-MODIFIED:20230420T150816Z
UID:10001215-1667520000-1667606399@www.lasalle.edu
SUMMARY:Fall Semester Last Day for Withdrawal
DESCRIPTION:
URL:https://www.lasalle.edu/event/fall-semester-last-day-for-withdrawal/
LOCATION:All Locations
CATEGORIES:Academic-DAY,Academic-EVE,Academic-GRAD
END:VEVENT
BEGIN:VEVENT
DTSTART;TZID=America/New_York:20221028T000000
DTEND;TZID=America/New_York:20221028T235959
DTSTAMP:20260424T025255
CREATED:20230420T150801Z
LAST-MODIFIED:20230420T150801Z
UID:10001209-1666915200-1667001599@www.lasalle.edu
SUMMARY:8-Week I Grades Due
DESCRIPTION:
URL:https://www.lasalle.edu/event/8-week-i-grades-due/
LOCATION:All Locations
CATEGORIES:Academic-GRAD
END:VEVENT
BEGIN:VEVENT
DTSTART;TZID=America/New_York:20221028T000000
DTEND;TZID=America/New_York:20221028T235959
DTSTAMP:20260424T025255
CREATED:20230420T150801Z
LAST-MODIFIED:20230420T150801Z
UID:10001210-1666915200-1667001599@www.lasalle.edu
SUMMARY:MBA ONLINE I Grades Due
DESCRIPTION:
URL:https://www.lasalle.edu/event/mba-online-i-grades-due-2/
LOCATION:Online
CATEGORIES:Academic-GRAD
END:VEVENT
BEGIN:VEVENT
DTSTART;TZID=America/New_York:20221027T000000
DTEND;TZID=America/New_York:20221027T235959
DTSTAMP:20260424T025255
CREATED:20230420T150747Z
LAST-MODIFIED:20230420T150747Z
UID:10001207-1666828800-1666915199@www.lasalle.edu
SUMMARY:Undergraduate EVE & Graduate Registration for Spring 2022 Begin
DESCRIPTION:
URL:https://www.lasalle.edu/event/undergraduate-eve-graduate-registration-for-spring-2022-begin/
LOCATION:All Locations
CATEGORIES:Academic-EVE,Academic-GRAD
END:VEVENT
BEGIN:VEVENT
DTSTART;TZID=America/New_York:20221025T000000
DTEND;TZID=America/New_York:20221025T235959
DTSTAMP:20260424T025255
CREATED:20230420T150746Z
LAST-MODIFIED:20230420T150746Z
UID:10001204-1666656000-1666742399@www.lasalle.edu
SUMMARY:8-Week II Last Day for Registration and Change of Roster
DESCRIPTION:
URL:https://www.lasalle.edu/event/8-week-ii-last-day-for-registration-and-change-of-roster/
LOCATION:All Locations
CATEGORIES:Academic-GRAD
END:VEVENT
BEGIN:VEVENT
DTSTART;TZID=America/New_York:20221025T000000
DTEND;TZID=America/New_York:20221025T235959
DTSTAMP:20260424T025255
CREATED:20230420T150746Z
LAST-MODIFIED:20230420T150746Z
UID:10001205-1666656000-1666742399@www.lasalle.edu
SUMMARY:MBA ONLINE II Last Day to Drop a Course
DESCRIPTION:
URL:https://www.lasalle.edu/event/mba-online-ii-last-day-to-drop-a-course/
LOCATION:Online
CATEGORIES:Academic-GRAD
END:VEVENT
BEGIN:VEVENT
DTSTART;TZID=America/New_York:20221024T000000
DTEND;TZID=America/New_York:20221024T235959
DTSTAMP:20260424T025255
CREATED:20230420T150732Z
LAST-MODIFIED:20230420T150732Z
UID:10001201-1666569600-1666655999@www.lasalle.edu
SUMMARY:MBA ONLINE II Courses Begin
DESCRIPTION:
URL:https://www.lasalle.edu/event/mba-online-ii-courses-begin/
LOCATION:Online
CATEGORIES:Academic-GRAD
END:VEVENT
BEGIN:VEVENT
DTSTART;TZID=America/New_York:20221024T000000
DTEND;TZID=America/New_York:20221024T235959
DTSTAMP:20260424T025255
CREATED:20230420T150731Z
LAST-MODIFIED:20230420T150731Z
UID:10001200-1666569600-1666655999@www.lasalle.edu
SUMMARY:8-Week II Courses Begin
DESCRIPTION:
URL:https://www.lasalle.edu/event/8-week-ii-courses-begin/
LOCATION:All Locations
CATEGORIES:Academic-GRAD
END:VEVENT
BEGIN:VEVENT
DTSTART;TZID=America/New_York:20221023T000000
DTEND;TZID=America/New_York:20221023T235959
DTSTAMP:20260424T025255
CREATED:20230420T150731Z
LAST-MODIFIED:20230420T150731Z
UID:10001199-1666483200-1666569599@www.lasalle.edu
SUMMARY:MBA ONLINE I Courses End
DESCRIPTION:
URL:https://www.lasalle.edu/event/mba-online-i-courses-end-2/
LOCATION:Online
CATEGORIES:Academic-GRAD
END:VEVENT
BEGIN:VEVENT
DTSTART;TZID=America/New_York:20221023T000000
DTEND;TZID=America/New_York:20221023T235959
DTSTAMP:20260424T025255
CREATED:20230420T150730Z
LAST-MODIFIED:20230420T150730Z
UID:10001198-1666483200-1666569599@www.lasalle.edu
SUMMARY:8-Week I Courses End
DESCRIPTION:
URL:https://www.lasalle.edu/event/8-week-i-courses-end/
LOCATION:All Locations
CATEGORIES:Academic-GRAD
END:VEVENT
BEGIN:VEVENT
DTSTART;TZID=America/New_York:20221019T000000
DTEND;TZID=America/New_York:20221019T235959
DTSTAMP:20260424T025255
CREATED:20230420T150700Z
LAST-MODIFIED:20230420T150700Z
UID:10001188-1666137600-1666223999@www.lasalle.edu
SUMMARY:MBA ONLINE II Last Day to Add a Course
DESCRIPTION:
URL:https://www.lasalle.edu/event/mba-online-ii-last-day-to-add-a-course/
LOCATION:Online
CATEGORIES:Academic-GRAD
END:VEVENT
BEGIN:VEVENT
DTSTART;TZID=America/New_York:20221018T000000
DTEND;TZID=America/New_York:20221018T235959
DTSTAMP:20260424T025255
CREATED:20230420T150647Z
LAST-MODIFIED:20230420T150647Z
UID:10001187-1666051200-1666137599@www.lasalle.edu
SUMMARY:Mid-Semester Holiday - Fall
DESCRIPTION:
URL:https://www.lasalle.edu/event/mid-semester-holiday-fall-2/
LOCATION:All Locations
CATEGORIES:Academic-DAY,Academic-EVE,Academic-GRAD
END:VEVENT
BEGIN:VEVENT
DTSTART;TZID=America/New_York:20221017T000000
DTEND;TZID=America/New_York:20221017T235959
DTSTAMP:20260424T025255
CREATED:20230420T150647Z
LAST-MODIFIED:20230420T150647Z
UID:10001186-1665964800-1666051199@www.lasalle.edu
SUMMARY:Mid-Semester Holiday - Fall
DESCRIPTION:
URL:https://www.lasalle.edu/event/mid-semester-holiday-fall/
LOCATION:All Locations
CATEGORIES:Academic-DAY,Academic-EVE,Academic-GRAD
END:VEVENT
BEGIN:VEVENT
DTSTART;TZID=America/New_York:20221004T000000
DTEND;TZID=America/New_York:20221004T235959
DTSTAMP:20260424T025255
CREATED:20230420T150632Z
LAST-MODIFIED:20230420T150632Z
UID:10001181-1664841600-1664927999@www.lasalle.edu
SUMMARY:MBA ONLINE I Last Day for Withdrawal
DESCRIPTION:
URL:https://www.lasalle.edu/event/mba-online-i-last-day-for-withdrawal-2/
LOCATION:Online
CATEGORIES:Academic-GRAD
END:VEVENT
END:VCALENDAR