BEGIN:VCALENDAR
VERSION:2.0
PRODID:-//La Salle University - ECPv6.15.20//NONSGML v1.0//EN
CALSCALE:GREGORIAN
METHOD:PUBLISH
X-ORIGINAL-URL:https://www.lasalle.edu
X-WR-CALDESC:Events for La Salle University
REFRESH-INTERVAL;VALUE=DURATION:PT1H
X-Robots-Tag:noindex
X-PUBLISHED-TTL:PT1H
BEGIN:VTIMEZONE
TZID:America/New_York
BEGIN:DAYLIGHT
TZOFFSETFROM:-0500
TZOFFSETTO:-0400
TZNAME:EDT
DTSTART:20210314T070000
END:DAYLIGHT
BEGIN:STANDARD
TZOFFSETFROM:-0400
TZOFFSETTO:-0500
TZNAME:EST
DTSTART:20211107T060000
END:STANDARD
BEGIN:DAYLIGHT
TZOFFSETFROM:-0500
TZOFFSETTO:-0400
TZNAME:EDT
DTSTART:20220313T070000
END:DAYLIGHT
BEGIN:STANDARD
TZOFFSETFROM:-0400
TZOFFSETTO:-0500
TZNAME:EST
DTSTART:20221106T060000
END:STANDARD
BEGIN:DAYLIGHT
TZOFFSETFROM:-0500
TZOFFSETTO:-0400
TZNAME:EDT
DTSTART:20230312T070000
END:DAYLIGHT
BEGIN:STANDARD
TZOFFSETFROM:-0400
TZOFFSETTO:-0500
TZNAME:EST
DTSTART:20231105T060000
END:STANDARD
END:VTIMEZONE
BEGIN:VEVENT
DTSTART;TZID=America/New_York:20220529T000000
DTEND;TZID=America/New_York:20220529T235959
DTSTAMP:20260424T202701
CREATED:20230420T144823Z
LAST-MODIFIED:20230420T144823Z
UID:10001082-1653782400-1653868799@www.lasalle.edu
SUMMARY:Summer Full Semester Last Day for Registration and Change of Roster
DESCRIPTION:
URL:https://www.lasalle.edu/event/summer-full-semester-last-day-for-registration-and-change-of-roster/
LOCATION:All Locations
CATEGORIES:Academic-DAY,Academic-EVE,Academic-GRAD
END:VEVENT
BEGIN:VEVENT
DTSTART;TZID=America/New_York:20220529T000000
DTEND;TZID=America/New_York:20220529T235959
DTSTAMP:20260424T202701
CREATED:20230420T144822Z
LAST-MODIFIED:20230420T144822Z
UID:10001080-1653782400-1653868799@www.lasalle.edu
SUMMARY:10-Week Last Day for Registration and Change of Roster
DESCRIPTION:
URL:https://www.lasalle.edu/event/10-week-last-day-for-registration-and-change-of-roster/
LOCATION:All Locations
CATEGORIES:Academic-DAY,Academic-EVE,Academic-GRAD
END:VEVENT
BEGIN:VEVENT
DTSTART;TZID=America/New_York:20220525T000000
DTEND;TZID=America/New_York:20220525T235959
DTSTAMP:20260424T202701
CREATED:20230420T144622Z
LAST-MODIFIED:20230420T144622Z
UID:10001076-1653436800-1653523199@www.lasalle.edu
SUMMARY:MBA ONLINE I Last Day to Drop a Course
DESCRIPTION:
URL:https://www.lasalle.edu/event/mba-online-i-last-day-to-drop-a-course/
LOCATION:Online
CATEGORIES:Academic-GRAD
END:VEVENT
BEGIN:VEVENT
DTSTART;TZID=America/New_York:20220524T000000
DTEND;TZID=America/New_York:20220524T235959
DTSTAMP:20260424T202701
CREATED:20230420T144821Z
LAST-MODIFIED:20230420T144821Z
UID:10001078-1653350400-1653436799@www.lasalle.edu
SUMMARY:Summer I Last Day for Registration and Change of Roster
DESCRIPTION:
URL:https://www.lasalle.edu/event/summer-i-last-day-for-registration-and-change-of-roster/
LOCATION:All Locations
CATEGORIES:Academic-DAY,Academic-EVE,Academic-GRAD
END:VEVENT
BEGIN:VEVENT
DTSTART;TZID=America/New_York:20220524T000000
DTEND;TZID=America/New_York:20220524T235959
DTSTAMP:20260424T202701
CREATED:20230420T144621Z
LAST-MODIFIED:20230420T144621Z
UID:10001075-1653350400-1653436799@www.lasalle.edu
SUMMARY:8-Week Last Day for Registration and Change of Roster
DESCRIPTION:
URL:https://www.lasalle.edu/event/8-week-last-day-for-registration-and-change-of-roster/
LOCATION:All Locations
CATEGORIES:Academic-GRAD
END:VEVENT
BEGIN:VEVENT
DTSTART;TZID=America/New_York:20220523T000000
DTEND;TZID=America/New_York:20220523T235959
DTSTAMP:20260424T202701
CREATED:20230420T144605Z
LAST-MODIFIED:20230420T144605Z
UID:10001071-1653264000-1653350399@www.lasalle.edu
SUMMARY:Summer Full Semester Courses Begin
DESCRIPTION:
URL:https://www.lasalle.edu/event/summer-full-semester-courses-begin/
LOCATION:All Locations
CATEGORIES:Academic-DAY,Academic-EVE,Academic-GRAD
END:VEVENT
BEGIN:VEVENT
DTSTART;TZID=America/New_York:20220523T000000
DTEND;TZID=America/New_York:20220523T235959
DTSTAMP:20260424T202701
CREATED:20230420T144605Z
LAST-MODIFIED:20230420T144605Z
UID:10001072-1653264000-1653350399@www.lasalle.edu
SUMMARY:Summer I Courses Begin
DESCRIPTION:
URL:https://www.lasalle.edu/event/summer-i-courses-begin/
LOCATION:All Locations
CATEGORIES:Academic-DAY,Academic-EVE,Academic-GRAD
END:VEVENT
BEGIN:VEVENT
DTSTART;TZID=America/New_York:20220523T000000
DTEND;TZID=America/New_York:20220523T235959
DTSTAMP:20260424T202701
CREATED:20230420T144603Z
LAST-MODIFIED:20230420T144603Z
UID:10001068-1653264000-1653350399@www.lasalle.edu
SUMMARY:MBA ONLINE I Courses Begin
DESCRIPTION:
URL:https://www.lasalle.edu/event/mba-online-i-courses-begin/
LOCATION:Online
CATEGORIES:Academic-GRAD
END:VEVENT
BEGIN:VEVENT
DTSTART;TZID=America/New_York:20220523T000000
DTEND;TZID=America/New_York:20220523T235959
DTSTAMP:20260424T202701
CREATED:20230420T144602Z
LAST-MODIFIED:20230420T144602Z
UID:10001067-1653264000-1653350399@www.lasalle.edu
SUMMARY:8-Week Courses Begin
DESCRIPTION:
URL:https://www.lasalle.edu/event/8-week-courses-begin/
LOCATION:All Locations
CATEGORIES:Academic-GRAD
END:VEVENT
BEGIN:VEVENT
DTSTART;TZID=America/New_York:20220523T000000
DTEND;TZID=America/New_York:20220523T235959
DTSTAMP:20260424T202701
CREATED:20230420T144601Z
LAST-MODIFIED:20230420T144601Z
UID:10001065-1653264000-1653350399@www.lasalle.edu
SUMMARY:10-Week Courses Begin
DESCRIPTION:
URL:https://www.lasalle.edu/event/10-week-courses-begin/
LOCATION:All Locations
CATEGORIES:Academic-DAY,Academic-EVE,Academic-GRAD
END:VEVENT
BEGIN:VEVENT
DTSTART;TZID=America/New_York:20220518T000000
DTEND;TZID=America/New_York:20220518T235959
DTSTAMP:20260424T202701
CREATED:20230420T144600Z
LAST-MODIFIED:20230420T144600Z
UID:10001063-1652832000-1652918399@www.lasalle.edu
SUMMARY:MBA ONLINE I Last Day to Add a Course
DESCRIPTION:
URL:https://www.lasalle.edu/event/mba-online-i-last-day-to-add-a-course/
LOCATION:Online
CATEGORIES:Academic-GRAD
END:VEVENT
END:VCALENDAR