BEGIN:VCALENDAR
VERSION:2.0
PRODID:-//La Salle University - ECPv6.15.20//NONSGML v1.0//EN
CALSCALE:GREGORIAN
METHOD:PUBLISH
X-WR-CALNAME:La Salle University
X-ORIGINAL-URL:https://www.lasalle.edu
X-WR-CALDESC:Events for La Salle University
REFRESH-INTERVAL;VALUE=DURATION:PT1H
X-Robots-Tag:noindex
X-PUBLISHED-TTL:PT1H
BEGIN:VTIMEZONE
TZID:America/New_York
BEGIN:DAYLIGHT
TZOFFSETFROM:-0500
TZOFFSETTO:-0400
TZNAME:EDT
DTSTART:20240310T070000
END:DAYLIGHT
BEGIN:STANDARD
TZOFFSETFROM:-0400
TZOFFSETTO:-0500
TZNAME:EST
DTSTART:20241103T060000
END:STANDARD
BEGIN:DAYLIGHT
TZOFFSETFROM:-0500
TZOFFSETTO:-0400
TZNAME:EDT
DTSTART:20250309T070000
END:DAYLIGHT
BEGIN:STANDARD
TZOFFSETFROM:-0400
TZOFFSETTO:-0500
TZNAME:EST
DTSTART:20251102T060000
END:STANDARD
BEGIN:DAYLIGHT
TZOFFSETFROM:-0500
TZOFFSETTO:-0400
TZNAME:EDT
DTSTART:20260308T070000
END:DAYLIGHT
BEGIN:STANDARD
TZOFFSETFROM:-0400
TZOFFSETTO:-0500
TZNAME:EST
DTSTART:20261101T060000
END:STANDARD
END:VTIMEZONE
BEGIN:VEVENT
DTSTART;TZID=America/New_York:20250211T083000
DTEND;TZID=America/New_York:20250211T100000
DTSTAMP:20260421T110032
CREATED:20250203T064037Z
LAST-MODIFIED:20250211T143955Z
UID:10004166-1739262600-1739268000@www.lasalle.edu
SUMMARY:Admission visit tour
DESCRIPTION:Admission visit tour
URL:https://www.lasalle.edu/event/admission-visit-tour/
LOCATION:Founders’ Hall Auditorium (105)
CATEGORIES:Admissions
END:VEVENT
BEGIN:VEVENT
DTSTART;TZID=America/New_York:20250212T120000
DTEND;TZID=America/New_York:20250212T140000
DTSTAMP:20260421T110032
CREATED:20250204T133746Z
LAST-MODIFIED:20250212T174503Z
UID:10004183-1739361600-1739368800@www.lasalle.edu
SUMMARY:Admission tour
DESCRIPTION:Admission tour
URL:https://www.lasalle.edu/event/admission-tour/
LOCATION:La Salle Union Compass Club
CATEGORIES:Admissions
END:VEVENT
BEGIN:VEVENT
DTSTART;TZID=America/New_York:20250217T070000
DTEND;TZID=America/New_York:20250217T170000
DTSTAMP:20260421T110032
CREATED:20250204T134843Z
LAST-MODIFIED:20250217T214444Z
UID:10004192-1739775600-1739811600@www.lasalle.edu
SUMMARY:Explorer for a Day 1
DESCRIPTION:Explorer for a Day 1
URL:https://www.lasalle.edu/event/explorer-for-a-day-1/
LOCATION:La Salle Union Music Room
CATEGORIES:Admissions
END:VEVENT
BEGIN:VEVENT
DTSTART;TZID=America/New_York:20250217T070000
DTEND;TZID=America/New_York:20250217T170000
DTSTAMP:20260421T110032
CREATED:20250204T134844Z
LAST-MODIFIED:20250217T214446Z
UID:10004193-1739775600-1739811600@www.lasalle.edu
SUMMARY:Explorer for a Day 1
DESCRIPTION:Explorer for a Day 1
URL:https://www.lasalle.edu/event/explorer-for-a-day-1-2/
LOCATION:La Salle Union Compass Club
CATEGORIES:Admissions
END:VEVENT
BEGIN:VEVENT
DTSTART;TZID=America/New_York:20250217T070000
DTEND;TZID=America/New_York:20250217T170000
DTSTAMP:20260421T110032
CREATED:20250204T134845Z
LAST-MODIFIED:20250217T214445Z
UID:10004194-1739775600-1739811600@www.lasalle.edu
SUMMARY:Explorer for a Day 1
DESCRIPTION:Explorer for a Day 1
URL:https://www.lasalle.edu/event/explorer-for-a-day-1-3/
LOCATION:La Salle Union Dunleavy Room
CATEGORIES:Admissions
END:VEVENT
BEGIN:VEVENT
DTSTART;TZID=America/New_York:20250219T090000
DTEND;TZID=America/New_York:20250219T213000
DTSTAMP:20260421T110032
CREATED:20250212T194216Z
LAST-MODIFIED:20250220T014047Z
UID:10004232-1739955600-1740000600@www.lasalle.edu
SUMMARY:Business Mixer Reception
DESCRIPTION:Business Mixer Reception
URL:https://www.lasalle.edu/event/business-mixer-reception/
LOCATION:Founders’ Hall 638
CATEGORIES:Admissions
END:VEVENT
BEGIN:VEVENT
DTSTART;TZID=America/New_York:20250219T090000
DTEND;TZID=America/New_York:20250219T213000
DTSTAMP:20260421T110032
CREATED:20250213T053920Z
LAST-MODIFIED:20250220T014049Z
UID:10004236-1739955600-1740000600@www.lasalle.edu
SUMMARY:Business Mixer Reception
DESCRIPTION:Business Mixer Reception
URL:https://www.lasalle.edu/event/business-mixer-reception-2/
LOCATION:Founders’ Hall Auditorium (105)
CATEGORIES:Admissions
END:VEVENT
BEGIN:VEVENT
DTSTART;TZID=America/New_York:20250219T090000
DTEND;TZID=America/New_York:20250219T213000
DTSTAMP:20260421T110032
CREATED:20250213T053921Z
LAST-MODIFIED:20250220T014048Z
UID:10004237-1739955600-1740000600@www.lasalle.edu
SUMMARY:Business Mixer Reception
DESCRIPTION:Business Mixer Reception
URL:https://www.lasalle.edu/event/business-mixer-reception-3/
LOCATION:Founders’ Hall Boardroom
CATEGORIES:Admissions
END:VEVENT
BEGIN:VEVENT
DTSTART;TZID=America/New_York:20250219T090000
DTEND;TZID=America/New_York:20250219T213000
DTSTAMP:20260421T110032
CREATED:20250213T054304Z
LAST-MODIFIED:20250220T014049Z
UID:10004238-1739955600-1740000600@www.lasalle.edu
SUMMARY:Business Mixer Reception
DESCRIPTION:Business Mixer Reception
URL:https://www.lasalle.edu/event/business-mixer-reception-4/
LOCATION:Founders’ Hall Atrium
CATEGORIES:Admissions
END:VEVENT
BEGIN:VEVENT
DTSTART;TZID=America/New_York:20250220T083000
DTEND;TZID=America/New_York:20250220T100000
DTSTAMP:20260421T110032
CREATED:20250213T054305Z
LAST-MODIFIED:20250220T143806Z
UID:10004239-1740040200-1740045600@www.lasalle.edu
SUMMARY:Admission visit tour
DESCRIPTION:Admission visit tour
URL:https://www.lasalle.edu/event/admission-visit-tour-2/
LOCATION:Founders’ Hall Auditorium (105)
CATEGORIES:Admissions
END:VEVENT
BEGIN:VEVENT
DTSTART;TZID=America/New_York:20250225T070000
DTEND;TZID=America/New_York:20250225T170000
DTSTAMP:20260421T110032
CREATED:20250220T084034Z
LAST-MODIFIED:20250224T214845Z
UID:10004265-1740466800-1740502800@www.lasalle.edu
SUMMARY:Explorer for a Day 2
DESCRIPTION:Explorer for a Day 2
URL:https://www.lasalle.edu/event/explorer-for-a-day-2-2/
LOCATION:La Salle Union Compass Club
CATEGORIES:Admissions
END:VEVENT
BEGIN:VEVENT
DTSTART;TZID=America/New_York:20250225T070000
DTEND;TZID=America/New_York:20250225T170000
DTSTAMP:20260421T110032
CREATED:20250220T084034Z
LAST-MODIFIED:20250225T215009Z
UID:10004266-1740466800-1740502800@www.lasalle.edu
SUMMARY:Explorer for a Day 2
DESCRIPTION:Explorer for a Day 2
URL:https://www.lasalle.edu/event/explorer-for-a-day-2-3/
LOCATION:La Salle Union Music Room
CATEGORIES:Admissions
END:VEVENT
END:VCALENDAR