BEGIN:VCALENDAR
VERSION:2.0
PRODID:-//La Salle University - ECPv6.15.20//NONSGML v1.0//EN
CALSCALE:GREGORIAN
METHOD:PUBLISH
X-WR-CALNAME:La Salle University
X-ORIGINAL-URL:https://www.lasalle.edu
X-WR-CALDESC:Events for La Salle University
REFRESH-INTERVAL;VALUE=DURATION:PT1H
X-Robots-Tag:noindex
X-PUBLISHED-TTL:PT1H
BEGIN:VTIMEZONE
TZID:America/New_York
BEGIN:DAYLIGHT
TZOFFSETFROM:-0500
TZOFFSETTO:-0400
TZNAME:EDT
DTSTART:20230312T070000
END:DAYLIGHT
BEGIN:STANDARD
TZOFFSETFROM:-0400
TZOFFSETTO:-0500
TZNAME:EST
DTSTART:20231105T060000
END:STANDARD
BEGIN:DAYLIGHT
TZOFFSETFROM:-0500
TZOFFSETTO:-0400
TZNAME:EDT
DTSTART:20240310T070000
END:DAYLIGHT
BEGIN:STANDARD
TZOFFSETFROM:-0400
TZOFFSETTO:-0500
TZNAME:EST
DTSTART:20241103T060000
END:STANDARD
BEGIN:DAYLIGHT
TZOFFSETFROM:-0500
TZOFFSETTO:-0400
TZNAME:EDT
DTSTART:20250309T070000
END:DAYLIGHT
BEGIN:STANDARD
TZOFFSETFROM:-0400
TZOFFSETTO:-0500
TZNAME:EST
DTSTART:20251102T060000
END:STANDARD
END:VTIMEZONE
BEGIN:VEVENT
DTSTART;TZID=America/New_York:20241026T070000
DTEND;TZID=America/New_York:20241026T150000
DTSTAMP:20260421T121457
CREATED:20241025T204302Z
LAST-MODIFIED:20241026T184019Z
UID:10003692-1729926000-1729954800@www.lasalle.edu
SUMMARY:Set-up day: Fall Open House 2
DESCRIPTION:Set-up day: Fall Open House 2
URL:https://www.lasalle.edu/event/set-up-day-fall-open-house-2-5/
LOCATION:La Salle Union Compass Club
CATEGORIES:Admissions
END:VEVENT
BEGIN:VEVENT
DTSTART;TZID=America/New_York:20241026T070000
DTEND;TZID=America/New_York:20241026T150000
DTSTAMP:20260421T121457
CREATED:20241025T204302Z
LAST-MODIFIED:20241026T184018Z
UID:10003693-1729926000-1729954800@www.lasalle.edu
SUMMARY:Set-up day: Fall Open House 2
DESCRIPTION:Set-up day: Fall Open House 2
URL:https://www.lasalle.edu/event/set-up-day-fall-open-house-2-6/
LOCATION:La Salle Union Dan Rodden Theatre
CATEGORIES:Admissions
END:VEVENT
BEGIN:VEVENT
DTSTART;TZID=America/New_York:20241026T070000
DTEND;TZID=America/New_York:20241026T150000
DTSTAMP:20260421T121457
CREATED:20241025T204301Z
LAST-MODIFIED:20241026T184017Z
UID:10003691-1729926000-1729954800@www.lasalle.edu
SUMMARY:Fall Open House 2
DESCRIPTION:Set-up day: Fall Open House 2
URL:https://www.lasalle.edu/event/fall-open-house-2-3/
LOCATION:La Salle Union Ballroom
CATEGORIES:Admissions
END:VEVENT
BEGIN:VEVENT
DTSTART;TZID=America/New_York:20241026T070000
DTEND;TZID=America/New_York:20241026T150000
DTSTAMP:20260421T121457
CREATED:20241025T203743Z
LAST-MODIFIED:20241026T183612Z
UID:10003690-1729926000-1729954800@www.lasalle.edu
SUMMARY:Fall Open House 2
DESCRIPTION:Set-up day: Fall Open House 2
URL:https://www.lasalle.edu/event/fall-open-house-2-2/
LOCATION:La Salle Union McShain Boardroom
CATEGORIES:Admissions
END:VEVENT
BEGIN:VEVENT
DTSTART;TZID=America/New_York:20241026T070000
DTEND;TZID=America/New_York:20241026T150000
DTSTAMP:20260421T121458
CREATED:20241025T004819Z
LAST-MODIFIED:20241026T183613Z
UID:10003684-1729926000-1729954800@www.lasalle.edu
SUMMARY:Set-up day: Fall Open House 2
DESCRIPTION:Set-up day: Fall Open House 2
URL:https://www.lasalle.edu/event/set-up-day-fall-open-house-2-4/
LOCATION:La Salle Union Union Patio
CATEGORIES:Admissions
END:VEVENT
BEGIN:VEVENT
DTSTART;TZID=America/New_York:20241026T070000
DTEND;TZID=America/New_York:20241026T150000
DTSTAMP:20260421T121458
CREATED:20241024T234326Z
LAST-MODIFIED:20241026T184018Z
UID:10003683-1729926000-1729954800@www.lasalle.edu
SUMMARY:Set-up day: Fall Open House 2
DESCRIPTION:Set-up day: Fall Open House 2
URL:https://www.lasalle.edu/event/set-up-day-fall-open-house-2-3/
LOCATION:La Salle Union Music Room
CATEGORIES:Admissions
END:VEVENT
BEGIN:VEVENT
DTSTART;TZID=America/New_York:20241025T070000
DTEND;TZID=America/New_York:20241025T150000
DTSTAMP:20260421T121458
CREATED:20241024T185047Z
LAST-MODIFIED:20241025T184431Z
UID:10003679-1729839600-1729868400@www.lasalle.edu
SUMMARY:Set-up day: Fall Open House 2
DESCRIPTION:Set-up day: Fall Open House 2
URL:https://www.lasalle.edu/event/set-up-day-fall-open-house-2-2/
LOCATION:Holroyd Science Center Atrium
CATEGORIES:Admissions
END:VEVENT
BEGIN:VEVENT
DTSTART;TZID=America/New_York:20241025T070000
DTEND;TZID=America/New_York:20241025T150000
DTSTAMP:20260421T121458
CREATED:20241024T184058Z
LAST-MODIFIED:20241025T184430Z
UID:10003674-1729839600-1729868400@www.lasalle.edu
SUMMARY:Set-up day: Fall Open House 2
DESCRIPTION:Set-up day: Fall Open House 2
URL:https://www.lasalle.edu/event/set-up-day-fall-open-house-2/
LOCATION:Hayman Hall Main Lobby
CATEGORIES:Admissions
END:VEVENT
BEGIN:VEVENT
DTSTART;TZID=America/New_York:20241019T090000
DTEND;TZID=America/New_York:20241019T150000
DTSTAMP:20260421T121458
CREATED:20241019T013549Z
LAST-MODIFIED:20241019T183832Z
UID:10003600-1729328400-1729350000@www.lasalle.edu
SUMMARY:Admissions
DESCRIPTION:Admissions Tour
URL:https://www.lasalle.edu/event/admissions-3/
LOCATION:Holroyd Science Center 190
CATEGORIES:Admissions
END:VEVENT
BEGIN:VEVENT
DTSTART;TZID=America/New_York:20241015T070000
DTEND;TZID=America/New_York:20241015T150000
DTSTAMP:20260421T121458
CREATED:20241009T044853Z
LAST-MODIFIED:20241015T184738Z
UID:10003537-1728975600-1729004400@www.lasalle.edu
SUMMARY:Latinos Presente
DESCRIPTION:Latinos Presente
URL:https://www.lasalle.edu/event/latinos-presente-3/
LOCATION:La Salle Union Music Room
CATEGORIES:Admissions
END:VEVENT
BEGIN:VEVENT
DTSTART;TZID=America/New_York:20241015T070000
DTEND;TZID=America/New_York:20241015T150000
DTSTAMP:20260421T121458
CREATED:20241009T044853Z
LAST-MODIFIED:20241015T184739Z
UID:10003538-1728975600-1729004400@www.lasalle.edu
SUMMARY:Latinos Presente
DESCRIPTION:Latinos Presente
URL:https://www.lasalle.edu/event/latinos-presente-4/
LOCATION:La Salle Union Dunleavy Room
CATEGORIES:Admissions
END:VEVENT
BEGIN:VEVENT
DTSTART;TZID=America/New_York:20241015T070000
DTEND;TZID=America/New_York:20241015T150000
DTSTAMP:20260421T121458
CREATED:20241009T044852Z
LAST-MODIFIED:20241015T184739Z
UID:10003536-1728975600-1729004400@www.lasalle.edu
SUMMARY:Latinos Presente
DESCRIPTION:Latinos Presente
URL:https://www.lasalle.edu/event/latinos-presente-2/
LOCATION:La Salle Union Union Patio
CATEGORIES:Admissions
END:VEVENT
BEGIN:VEVENT
DTSTART;TZID=America/New_York:20241015T070000
DTEND;TZID=America/New_York:20241015T150000
DTSTAMP:20260421T121458
CREATED:20241008T184200Z
LAST-MODIFIED:20241015T184738Z
UID:10003535-1728975600-1729004400@www.lasalle.edu
SUMMARY:Latinos Presente
DESCRIPTION:Latinos Presente
URL:https://www.lasalle.edu/event/latinos-presente/
LOCATION:La Salle Union Ballroom
CATEGORIES:Admissions
END:VEVENT
BEGIN:VEVENT
DTSTART;TZID=America/New_York:20241007T090000
DTEND;TZID=America/New_York:20241007T123000
DTSTAMP:20260421T121458
CREATED:20241003T064308Z
LAST-MODIFIED:20241007T155204Z
UID:10003502-1728291600-1728304200@www.lasalle.edu
SUMMARY:Lankenau HS Visit
DESCRIPTION:Lankenau HS Visit
URL:https://www.lasalle.edu/event/lankenau-hs-visit/
LOCATION:La Salle Union Compass Club
CATEGORIES:Admissions
END:VEVENT
BEGIN:VEVENT
DTSTART;TZID=America/New_York:20240926T130000
DTEND;TZID=America/New_York:20240926T140000
DTSTAMP:20260421T121458
CREATED:20240924T204453Z
LAST-MODIFIED:20240926T174922Z
UID:10003442-1727355600-1727359200@www.lasalle.edu
SUMMARY:Enrollment Group Tour
DESCRIPTION:Enrollment Group Tour
URL:https://www.lasalle.edu/event/enrollment-group-tour/
LOCATION:Founders’ Hall Auditorium (105)
CATEGORIES:Admissions
END:VEVENT
BEGIN:VEVENT
DTSTART;TZID=America/New_York:20240921T090000
DTEND;TZID=America/New_York:20240921T120000
DTSTAMP:20260421T121458
CREATED:20240920T164028Z
LAST-MODIFIED:20240921T154100Z
UID:10003428-1726909200-1726920000@www.lasalle.edu
SUMMARY:Admissions Tour
DESCRIPTION:Admissions Tour
URL:https://www.lasalle.edu/event/admissions-tour/
LOCATION:Holroyd Science Center 190
CATEGORIES:Admissions
END:VEVENT
BEGIN:VEVENT
DTSTART;TZID=America/New_York:20240824T120000
DTEND;TZID=America/New_York:20240824T130000
DTSTAMP:20260421T121458
CREATED:20240730T204611Z
LAST-MODIFIED:20240824T164155Z
UID:10002992-1724500800-1724504400@www.lasalle.edu
SUMMARY:SWK Joint Orientation
DESCRIPTION:SWK Dept. is holding a joint orientation program for ACCEL-BSW and MSW programs.
URL:https://www.lasalle.edu/event/swk-joint-orientation/
LOCATION:Holroyd Science Center Atrium
CATEGORIES:Admissions
END:VEVENT
BEGIN:VEVENT
DTSTART;TZID=America/New_York:20240824T080000
DTEND;TZID=America/New_York:20240824T100000
DTSTAMP:20260421T121458
CREATED:20240523T144221Z
LAST-MODIFIED:20240824T124659Z
UID:10002934-1724486400-1724493600@www.lasalle.edu
SUMMARY:Social Work Orientation Event
DESCRIPTION:the social work department having program orientation for BSW/MSW students
URL:https://www.lasalle.edu/event/social-work-orientation-event-3/
LOCATION:Hayman Hall 323
CATEGORIES:Admissions
END:VEVENT
BEGIN:VEVENT
DTSTART;TZID=America/New_York:20240824T080000
DTEND;TZID=America/New_York:20240824T100000
DTSTAMP:20260421T121458
CREATED:20240523T144220Z
LAST-MODIFIED:20240824T124658Z
UID:10002933-1724486400-1724493600@www.lasalle.edu
SUMMARY:Social Work Orientation Event
DESCRIPTION:the social work department having program orientation for BSW/MSW students
URL:https://www.lasalle.edu/event/social-work-orientation-event-2/
LOCATION:Hayman Hall 325
CATEGORIES:Admissions
END:VEVENT
BEGIN:VEVENT
DTSTART;TZID=America/New_York:20240824T080000
DTEND;TZID=America/New_York:20240824T100000
DTSTAMP:20260421T121458
CREATED:20240523T134217Z
LAST-MODIFIED:20240824T124658Z
UID:10002932-1724486400-1724493600@www.lasalle.edu
SUMMARY:Social Work Orientation Event
DESCRIPTION:the social work department having program orientation for BSW/MSW students
URL:https://www.lasalle.edu/event/social-work-orientation-event/
LOCATION:Hayman Hall 327
CATEGORIES:Admissions
END:VEVENT
BEGIN:VEVENT
DTSTART;TZID=America/New_York:20240821T090000
DTEND;TZID=America/New_York:20240821T170000
DTSTAMP:20260421T121458
CREATED:20240722T193903Z
LAST-MODIFIED:20240821T204224Z
UID:10002990-1724230800-1724259600@www.lasalle.edu
SUMMARY:ACE Training
DESCRIPTION:ACE Training
URL:https://www.lasalle.edu/event/ace-training-2/
LOCATION:La Salle Union Compass Club
CATEGORIES:Admissions
END:VEVENT
BEGIN:VEVENT
DTSTART;TZID=America/New_York:20240821T070000
DTEND;TZID=America/New_York:20240821T110000
DTSTAMP:20260421T121458
CREATED:20240729T154405Z
LAST-MODIFIED:20240821T144619Z
UID:10002991-1724223600-1724238000@www.lasalle.edu
SUMMARY:ACE Training
DESCRIPTION:ACE Training
URL:https://www.lasalle.edu/event/ace-training-3/
LOCATION:La Salle Union Dunleavy Room
CATEGORIES:Admissions
END:VEVENT
BEGIN:VEVENT
DTSTART;TZID=America/New_York:20240819T090000
DTEND;TZID=America/New_York:20240819T170000
DTSTAMP:20260421T121458
CREATED:20240722T193902Z
LAST-MODIFIED:20240723T144047Z
UID:10002989-1724058000-1724086800@www.lasalle.edu
SUMMARY:ACE Training
DESCRIPTION:ACE Training
URL:https://www.lasalle.edu/event/ace-training/
LOCATION:La Salle Union Compass Club
CATEGORIES:Admissions
END:VEVENT
BEGIN:VEVENT
DTSTART;TZID=America/New_York:20240710T113000
DTEND;TZID=America/New_York:20240710T133000
DTSTAMP:20260421T121458
CREATED:20240614T103538Z
LAST-MODIFIED:20240710T164300Z
UID:10002955-1720611000-1720618200@www.lasalle.edu
SUMMARY:Admissions
DESCRIPTION:tour
URL:https://www.lasalle.edu/event/admissions-2/
LOCATION:Founders’ Hall Auditorium (105)
CATEGORIES:Admissions
END:VEVENT
BEGIN:VEVENT
DTSTART;TZID=America/New_York:20240429T093000
DTEND;TZID=America/New_York:20240429T110000
DTSTAMP:20260421T121458
CREATED:20240426T093349Z
LAST-MODIFIED:20240429T153318Z
UID:10002887-1714383000-1714388400@www.lasalle.edu
SUMMARY:Admissions Group Tour
DESCRIPTION:Admissions Group Tour
URL:https://www.lasalle.edu/event/admissions-group-tour-4/
LOCATION:Founders’ Hall Auditorium (105)
CATEGORIES:Admissions
END:VEVENT
BEGIN:VEVENT
DTSTART;TZID=America/New_York:20240427T090000
DTEND;TZID=America/New_York:20240427T140000
DTSTAMP:20260421T121458
CREATED:20240404T200848Z
LAST-MODIFIED:20240404T200851Z
UID:10002786-1714208400-1714226400@www.lasalle.edu
SUMMARY:Spring Open House
DESCRIPTION:La Salle University is hosting an Open House for high school students and students interested in transferring into the full-time day program at our institution.  The event includes an opportunity to meet with faculty from your academic area of interest\, learn about admissions and financial aid\, hear from current students\, take a camps tour\, and more! 
URL:https://www.lasalle.edu/event/spring-open-house/
CATEGORIES:Admissions
ATTACH;FMTTYPE=image/png:https://www.lasalle.edu/wp-content/uploads/2024/04/Untitled-2.png
END:VEVENT
BEGIN:VEVENT
DTSTART;TZID=America/New_York:20240425T093000
DTEND;TZID=America/New_York:20240425T110000
DTSTAMP:20260421T121458
CREATED:20240423T184315Z
LAST-MODIFIED:20240425T143721Z
UID:10002866-1714037400-1714042800@www.lasalle.edu
SUMMARY:Admissions Group Tour
DESCRIPTION:Admissions Group Tour
URL:https://www.lasalle.edu/event/admissions-group-tour-3/
LOCATION:Founders’ Hall Auditorium (105)
CATEGORIES:Admissions
END:VEVENT
BEGIN:VEVENT
DTSTART;TZID=America/New_York:20240419T143000
DTEND;TZID=America/New_York:20240419T153000
DTSTAMP:20260421T121458
CREATED:20240418T185138Z
LAST-MODIFIED:20240419T183844Z
UID:10002847-1713537000-1713540600@www.lasalle.edu
SUMMARY:Admissions Group Tour
DESCRIPTION:Admissions Group Tour
URL:https://www.lasalle.edu/event/admissions-group-tour-2/
LOCATION:Founders’ Hall Auditorium (105)
CATEGORIES:Admissions
END:VEVENT
BEGIN:VEVENT
DTSTART;TZID=America/New_York:20240419T093000
DTEND;TZID=America/New_York:20240419T110000
DTSTAMP:20260421T121458
CREATED:20240418T185137Z
LAST-MODIFIED:20240419T143829Z
UID:10002845-1713519000-1713524400@www.lasalle.edu
SUMMARY:Admissions Group Tour
DESCRIPTION:Admissions Group Tour
URL:https://www.lasalle.edu/event/admissions-group-tour/
LOCATION:Founders’ Hall Auditorium (105)
CATEGORIES:Admissions
END:VEVENT
BEGIN:VEVENT
DTSTART;TZID=America/New_York:20240413T090000
DTEND;TZID=America/New_York:20240413T140000
DTSTAMP:20260421T121458
CREATED:20240308T154502Z
LAST-MODIFIED:20240308T154704Z
UID:10002719-1712998800-1713016800@www.lasalle.edu
SUMMARY:Blue and Gold Admitted Student Days
DESCRIPTION:You’ve been admitted. Now find out what it’s like to be part of the Explorer Family.
URL:https://www.lasalle.edu/event/blue-and-gold-admitted-student-days/2024-04-13/
CATEGORIES:Admissions
ATTACH;FMTTYPE=image/png:https://www.lasalle.edu/wp-content/uploads/2024/03/Untitled-2-1.png
END:VEVENT
END:VCALENDAR