BEGIN:VCALENDAR
VERSION:2.0
PRODID:-//La Salle University - ECPv6.15.20//NONSGML v1.0//EN
CALSCALE:GREGORIAN
METHOD:PUBLISH
X-WR-CALNAME:La Salle University
X-ORIGINAL-URL:https://www.lasalle.edu
X-WR-CALDESC:Events for La Salle University
REFRESH-INTERVAL;VALUE=DURATION:PT1H
X-Robots-Tag:noindex
X-PUBLISHED-TTL:PT1H
BEGIN:VTIMEZONE
TZID:America/New_York
BEGIN:DAYLIGHT
TZOFFSETFROM:-0500
TZOFFSETTO:-0400
TZNAME:EDT
DTSTART:20240310T070000
END:DAYLIGHT
BEGIN:STANDARD
TZOFFSETFROM:-0400
TZOFFSETTO:-0500
TZNAME:EST
DTSTART:20241103T060000
END:STANDARD
BEGIN:DAYLIGHT
TZOFFSETFROM:-0500
TZOFFSETTO:-0400
TZNAME:EDT
DTSTART:20250309T070000
END:DAYLIGHT
BEGIN:STANDARD
TZOFFSETFROM:-0400
TZOFFSETTO:-0500
TZNAME:EST
DTSTART:20251102T060000
END:STANDARD
BEGIN:DAYLIGHT
TZOFFSETFROM:-0500
TZOFFSETTO:-0400
TZNAME:EDT
DTSTART:20260308T070000
END:DAYLIGHT
BEGIN:STANDARD
TZOFFSETFROM:-0400
TZOFFSETTO:-0500
TZNAME:EST
DTSTART:20261101T060000
END:STANDARD
END:VTIMEZONE
BEGIN:VEVENT
DTSTART;TZID=America/New_York:20250304T083000
DTEND;TZID=America/New_York:20250304T100000
DTSTAMP:20260421T135249
CREATED:20250224T094629Z
LAST-MODIFIED:20250304T143423Z
UID:10004292-1741077000-1741082400@www.lasalle.edu
SUMMARY:Admission visit tour
DESCRIPTION:Admission visit tour
URL:https://www.lasalle.edu/event/admission-visit-tour-3/
LOCATION:Founders’ Hall Auditorium (105)
CATEGORIES:Admissions
END:VEVENT
BEGIN:VEVENT
DTSTART;TZID=America/New_York:20250304T120000
DTEND;TZID=America/New_York:20250304T140000
DTSTAMP:20260421T135249
CREATED:20250303T224135Z
LAST-MODIFIED:20250304T183649Z
UID:10004326-1741089600-1741096800@www.lasalle.edu
SUMMARY:Admissions
DESCRIPTION:Admissions
URL:https://www.lasalle.edu/event/admissions-4/
LOCATION:La Salle Union Lobby
CATEGORIES:Admissions
END:VEVENT
BEGIN:VEVENT
DTSTART;TZID=America/New_York:20250305T090000
DTEND;TZID=America/New_York:20250305T213000
DTSTAMP:20260421T135249
CREATED:20250225T074118Z
LAST-MODIFIED:20250306T013615Z
UID:10004300-1741165200-1741210200@www.lasalle.edu
SUMMARY:SOHS Mixer Reception
DESCRIPTION:Business Mixer Reception
URL:https://www.lasalle.edu/event/sohs-mixer-reception-2/
LOCATION:Founders’ Hall Auditorium (105)
CATEGORIES:Admissions
END:VEVENT
BEGIN:VEVENT
DTSTART;TZID=America/New_York:20250305T090000
DTEND;TZID=America/New_York:20250305T213000
DTSTAMP:20260421T135249
CREATED:20250225T074118Z
LAST-MODIFIED:20250306T013615Z
UID:10004299-1741165200-1741210200@www.lasalle.edu
SUMMARY:SOHS Mixer Reception
DESCRIPTION:Business Mixer Reception
URL:https://www.lasalle.edu/event/sohs-mixer-reception/
LOCATION:Founders’ Hall Atrium
CATEGORIES:Admissions
END:VEVENT
BEGIN:VEVENT
DTSTART;TZID=America/New_York:20250305T180000
DTEND;TZID=America/New_York:20250305T200000
DTSTAMP:20260421T135249
CREATED:20250227T213436Z
LAST-MODIFIED:20250306T003317Z
UID:10004310-1741197600-1741204800@www.lasalle.edu
SUMMARY:Nursing Reception
DESCRIPTION:Nursing Reception
URL:https://www.lasalle.edu/event/nursing-reception-2/
LOCATION:St. Benilde Tower Atrium
CATEGORIES:Admissions
END:VEVENT
BEGIN:VEVENT
DTSTART;TZID=America/New_York:20250306T083000
DTEND;TZID=America/New_York:20250306T100000
DTSTAMP:20260421T135249
CREATED:20250227T214122Z
LAST-MODIFIED:20250306T143323Z
UID:10004311-1741249800-1741255200@www.lasalle.edu
SUMMARY:Admission visit tour
DESCRIPTION:Admission visit tour
URL:https://www.lasalle.edu/event/admission-visit-tour-4/
LOCATION:Founders’ Hall Auditorium (105)
CATEGORIES:Admissions
END:VEVENT
BEGIN:VEVENT
DTSTART;TZID=America/New_York:20250306T120000
DTEND;TZID=America/New_York:20250306T140000
DTSTAMP:20260421T135249
CREATED:20250304T023301Z
LAST-MODIFIED:20250306T183643Z
UID:10004327-1741262400-1741269600@www.lasalle.edu
SUMMARY:Admissions
DESCRIPTION:Admissions
URL:https://www.lasalle.edu/event/admissions-5/
LOCATION:La Salle Union Lobby Table
CATEGORIES:Admissions
END:VEVENT
BEGIN:VEVENT
DTSTART;TZID=America/New_York:20250312T090000
DTEND;TZID=America/New_York:20250312T213000
DTSTAMP:20260421T135249
CREATED:20250304T163607Z
LAST-MODIFIED:20250313T004019Z
UID:10004341-1741770000-1741815000@www.lasalle.edu
SUMMARY:Arts and Science Reception
DESCRIPTION:Arts and Science Reception
URL:https://www.lasalle.edu/event/arts-and-science-reception/
LOCATION:Hayman Hall Art Museum
CATEGORIES:Admissions
END:VEVENT
BEGIN:VEVENT
DTSTART;TZID=America/New_York:20250326T120000
DTEND;TZID=America/New_York:20250326T140000
DTSTAMP:20260421T135249
CREATED:20250309T085500Z
LAST-MODIFIED:20250326T175051Z
UID:10004378-1742990400-1742997600@www.lasalle.edu
SUMMARY:Admissions
DESCRIPTION:Admissions
URL:https://www.lasalle.edu/event/admissions-6/
LOCATION:La Salle Union Lobby Table
CATEGORIES:Admissions
END:VEVENT
BEGIN:VEVENT
DTSTART;TZID=America/New_York:20250327T070000
DTEND;TZID=America/New_York:20250327T170000
DTSTAMP:20260421T135249
CREATED:20250309T091301Z
LAST-MODIFIED:20250327T204659Z
UID:10004384-1743058800-1743094800@www.lasalle.edu
SUMMARY:Explorer for a Day 3
DESCRIPTION:Explorer for a Day 3
URL:https://www.lasalle.edu/event/explorer-for-a-day-3-2/
LOCATION:La Salle Union Compass Club
CATEGORIES:Admissions
END:VEVENT
BEGIN:VEVENT
DTSTART;TZID=America/New_York:20250327T070000
DTEND;TZID=America/New_York:20250327T170000
DTSTAMP:20260421T135249
CREATED:20250309T091301Z
LAST-MODIFIED:20250327T204658Z
UID:10004383-1743058800-1743094800@www.lasalle.edu
SUMMARY:Explorer for a Day 3
DESCRIPTION:Explorer for a Day 3
URL:https://www.lasalle.edu/event/explorer-for-a-day-3/
LOCATION:La Salle Union Music Room
CATEGORIES:Admissions
END:VEVENT
BEGIN:VEVENT
DTSTART;TZID=America/New_York:20250327T070000
DTEND;TZID=America/New_York:20250327T170000
DTSTAMP:20260421T135249
CREATED:20250309T091302Z
LAST-MODIFIED:20250327T204659Z
UID:10004385-1743058800-1743094800@www.lasalle.edu
SUMMARY:Explorer for a Day 3
DESCRIPTION:Explorer for a Day 3
URL:https://www.lasalle.edu/event/explorer-for-a-day-3-3/
LOCATION:La Salle Union Dunleavy Room
CATEGORIES:Admissions
END:VEVENT
BEGIN:VEVENT
DTSTART;TZID=America/New_York:20250401T083000
DTEND;TZID=America/New_York:20250401T100000
DTSTAMP:20260421T135249
CREATED:20250309T094531Z
LAST-MODIFIED:20250401T135126Z
UID:10004401-1743496200-1743501600@www.lasalle.edu
SUMMARY:Admission visit tour
DESCRIPTION:Admission visit tour
URL:https://www.lasalle.edu/event/admission-visit-tour-5/
LOCATION:Founders’ Hall Auditorium (105)
CATEGORIES:Admissions
END:VEVENT
BEGIN:VEVENT
DTSTART;TZID=America/New_York:20250403T083000
DTEND;TZID=America/New_York:20250403T100000
DTSTAMP:20260421T135249
CREATED:20250309T103520Z
LAST-MODIFIED:20250403T134727Z
UID:10004409-1743669000-1743674400@www.lasalle.edu
SUMMARY:Admission visit tour
DESCRIPTION:Admission visit tour
URL:https://www.lasalle.edu/event/admission-visit-tour-6/
LOCATION:Founders’ Hall Auditorium (105)
CATEGORIES:Admissions
END:VEVENT
BEGIN:VEVENT
DTSTART;TZID=America/New_York:20250403T090000
DTEND;TZID=America/New_York:20250403T170000
DTSTAMP:20260421T135249
CREATED:20250401T034638Z
LAST-MODIFIED:20250403T204810Z
UID:10004442-1743670800-1743699600@www.lasalle.edu
SUMMARY:SET UP DAY: Blue and Gold 1
DESCRIPTION:SET UP DAY: Blue and Gold 1
URL:https://www.lasalle.edu/event/set-up-day-blue-and-gold-1-9/
LOCATION:La Salle Union Ballroom
CATEGORIES:Admissions
END:VEVENT
BEGIN:VEVENT
DTSTART;TZID=America/New_York:20250403T103000
DTEND;TZID=America/New_York:20250403T121500
DTSTAMP:20260421T135249
CREATED:20250309T103521Z
LAST-MODIFIED:20250403T154633Z
UID:10004410-1743676200-1743682500@www.lasalle.edu
SUMMARY:Admission visit tour
DESCRIPTION:Admission visit tour
URL:https://www.lasalle.edu/event/admission-visit-tour-7/
LOCATION:La Salle Union Compass Club
CATEGORIES:Admissions
END:VEVENT
BEGIN:VEVENT
DTSTART;TZID=America/New_York:20250404T090000
DTEND;TZID=America/New_York:20250404T170000
DTSTAMP:20260421T135249
CREATED:20250309T104359Z
LAST-MODIFIED:20250404T213926Z
UID:10004413-1743757200-1743786000@www.lasalle.edu
SUMMARY:SET UP DAY: Blue and Gold 1
DESCRIPTION:SET UP DAY: Blue and Gold 1
URL:https://www.lasalle.edu/event/set-up-day-blue-and-gold-1/
LOCATION:La Salle Union Dan Rodden Theatre
CATEGORIES:Admissions
END:VEVENT
BEGIN:VEVENT
DTSTART;TZID=America/New_York:20250404T090000
DTEND;TZID=America/New_York:20250404T170000
DTSTAMP:20260421T135249
CREATED:20250309T104359Z
LAST-MODIFIED:20250404T205019Z
UID:10004414-1743757200-1743786000@www.lasalle.edu
SUMMARY:SET UP DAY: Blue and Gold 1
DESCRIPTION:SET UP DAY: Blue and Gold 1
URL:https://www.lasalle.edu/event/set-up-day-blue-and-gold-1-2/
LOCATION:TruMark Financial Center John Glaser Arena
CATEGORIES:Admissions
END:VEVENT
BEGIN:VEVENT
DTSTART;TZID=America/New_York:20250404T090000
DTEND;TZID=America/New_York:20250404T170000
DTSTAMP:20260421T135249
CREATED:20250309T104400Z
LAST-MODIFIED:20250404T205018Z
UID:10004415-1743757200-1743786000@www.lasalle.edu
SUMMARY:SET UP DAY: Blue and Gold 1
DESCRIPTION:SET UP DAY: Blue and Gold 1
URL:https://www.lasalle.edu/event/set-up-day-blue-and-gold-1-3/
LOCATION:La Salle Hansen Quad
CATEGORIES:Admissions
END:VEVENT
BEGIN:VEVENT
DTSTART;TZID=America/New_York:20250404T090000
DTEND;TZID=America/New_York:20250404T170000
DTSTAMP:20260421T135249
CREATED:20250309T105457Z
LAST-MODIFIED:20250404T213927Z
UID:10004417-1743757200-1743786000@www.lasalle.edu
SUMMARY:SET UP DAY: Blue and Gold 1
DESCRIPTION:SET UP DAY: Blue and Gold 1
URL:https://www.lasalle.edu/event/set-up-day-blue-and-gold-1-4/
LOCATION:La Salle Union Music Room
CATEGORIES:Admissions
END:VEVENT
BEGIN:VEVENT
DTSTART;TZID=America/New_York:20250404T090000
DTEND;TZID=America/New_York:20250404T170000
DTSTAMP:20260421T135249
CREATED:20250309T105458Z
LAST-MODIFIED:20250404T213928Z
UID:10004418-1743757200-1743786000@www.lasalle.edu
SUMMARY:SET UP DAY: Blue and Gold 1
DESCRIPTION:SET UP DAY: Blue and Gold 1
URL:https://www.lasalle.edu/event/set-up-day-blue-and-gold-1-5/
LOCATION:La Salle Union Compass Club
CATEGORIES:Admissions
END:VEVENT
BEGIN:VEVENT
DTSTART;TZID=America/New_York:20250404T090000
DTEND;TZID=America/New_York:20250404T170000
DTSTAMP:20260421T135249
CREATED:20250309T105458Z
LAST-MODIFIED:20250404T205020Z
UID:10004419-1743757200-1743786000@www.lasalle.edu
SUMMARY:SET UP DAY: Blue and Gold 1
DESCRIPTION:SET UP DAY: Blue and Gold 1
URL:https://www.lasalle.edu/event/set-up-day-blue-and-gold-1-6/
LOCATION:La Salle Union Union Patio
CATEGORIES:Admissions
END:VEVENT
BEGIN:VEVENT
DTSTART;TZID=America/New_York:20250404T090000
DTEND;TZID=America/New_York:20250404T170000
DTSTAMP:20260421T135249
CREATED:20250309T105459Z
LAST-MODIFIED:20250404T205018Z
UID:10004420-1743757200-1743786000@www.lasalle.edu
SUMMARY:SET UP DAY: Blue and Gold 1
DESCRIPTION:SET UP DAY: Blue and Gold 1
URL:https://www.lasalle.edu/event/set-up-day-blue-and-gold-1-7/
LOCATION:La Salle Union Ballroom
CATEGORIES:Admissions
END:VEVENT
BEGIN:VEVENT
DTSTART;TZID=America/New_York:20250404T090000
DTEND;TZID=America/New_York:20250404T170000
DTSTAMP:20260421T135249
CREATED:20250309T113339Z
LAST-MODIFIED:20250404T213927Z
UID:10004422-1743757200-1743786000@www.lasalle.edu
SUMMARY:SET UP DAY: Blue and Gold 1
DESCRIPTION:SET UP DAY: Blue and Gold 1
URL:https://www.lasalle.edu/event/set-up-day-blue-and-gold-1-8/
LOCATION:La Salle Union Lobby
CATEGORIES:Admissions
END:VEVENT
BEGIN:VEVENT
DTSTART;TZID=America/New_York:20250405T070000
DTEND;TZID=America/New_York:20250405T140000
DTSTAMP:20260421T135249
CREATED:20250403T194009Z
LAST-MODIFIED:20250405T174538Z
UID:10004451-1743836400-1743861600@www.lasalle.edu
SUMMARY:Blue and Gold 1
DESCRIPTION:Blue and Gold 1
URL:https://www.lasalle.edu/event/blue-and-gold-1-8/
LOCATION:La Salle Union Dan Rodden Theatre
CATEGORIES:Admissions
END:VEVENT
BEGIN:VEVENT
DTSTART;TZID=America/New_York:20250405T070000
DTEND;TZID=America/New_York:20250405T170000
DTSTAMP:20260421T135249
CREATED:20250309T113341Z
LAST-MODIFIED:20250405T204905Z
UID:10004425-1743836400-1743872400@www.lasalle.edu
SUMMARY:Blue and Gold 1
DESCRIPTION:Blue and Gold 1
URL:https://www.lasalle.edu/event/blue-and-gold-1/
LOCATION:La Salle Hansen Quad
CATEGORIES:Admissions
END:VEVENT
BEGIN:VEVENT
DTSTART;TZID=America/New_York:20250405T070000
DTEND;TZID=America/New_York:20250405T170000
DTSTAMP:20260421T135249
CREATED:20250403T181912Z
LAST-MODIFIED:20250405T204905Z
UID:10004445-1743836400-1743872400@www.lasalle.edu
SUMMARY:Blue and Gold 1
DESCRIPTION:Blue and Gold 1
URL:https://www.lasalle.edu/event/blue-and-gold-1-2/
LOCATION:TruMark Financial Center John Glaser Arena
CATEGORIES:Admissions
END:VEVENT
BEGIN:VEVENT
DTSTART;TZID=America/New_York:20250405T070000
DTEND;TZID=America/New_York:20250405T170000
DTSTAMP:20260421T135249
CREATED:20250403T185557Z
LAST-MODIFIED:20250405T204426Z
UID:10004446-1743836400-1743872400@www.lasalle.edu
SUMMARY:Blue and Gold 1
DESCRIPTION:Blue and Gold 1
URL:https://www.lasalle.edu/event/blue-and-gold-1-3/
LOCATION:La Salle Union Ballroom
CATEGORIES:Admissions
END:VEVENT
BEGIN:VEVENT
DTSTART;TZID=America/New_York:20250405T070000
DTEND;TZID=America/New_York:20250405T170000
DTSTAMP:20260421T135249
CREATED:20250403T194006Z
LAST-MODIFIED:20250405T204426Z
UID:10004447-1743836400-1743872400@www.lasalle.edu
SUMMARY:Blue and Gold 1
DESCRIPTION:Blue and Gold 1
URL:https://www.lasalle.edu/event/blue-and-gold-1-4/
LOCATION:La Salle Union Union Patio
CATEGORIES:Admissions
END:VEVENT
BEGIN:VEVENT
DTSTART;TZID=America/New_York:20250405T070000
DTEND;TZID=America/New_York:20250405T170000
DTSTAMP:20260421T135249
CREATED:20250403T194007Z
LAST-MODIFIED:20250405T204427Z
UID:10004448-1743836400-1743872400@www.lasalle.edu
SUMMARY:Blue and Gold 1
DESCRIPTION:Blue and Gold 1
URL:https://www.lasalle.edu/event/blue-and-gold-1-5/
LOCATION:La Salle Union Music Room
CATEGORIES:Admissions
END:VEVENT
END:VCALENDAR