BEGIN:VCALENDAR
VERSION:2.0
PRODID:-//La Salle University - ECPv6.15.20//NONSGML v1.0//EN
CALSCALE:GREGORIAN
METHOD:PUBLISH
X-WR-CALNAME:La Salle University
X-ORIGINAL-URL:https://www.lasalle.edu
X-WR-CALDESC:Events for La Salle University
REFRESH-INTERVAL;VALUE=DURATION:PT1H
X-Robots-Tag:noindex
X-PUBLISHED-TTL:PT1H
BEGIN:VTIMEZONE
TZID:America/New_York
BEGIN:DAYLIGHT
TZOFFSETFROM:-0500
TZOFFSETTO:-0400
TZNAME:EDT
DTSTART:20250309T070000
END:DAYLIGHT
BEGIN:STANDARD
TZOFFSETFROM:-0400
TZOFFSETTO:-0500
TZNAME:EST
DTSTART:20251102T060000
END:STANDARD
BEGIN:DAYLIGHT
TZOFFSETFROM:-0500
TZOFFSETTO:-0400
TZNAME:EDT
DTSTART:20260308T070000
END:DAYLIGHT
BEGIN:STANDARD
TZOFFSETFROM:-0400
TZOFFSETTO:-0500
TZNAME:EST
DTSTART:20261101T060000
END:STANDARD
BEGIN:DAYLIGHT
TZOFFSETFROM:-0500
TZOFFSETTO:-0400
TZNAME:EDT
DTSTART:20270314T070000
END:DAYLIGHT
BEGIN:STANDARD
TZOFFSETFROM:-0400
TZOFFSETTO:-0500
TZNAME:EST
DTSTART:20271107T060000
END:STANDARD
END:VTIMEZONE
BEGIN:VEVENT
DTSTART;TZID=America/New_York:20260424T180000
DTEND;TZID=America/New_York:20260424T210000
DTSTAMP:20260424T193030
CREATED:20260423T234701Z
LAST-MODIFIED:20260424T224159Z
UID:10005770-1777053600-1777064400@www.lasalle.edu
SUMMARY:Psychology Club-Movie Showing : Silence of the Lambs (1991)
DESCRIPTION:Movie: Silence of the Lambs 1991- Psycho;ogy Club
URL:https://www.lasalle.edu/event/psychology-club-movie-showing-silence-of-the-lambs-1991/
LOCATION:Holroyd Science Center 190
CATEGORIES:Entertainment
END:VEVENT
BEGIN:VEVENT
DTSTART;TZID=America/New_York:20260425T170000
DTEND;TZID=America/New_York:20260425T220000
DTSTAMP:20260424T193030
CREATED:20260422T044630Z
LAST-MODIFIED:20260422T083840Z
UID:10005764-1777136400-1777154400@www.lasalle.edu
SUMMARY:The masque
DESCRIPTION:The masque
URL:https://www.lasalle.edu/event/the-masque-66/
LOCATION:La Salle Union Dan Rodden Theatre
CATEGORIES:Entertainment
END:VEVENT
BEGIN:VEVENT
DTSTART;TZID=America/New_York:20260427T203000
DTEND;TZID=America/New_York:20260427T213000
DTSTAMP:20260424T193030
CREATED:20260424T214521Z
LAST-MODIFIED:20260424T224552Z
UID:10005772-1777321800-1777325400@www.lasalle.edu
SUMMARY:Athlete Yoga
DESCRIPTION:Athlete Yoga
URL:https://www.lasalle.edu/event/athlete-yoga-16/
LOCATION:La Salle Union 301
CATEGORIES:Entertainment
END:VEVENT
BEGIN:VEVENT
DTSTART;TZID=America/New_York:20260428T103000
DTEND;TZID=America/New_York:20260428T130000
DTSTAMP:20260424T193030
CREATED:20260424T214523Z
LAST-MODIFIED:20260424T224553Z
UID:10005775-1777372200-1777381200@www.lasalle.edu
SUMMARY:Campus tours
DESCRIPTION:Campus tours
URL:https://www.lasalle.edu/event/campus-tours-12/
LOCATION:Founders’ Hall Auditorium (105)
CATEGORIES:Entertainment
END:VEVENT
END:VCALENDAR