BEGIN:VCALENDAR
VERSION:2.0
PRODID:-//La Salle University - ECPv6.15.20//NONSGML v1.0//EN
CALSCALE:GREGORIAN
METHOD:PUBLISH
X-ORIGINAL-URL:https://www.lasalle.edu
X-WR-CALDESC:Events for La Salle University
REFRESH-INTERVAL;VALUE=DURATION:PT1H
X-Robots-Tag:noindex
X-PUBLISHED-TTL:PT1H
BEGIN:VTIMEZONE
TZID:America/New_York
BEGIN:DAYLIGHT
TZOFFSETFROM:-0500
TZOFFSETTO:-0400
TZNAME:EDT
DTSTART:20240310T070000
END:DAYLIGHT
BEGIN:STANDARD
TZOFFSETFROM:-0400
TZOFFSETTO:-0500
TZNAME:EST
DTSTART:20241103T060000
END:STANDARD
BEGIN:DAYLIGHT
TZOFFSETFROM:-0500
TZOFFSETTO:-0400
TZNAME:EDT
DTSTART:20250309T070000
END:DAYLIGHT
BEGIN:STANDARD
TZOFFSETFROM:-0400
TZOFFSETTO:-0500
TZNAME:EST
DTSTART:20251102T060000
END:STANDARD
BEGIN:DAYLIGHT
TZOFFSETFROM:-0500
TZOFFSETTO:-0400
TZNAME:EDT
DTSTART:20260308T070000
END:DAYLIGHT
BEGIN:STANDARD
TZOFFSETFROM:-0400
TZOFFSETTO:-0500
TZNAME:EST
DTSTART:20261101T060000
END:STANDARD
END:VTIMEZONE
BEGIN:VEVENT
DTSTART;TZID=America/New_York:20251028T110000
DTEND;TZID=America/New_York:20251028T160000
DTSTAMP:20260420T153148
CREATED:20251023T205015Z
LAST-MODIFIED:20251028T193545Z
UID:10005173-1761649200-1761667200@www.lasalle.edu
SUMMARY:Tips\, Tricks\, & Treats Career Readiness Fair
DESCRIPTION:Tips\, Tricks\, & Treats: Career Readiness Fair  Join us for an exciting opportunity to connect with employers and alumni from a wide range of career fields and industries. Meet recruiters who are seeking students for leadership programs\, internships\, co-ops\, and full-time positions.  📄 Bring copies of your resume to share with employers. 👔 Professional dress is required.  Event Highlights:  Complimentary snacks 🍬  Employers will be set up in a fun “trick-or-treat” style layout—collect candy\, swag\, and career advice while learning about open opportunities!  Career Readiness Stations in the Music Room – open to all undergraduate students! Get support with:  Resume reviews  Practicing your 30-second elevator pitch  Accessing the pop-up Career Closet for professional dress  Free professional headshots (12:00–3:00 p.m.) 📸  Career Closet available to all students  📍 Location: Founders Hall Atrium & Music Room
URL:https://www.lasalle.edu/event/tips-tricks-treats-career-readiness-fair/
LOCATION:La Salle Union Lobby Table
CATEGORIES:Job/Career
END:VEVENT
BEGIN:VEVENT
DTSTART;TZID=America/New_York:20251028T110000
DTEND;TZID=America/New_York:20251028T160000
DTSTAMP:20260420T153148
CREATED:20251023T234904Z
LAST-MODIFIED:20251028T193544Z
UID:10005174-1761649200-1761667200@www.lasalle.edu
SUMMARY:Tips\, Tricks\, & Treats Career Readiness Fair
DESCRIPTION:Tips\, Tricks\, & Treats: Career Readiness Fair  Join us for an exciting opportunity to connect with employers and alumni from a wide range of career fields and industries. Meet recruiters who are seeking students for leadership programs\, internships\, co-ops\, and full-time positions.  📄 Bring copies of your resume to share with employers. 👔 Professional dress is required.  Event Highlights:  Complimentary snacks 🍬  Employers will be set up in a fun “trick-or-treat” style layout—collect candy\, swag\, and career advice while learning about open opportunities!  Career Readiness Stations in the Music Room – open to all undergraduate students! Get support with:  Resume reviews  Practicing your 30-second elevator pitch  Accessing the pop-up Career Closet for professional dress  Free professional headshots (12:00–3:00 p.m.) 📸  Career Closet available to all students  📍 Location: Founders Hall Atrium & Music Room
URL:https://www.lasalle.edu/event/tips-tricks-treats-career-readiness-fair-2/
LOCATION:La Salle Union Compass Club
CATEGORIES:Job/Career
END:VEVENT
BEGIN:VEVENT
DTSTART;TZID=America/New_York:20251028T110000
DTEND;TZID=America/New_York:20251028T160000
DTSTAMP:20260420T153149
CREATED:20251024T013910Z
LAST-MODIFIED:20251028T193544Z
UID:10005175-1761649200-1761667200@www.lasalle.edu
SUMMARY:Tips\, Tricks\, & Treats Career Readiness Fair
DESCRIPTION:Tips\, Tricks\, & Treats: Career Readiness Fair  Join us for an exciting opportunity to connect with employers and alumni from a wide range of career fields and industries. Meet recruiters who are seeking students for leadership programs\, internships\, co-ops\, and full-time positions.  📄 Bring copies of your resume to share with employers. 👔 Professional dress is required.  Event Highlights:  Complimentary snacks 🍬  Employers will be set up in a fun “trick-or-treat” style layout—collect candy\, swag\, and career advice while learning about open opportunities!  Career Readiness Stations in the Music Room – open to all undergraduate students! Get support with:  Resume reviews  Practicing your 30-second elevator pitch  Accessing the pop-up Career Closet for professional dress  Free professional headshots (12:00–3:00 p.m.) 📸  Career Closet available to all students  📍 Location: Founders Hall Atrium & Music Room
URL:https://www.lasalle.edu/event/tips-tricks-treats-career-readiness-fair-3/
LOCATION:La Salle Union Music Room
CATEGORIES:Job/Career
END:VEVENT
BEGIN:VEVENT
DTSTART;TZID=America/New_York:20251028T110000
DTEND;TZID=America/New_York:20251028T160000
DTSTAMP:20260420T153149
CREATED:20251024T014633Z
LAST-MODIFIED:20251028T193544Z
UID:10005176-1761649200-1761667200@www.lasalle.edu
SUMMARY:Tips\, Tricks\, & Treats Career Readiness Fair
DESCRIPTION:Tips\, Tricks\, & Treats: Career Readiness Fair  Join us for an exciting opportunity to connect with employers and alumni from a wide range of career fields and industries. Meet recruiters who are seeking students for leadership programs\, internships\, co-ops\, and full-time positions.  📄 Bring copies of your resume to share with employers. 👔 Professional dress is required.  Event Highlights:  Complimentary snacks 🍬  Employers will be set up in a fun “trick-or-treat” style layout—collect candy\, swag\, and career advice while learning about open opportunities!  Career Readiness Stations in the Music Room – open to all undergraduate students! Get support with:  Resume reviews  Practicing your 30-second elevator pitch  Accessing the pop-up Career Closet for professional dress  Free professional headshots (12:00–3:00 p.m.) 📸  Career Closet available to all students  📍 Location: Founders Hall Atrium & Music Room
URL:https://www.lasalle.edu/event/tips-tricks-treats-career-readiness-fair-4/
LOCATION:La Salle Union Ballroom
CATEGORIES:Job/Career
END:VEVENT
BEGIN:VEVENT
DTSTART;TZID=America/New_York:20251031T100000
DTEND;TZID=America/New_York:20251031T120000
DTSTAMP:20260420T153149
CREATED:20251028T205203Z
LAST-MODIFIED:20251031T153216Z
UID:10005192-1761904800-1761912000@www.lasalle.edu
SUMMARY:Director of Conduct and Community Affairs Search
DESCRIPTION:Director of Conduct and Community Affairs Search
URL:https://www.lasalle.edu/event/director-of-conduct-and-community-affairs-search/
LOCATION:La Salle Union 310
CATEGORIES:Job/Career
END:VEVENT
BEGIN:VEVENT
DTSTART;TZID=America/New_York:20251031T131500
DTEND;TZID=America/New_York:20251031T141500
DTSTAMP:20260420T153149
CREATED:20251029T005014Z
LAST-MODIFIED:20251031T173447Z
UID:10005194-1761916500-1761920100@www.lasalle.edu
SUMMARY:Director of Conduct and Community Affairs Search
DESCRIPTION:Director of Conduct and Community Affairs Search
URL:https://www.lasalle.edu/event/director-of-conduct-and-community-affairs-search-2/
LOCATION:La Salle Union 310
CATEGORIES:Job/Career
END:VEVENT
END:VCALENDAR