BEGIN:VCALENDAR
VERSION:2.0
PRODID:-//La Salle University - ECPv6.15.20//NONSGML v1.0//EN
CALSCALE:GREGORIAN
METHOD:PUBLISH
X-ORIGINAL-URL:https://www.lasalle.edu
X-WR-CALDESC:Events for La Salle University
REFRESH-INTERVAL;VALUE=DURATION:PT1H
X-Robots-Tag:noindex
X-PUBLISHED-TTL:PT1H
BEGIN:VTIMEZONE
TZID:America/New_York
BEGIN:DAYLIGHT
TZOFFSETFROM:-0500
TZOFFSETTO:-0400
TZNAME:EDT
DTSTART:20230312T070000
END:DAYLIGHT
BEGIN:STANDARD
TZOFFSETFROM:-0400
TZOFFSETTO:-0500
TZNAME:EST
DTSTART:20231105T060000
END:STANDARD
BEGIN:DAYLIGHT
TZOFFSETFROM:-0500
TZOFFSETTO:-0400
TZNAME:EDT
DTSTART:20240310T070000
END:DAYLIGHT
BEGIN:STANDARD
TZOFFSETFROM:-0400
TZOFFSETTO:-0500
TZNAME:EST
DTSTART:20241103T060000
END:STANDARD
BEGIN:DAYLIGHT
TZOFFSETFROM:-0500
TZOFFSETTO:-0400
TZNAME:EDT
DTSTART:20250309T070000
END:DAYLIGHT
BEGIN:STANDARD
TZOFFSETFROM:-0400
TZOFFSETTO:-0500
TZNAME:EST
DTSTART:20251102T060000
END:STANDARD
END:VTIMEZONE
BEGIN:VEVENT
DTSTART;TZID=America/New_York:20241205T110000
DTEND;TZID=America/New_York:20241205T130000
DTSTAMP:20260420T114823
CREATED:20241123T153413Z
LAST-MODIFIED:20241205T173652Z
UID:10003924-1733396400-1733403600@www.lasalle.edu
SUMMARY:Career Center Drop-In/Resume Reviews
DESCRIPTION:Stop by the Career Center table in the Union Lobby for drop-in hours with our Career Peers! They can review your resume and help you navigate Handshake.
URL:https://www.lasalle.edu/event/career-center-drop-in-resume-reviews-12/
LOCATION:La Salle Union Lobby
CATEGORIES:Job/Career
END:VEVENT
BEGIN:VEVENT
DTSTART;TZID=America/New_York:20241128T110000
DTEND;TZID=America/New_York:20241128T130000
DTSTAMP:20260420T114823
CREATED:20241105T014128Z
LAST-MODIFIED:20241128T173448Z
UID:10003876-1732791600-1732798800@www.lasalle.edu
SUMMARY:Career Center Drop-In/Resume Reviews
DESCRIPTION:Stop by the Career Center table in the Union Lobby for drop-in hours with our Career Peers! They can review your resume and help you navigate Handshake.
URL:https://www.lasalle.edu/event/career-center-drop-in-resume-reviews-11/
LOCATION:La Salle Union Lobby
CATEGORIES:Job/Career
END:VEVENT
BEGIN:VEVENT
DTSTART;TZID=America/New_York:20241121T173000
DTEND;TZID=America/New_York:20241121T203000
DTSTAMP:20260420T114823
CREATED:20241105T010115Z
LAST-MODIFIED:20241122T003552Z
UID:10003860-1732210200-1732221000@www.lasalle.edu
SUMMARY:Health\, Science\, & Human Services (HSHS) Networking Night
DESCRIPTION:Health\, Science\, & Human Services (HSHS) Networking Night
URL:https://www.lasalle.edu/event/health-science-human-services-hshs-networking-night/
LOCATION:Founders’ Hall Atrium
CATEGORIES:Job/Career
END:VEVENT
BEGIN:VEVENT
DTSTART;TZID=America/New_York:20241121T110000
DTEND;TZID=America/New_York:20241121T130000
DTSTAMP:20260420T114823
CREATED:20241105T004524Z
LAST-MODIFIED:20241121T173559Z
UID:10003853-1732186800-1732194000@www.lasalle.edu
SUMMARY:Career Center Drop-In/Resume Reviews
DESCRIPTION:Stop by the Career Center table in the Union Lobby for drop-in hours with our Career Peers! They can review your resume and help you navigate Handshake.
URL:https://www.lasalle.edu/event/career-center-drop-in-resume-reviews-10/
LOCATION:La Salle Union Lobby
CATEGORIES:Job/Career
END:VEVENT
BEGIN:VEVENT
DTSTART;TZID=America/New_York:20241114T110000
DTEND;TZID=America/New_York:20241114T130000
DTSTAMP:20260420T114823
CREATED:20241104T074626Z
LAST-MODIFIED:20241114T175140Z
UID:10003825-1731582000-1731589200@www.lasalle.edu
SUMMARY:Career Center Drop-In/Resume Reviews
DESCRIPTION:Stop by the Career Center table in the Union Lobby for drop-in hours with our Career Peers! They can review your resume and help you navigate Handshake.
URL:https://www.lasalle.edu/event/career-center-drop-in-resume-reviews-9/
LOCATION:La Salle Union Lobby
CATEGORIES:Job/Career
END:VEVENT
BEGIN:VEVENT
DTSTART;TZID=America/New_York:20241112T120000
DTEND;TZID=America/New_York:20241112T140000
DTSTAMP:20260420T114823
CREATED:20241104T073825Z
LAST-MODIFIED:20241112T173730Z
UID:10003816-1731412800-1731420000@www.lasalle.edu
SUMMARY:Esperanza Charter Academy
DESCRIPTION:Esperanza Charter Academy
URL:https://www.lasalle.edu/event/esperanza-charter-academy-2/
LOCATION:La Salle Union Lobby Table
CATEGORIES:Job/Career
END:VEVENT
BEGIN:VEVENT
DTSTART;TZID=America/New_York:20241112T120000
DTEND;TZID=America/New_York:20241112T140000
DTSTAMP:20260420T114823
CREATED:20241104T073824Z
LAST-MODIFIED:20241112T173729Z
UID:10003815-1731412800-1731420000@www.lasalle.edu
SUMMARY:Employer Tabling: Esperanza Academy Charter School
DESCRIPTION:Come stop by the union lobby during free period to chat with the recruiters and professionals from Esperanza Academy Charter School!
URL:https://www.lasalle.edu/event/employer-tabling-esperanza-academy-charter-school-3/
LOCATION:La Salle Union Lobby Table
CATEGORIES:Job/Career
END:VEVENT
BEGIN:VEVENT
DTSTART;TZID=America/New_York:20241107T123000
DTEND;TZID=America/New_York:20241107T133000
DTSTAMP:20260420T114823
CREATED:20241104T003404Z
LAST-MODIFIED:20241107T173654Z
UID:10003773-1730982600-1730986200@www.lasalle.edu
SUMMARY:NSSHLA Business SLP
DESCRIPTION:12:30 – 2 PM in Benilde\nPrivate Business SLP Zoom
URL:https://www.lasalle.edu/event/nsshla-business-slp/
LOCATION:St. Benilde Tower 2241
CATEGORIES:Job/Career
END:VEVENT
BEGIN:VEVENT
DTSTART;TZID=America/New_York:20241107T110000
DTEND;TZID=America/New_York:20241107T130000
DTSTAMP:20260420T114823
CREATED:20241104T053454Z
LAST-MODIFIED:20241107T173457Z
UID:10003777-1730977200-1730984400@www.lasalle.edu
SUMMARY:Career Center Drop-In/Resume Reviews
DESCRIPTION:Stop by the Career Center table in the Union Lobby for drop-in hours with our Career Peers! They can review your resume and help you navigate Handshake.
URL:https://www.lasalle.edu/event/career-center-drop-in-resume-reviews-8/
LOCATION:La Salle Union Lobby
CATEGORIES:Job/Career
END:VEVENT
BEGIN:VEVENT
DTSTART;TZID=America/New_York:20241105T120000
DTEND;TZID=America/New_York:20241105T140000
DTSTAMP:20260420T114823
CREATED:20241102T203445Z
LAST-MODIFIED:20241105T174834Z
UID:10003757-1730808000-1730815200@www.lasalle.edu
SUMMARY:Employer Tabling: Northwestern Mutual
DESCRIPTION:Come stop by the Union Lobby during free period to meet with the recruiters and representatives from Northwestern Mutual!
URL:https://www.lasalle.edu/event/employer-tabling-northwestern-mutual/
LOCATION:La Salle Union Lobby Table
CATEGORIES:Job/Career
END:VEVENT
BEGIN:VEVENT
DTSTART;TZID=America/New_York:20241105T120000
DTEND;TZID=America/New_York:20241105T140000
DTSTAMP:20260420T114823
CREATED:20241102T203444Z
LAST-MODIFIED:20241105T174834Z
UID:10003756-1730808000-1730815200@www.lasalle.edu
SUMMARY:Employer Tabling: US Army
DESCRIPTION:Employer Tabling
URL:https://www.lasalle.edu/event/employer-tabling-us-army/
LOCATION:La Salle Union Lobby Table
CATEGORIES:Job/Career
END:VEVENT
BEGIN:VEVENT
DTSTART;TZID=America/New_York:20241031T120000
DTEND;TZID=America/New_York:20241031T140000
DTSTAMP:20260420T114823
CREATED:20241029T234551Z
LAST-MODIFIED:20241031T173755Z
UID:10003724-1730376000-1730383200@www.lasalle.edu
SUMMARY:Employer Table: Phila Police
DESCRIPTION:Employer Table
URL:https://www.lasalle.edu/event/employer-table-phila-police/
LOCATION:La Salle Union Lobby Table
CATEGORIES:Job/Career
END:VEVENT
BEGIN:VEVENT
DTSTART;TZID=America/New_York:20241031T110000
DTEND;TZID=America/New_York:20241031T130000
DTSTAMP:20260420T114823
CREATED:20241030T023527Z
LAST-MODIFIED:20241031T164507Z
UID:10003728-1730372400-1730379600@www.lasalle.edu
SUMMARY:Career Center Drop-In/Resume Reviews
DESCRIPTION:Stop by the Career Center table in the Union Lobby for drop-in hours with our Career Peers! They can review your resume and help you navigate Handshake.
URL:https://www.lasalle.edu/event/career-center-drop-in-resume-reviews-7/
LOCATION:La Salle Union Lobby
CATEGORIES:Job/Career
END:VEVENT
BEGIN:VEVENT
DTSTART;TZID=America/New_York:20241029T120000
DTEND;TZID=America/New_York:20241029T140000
DTSTAMP:20260420T114823
CREATED:20241027T024009Z
LAST-MODIFIED:20241029T174603Z
UID:10003709-1730203200-1730210400@www.lasalle.edu
SUMMARY:Esperanza Charter Academy
DESCRIPTION:Esperanza Charter Academy
URL:https://www.lasalle.edu/event/esperanza-charter-academy/
LOCATION:La Salle Union Lobby Table
CATEGORIES:Job/Career
END:VEVENT
BEGIN:VEVENT
DTSTART;TZID=America/New_York:20241024T123000
DTEND;TZID=America/New_York:20241024T140000
DTSTAMP:20260420T114823
CREATED:20241022T184416Z
LAST-MODIFIED:20241024T144231Z
UID:10003657-1729773000-1729778400@www.lasalle.edu
SUMMARY:SOHCIV Promotional Tabling\, Union Lobby
DESCRIPTION:Stop by the Career Center table to learn about the upcoming SOHCIV Networking Night on October 24 f for students interested in careers in Social Sciences\, Humanities or Civil Services.
URL:https://www.lasalle.edu/event/sohciv-promotional-tabling-union-lobby-2/
LOCATION:Hayman Hall Main Lobby
CATEGORIES:Job/Career
END:VEVENT
BEGIN:VEVENT
DTSTART;TZID=America/New_York:20241024T110000
DTEND;TZID=America/New_York:20241024T130000
DTSTAMP:20260420T114823
CREATED:20241024T013653Z
LAST-MODIFIED:20241024T164425Z
UID:10003669-1729767600-1729774800@www.lasalle.edu
SUMMARY:Career Center Drop-In/Resume Reviews
DESCRIPTION:Stop by the Career Center table in the Union Lobby for drop-in hours with our Career Peers! They can review your resume and help you navigate Handshake.
URL:https://www.lasalle.edu/event/career-center-drop-in-resume-reviews-6/
LOCATION:La Salle Union Lobby
CATEGORIES:Job/Career
END:VEVENT
BEGIN:VEVENT
DTSTART;TZID=America/New_York:20241017T123000
DTEND;TZID=America/New_York:20241017T140000
DTSTAMP:20260420T114823
CREATED:20241014T174108Z
LAST-MODIFIED:20241017T174344Z
UID:10003562-1729168200-1729173600@www.lasalle.edu
SUMMARY:SOHCIV Promotional Tabling\, Union Lobby
DESCRIPTION:Stop by the Career Center table to learn about the upcoming SOHCIV Networking Night on October 24 f for students interested in careers in Social Sciences\, Humanities or Civil Services.
URL:https://www.lasalle.edu/event/sohciv-promotional-tabling-union-lobby/
LOCATION:Hayman Hall Main Lobby
CATEGORIES:Job/Career
END:VEVENT
BEGIN:VEVENT
DTSTART;TZID=America/New_York:20241017T110000
DTEND;TZID=America/New_York:20241017T130000
DTSTAMP:20260420T114823
CREATED:20241015T233358Z
LAST-MODIFIED:20241017T164423Z
UID:10003569-1729162800-1729170000@www.lasalle.edu
SUMMARY:Career Center Drop-In/Resume Reviews
DESCRIPTION:Stop by the Career Center table in the Union Lobby for drop-in hours with our Career Peers! They can review your resume and help you navigate Handshake.
URL:https://www.lasalle.edu/event/career-center-drop-in-resume-reviews-5/
LOCATION:La Salle Union Lobby
CATEGORIES:Job/Career
END:VEVENT
BEGIN:VEVENT
DTSTART;TZID=America/New_York:20241010T123000
DTEND;TZID=America/New_York:20241010T140000
DTSTAMP:20260420T114823
CREATED:20241004T094544Z
LAST-MODIFIED:20241010T174747Z
UID:10003514-1728563400-1728568800@www.lasalle.edu
SUMMARY:NSSHLA
DESCRIPTION:Benilde 2241 October 10th 12:30-2
URL:https://www.lasalle.edu/event/nsshla/
LOCATION:St. Benilde Tower 2241
CATEGORIES:Job/Career
END:VEVENT
BEGIN:VEVENT
DTSTART;TZID=America/New_York:20241010T110000
DTEND;TZID=America/New_York:20241010T130000
DTSTAMP:20260420T114823
CREATED:20241005T004858Z
LAST-MODIFIED:20241010T163646Z
UID:10003525-1728558000-1728565200@www.lasalle.edu
SUMMARY:Career Center Drop-In/Resume Reviews
DESCRIPTION:Stop by the Career Center table in the Union Lobby for drop-in hours with our Career Peers! They can review your resume and help you navigate Handshake.
URL:https://www.lasalle.edu/event/career-center-drop-in-resume-reviews-4/
LOCATION:La Salle Union Lobby
CATEGORIES:Job/Career
END:VEVENT
BEGIN:VEVENT
DTSTART;TZID=America/New_York:20241008T120000
DTEND;TZID=America/New_York:20241008T140000
DTSTAMP:20260420T114823
CREATED:20241003T184451Z
LAST-MODIFIED:20241008T183706Z
UID:10003507-1728388800-1728396000@www.lasalle.edu
SUMMARY:Networking Prep event
DESCRIPTION:Networking Prep event
URL:https://www.lasalle.edu/event/networking-prep-event/
LOCATION:La Salle Union Compass Club
CATEGORIES:Job/Career
END:VEVENT
BEGIN:VEVENT
DTSTART;TZID=America/New_York:20241003T120000
DTEND;TZID=America/New_York:20241003T140000
DTSTAMP:20260420T114823
CREATED:20241001T043722Z
LAST-MODIFIED:20241003T180248Z
UID:10003489-1727956800-1727964000@www.lasalle.edu
SUMMARY:Employer Tabling: University of St. Augustine for Health Sciences
DESCRIPTION:Come by the Union Lobby from 12:00-2:00 PM to learn more about what the University of St. Augustine for Health Sciences has to offer!
URL:https://www.lasalle.edu/event/employer-tabling-university-of-st-augustine-for-health-sciences/
LOCATION:La Salle Union Lobby Table
CATEGORIES:Job/Career
END:VEVENT
BEGIN:VEVENT
DTSTART;TZID=America/New_York:20241003T110000
DTEND;TZID=America/New_York:20241003T130000
DTSTAMP:20260420T114823
CREATED:20240930T044417Z
LAST-MODIFIED:20241003T164935Z
UID:10003485-1727953200-1727960400@www.lasalle.edu
SUMMARY:Career Center Drop-In/Resume Reviews
DESCRIPTION:Stop by the Career Center table in the Union Lobby for drop-in hours with our Career Peers! They can review your resume and help you navigate Handshake.
URL:https://www.lasalle.edu/event/career-center-drop-in-resume-reviews-3/
LOCATION:La Salle Union Lobby
CATEGORIES:Job/Career
END:VEVENT
BEGIN:VEVENT
DTSTART;TZID=America/New_York:20241001T120000
DTEND;TZID=America/New_York:20241001T140000
DTSTAMP:20260420T114823
CREATED:20240929T014523Z
LAST-MODIFIED:20241001T183516Z
UID:10003471-1727784000-1727791200@www.lasalle.edu
SUMMARY:Employer Tabling: Philadelphia Police
DESCRIPTION:Come stop by the Union Lobby during free period to meet with the recruiters and representatives from Philadelphia Police!
URL:https://www.lasalle.edu/event/employer-tabling-philadelphia-police-6/
LOCATION:La Salle Union Lobby Table
CATEGORIES:Job/Career
END:VEVENT
BEGIN:VEVENT
DTSTART;TZID=America/New_York:20240926T110000
DTEND;TZID=America/New_York:20240926T130000
DTSTAMP:20260420T114823
CREATED:20240923T223800Z
LAST-MODIFIED:20240926T163709Z
UID:10003438-1727348400-1727355600@www.lasalle.edu
SUMMARY:Career Center Drop-In/Resume Reviews
DESCRIPTION:Stop by the Career Center table in the Union Lobby for drop-in hours with our Career Peers! They can review your resume and help you navigate Handshake.
URL:https://www.lasalle.edu/event/career-center-drop-in-resume-reviews-2/
LOCATION:La Salle Union Lobby
CATEGORIES:Job/Career
END:VEVENT
BEGIN:VEVENT
DTSTART;TZID=America/New_York:20240924T120000
DTEND;TZID=America/New_York:20240924T140000
DTSTAMP:20260420T114823
CREATED:20240919T224035Z
LAST-MODIFIED:20240924T173918Z
UID:10003422-1727179200-1727186400@www.lasalle.edu
SUMMARY:Employer Tabling: Students For Life of America
DESCRIPTION:Come stop by the Union lobby during free period from 12:00-2:00 PM to chat with the representatives from Students For Life of America!
URL:https://www.lasalle.edu/event/employer-tabling-students-for-life-of-america/
LOCATION:La Salle Union Lobby Table
CATEGORIES:Job/Career
END:VEVENT
BEGIN:VEVENT
DTSTART;TZID=America/New_York:20240919T110000
DTEND;TZID=America/New_York:20240919T130000
DTSTAMP:20260420T114823
CREATED:20240917T194444Z
LAST-MODIFIED:20240919T163856Z
UID:10003397-1726743600-1726750800@www.lasalle.edu
SUMMARY:Career Center Drop-In/Resume Reviews
DESCRIPTION:Stop by the Career Center table in the Union Lobby for drop-in hours with our Career Peers! They can review your resume and help you navigate Handshake.
URL:https://www.lasalle.edu/event/career-center-drop-in-resume-reviews/
LOCATION:La Salle Union Lobby
CATEGORIES:Job/Career
END:VEVENT
BEGIN:VEVENT
DTSTART;TZID=America/New_York:20240912T173000
DTEND;TZID=America/New_York:20240912T203000
DTSTAMP:20260420T114823
CREATED:20240911T124121Z
LAST-MODIFIED:20240912T234943Z
UID:10003360-1726162200-1726173000@www.lasalle.edu
SUMMARY:Business\, Communication\, & Tech (BCT) Networking Night
DESCRIPTION:Stop by the Founders Hall Atrium to network with employers of your field interest and see what opportunities they might have available to you!   Business = Accounting\, Business Administration\, Business Systems & Analytics\, Economics\, Finance\, International Business\, Management & Leadership\, Marketing\, PPE\, Sales\, Sport Management  Communication = Communications\, DART  Tech = IT\, Computer Science\, ISBT\, Mathematics\, Actuarial Science
URL:https://www.lasalle.edu/event/business-communication-tech-bct-networking-night/
LOCATION:Founders’ Hall Atrium
CATEGORIES:Job/Career
END:VEVENT
BEGIN:VEVENT
DTSTART;TZID=America/New_York:20240829T120000
DTEND;TZID=America/New_York:20240829T140000
DTSTAMP:20260420T114823
CREATED:20240717T123534Z
LAST-MODIFIED:20240829T174638Z
UID:10002983-1724932800-1724940000@www.lasalle.edu
SUMMARY:Involvement Fair
DESCRIPTION:Invovlement Fair
URL:https://www.lasalle.edu/event/involvement-fair/
LOCATION:La Salle Union Ballroom
CATEGORIES:Job/Career
END:VEVENT
BEGIN:VEVENT
DTSTART;TZID=America/New_York:20240502T120000
DTEND;TZID=America/New_York:20240502T140000
DTSTAMP:20260420T114823
CREATED:20240429T214342Z
LAST-MODIFIED:20240502T173532Z
UID:10002900-1714651200-1714658400@www.lasalle.edu
SUMMARY:Employer Tabling: Esperanza Academy Charter School
DESCRIPTION:Stop by the Union Lobby to meet the representatives of Esperanza Charter School and learn about what opportunities they have to offer!
URL:https://www.lasalle.edu/event/employer-tabling-esperanza-academy-charter-school-2/
LOCATION:La Salle Union Lobby Table
CATEGORIES:Job/Career
END:VEVENT
END:VCALENDAR