BEGIN:VCALENDAR
VERSION:2.0
PRODID:-//La Salle University - ECPv6.15.20//NONSGML v1.0//EN
CALSCALE:GREGORIAN
METHOD:PUBLISH
X-ORIGINAL-URL:https://www.lasalle.edu
X-WR-CALDESC:Events for La Salle University
REFRESH-INTERVAL;VALUE=DURATION:PT1H
X-Robots-Tag:noindex
X-PUBLISHED-TTL:PT1H
BEGIN:VTIMEZONE
TZID:America/New_York
BEGIN:DAYLIGHT
TZOFFSETFROM:-0500
TZOFFSETTO:-0400
TZNAME:EDT
DTSTART:20220313T070000
END:DAYLIGHT
BEGIN:STANDARD
TZOFFSETFROM:-0400
TZOFFSETTO:-0500
TZNAME:EST
DTSTART:20221106T060000
END:STANDARD
BEGIN:DAYLIGHT
TZOFFSETFROM:-0500
TZOFFSETTO:-0400
TZNAME:EDT
DTSTART:20230312T070000
END:DAYLIGHT
BEGIN:STANDARD
TZOFFSETFROM:-0400
TZOFFSETTO:-0500
TZNAME:EST
DTSTART:20231105T060000
END:STANDARD
BEGIN:DAYLIGHT
TZOFFSETFROM:-0500
TZOFFSETTO:-0400
TZNAME:EDT
DTSTART:20240310T070000
END:DAYLIGHT
BEGIN:STANDARD
TZOFFSETFROM:-0400
TZOFFSETTO:-0500
TZNAME:EST
DTSTART:20241103T060000
END:STANDARD
BEGIN:DAYLIGHT
TZOFFSETFROM:-0500
TZOFFSETTO:-0400
TZNAME:EDT
DTSTART:20250309T070000
END:DAYLIGHT
BEGIN:STANDARD
TZOFFSETFROM:-0400
TZOFFSETTO:-0500
TZNAME:EST
DTSTART:20251102T060000
END:STANDARD
END:VTIMEZONE
BEGIN:VEVENT
DTSTART;TZID=America/New_York:20240318T120000
DTEND;TZID=America/New_York:20240318T140000
DTSTAMP:20260420T172854
CREATED:20230816T181217Z
LAST-MODIFIED:20240318T173920Z
UID:10001742-1710763200-1710770400@www.lasalle.edu
SUMMARY:Spring Prepare for the Fair
DESCRIPTION:Spring Prepare for the Fair
URL:https://www.lasalle.edu/event/spring-prepare-for-the-fair/
LOCATION:La Salle Union Lobby
CATEGORIES:Job/Career
END:VEVENT
BEGIN:VEVENT
DTSTART;TZID=America/New_York:20240318T120000
DTEND;TZID=America/New_York:20240318T140000
DTSTAMP:20260420T172854
CREATED:20230816T181217Z
LAST-MODIFIED:20240318T173920Z
UID:10001743-1710763200-1710770400@www.lasalle.edu
SUMMARY:Spring Prepare for the Fair
DESCRIPTION:Spring Prepare for the Fair
URL:https://www.lasalle.edu/event/spring-prepare-for-the-fair-2/
LOCATION:Founders’ Hall Lobby Table
CATEGORIES:Job/Career
END:VEVENT
BEGIN:VEVENT
DTSTART;TZID=America/New_York:20240305T121500
DTEND;TZID=America/New_York:20240305T134500
DTSTAMP:20260420T172854
CREATED:20240224T154806Z
LAST-MODIFIED:20240305T183854Z
UID:10002675-1709640900-1709646300@www.lasalle.edu
SUMMARY:Environmental Careers Panel
DESCRIPTION:Interested in learning more about environmental careers? Hear from professionals who work in the energy industry\, in an analytical laboratory\, and in wildlife photography!
URL:https://www.lasalle.edu/event/environmental-careers-panel/
LOCATION:Holroyd Science Center 390
CATEGORIES:Job/Career
END:VEVENT
BEGIN:VEVENT
DTSTART;TZID=America/New_York:20240227T120000
DTEND;TZID=America/New_York:20240227T140000
DTSTAMP:20260420T172854
CREATED:20231102T214915Z
LAST-MODIFIED:20240227T184130Z
UID:10001964-1709035200-1709042400@www.lasalle.edu
SUMMARY:Explorer Shadow Program Spring Orientation 2
DESCRIPTION:The Explorer Shadow Program is a joint effort between the Career Center\, Alumni Engagement\, and participating departments/programs. The program is a one-day shadow experience that allows La Salle students to “shadow”\, or observe\, a professional to get a behind-the-scenes look at a specific job or company. Students can experience these shadow opportunities in both the Fall and Spring semesters. This Orientation is mandatory for all students interested in participating in the program.
URL:https://www.lasalle.edu/event/explorer-shadow-program-spring-orientation-2-2/
LOCATION:La Salle Union Compass Club
CATEGORIES:Job/Career
END:VEVENT
BEGIN:VEVENT
DTSTART;TZID=America/New_York:20240222T120000
DTEND;TZID=America/New_York:20240222T140000
DTSTAMP:20260420T172854
CREATED:20231102T214914Z
LAST-MODIFIED:20240222T153310Z
UID:10001963-1708603200-1708610400@www.lasalle.edu
SUMMARY:Explorer Shadow Program Spring Orientation 1
DESCRIPTION:The Explorer Shadow Program is a joint effort between the Career Center\, Alumni Engagement\, and participating departments/programs. The program is a one-day shadow experience that allows La Salle students to “shadow”\, or observe\, a professional to get a behind-the-scenes look at a specific job or company. Students can experience these shadow opportunities in both the Fall and Spring semesters. This Orientation is mandatory for all students interested in participating in the program.
URL:https://www.lasalle.edu/event/explorer-shadow-program-spring-orientation-1-2/
LOCATION:La Salle Union Compass Club
CATEGORIES:Job/Career
END:VEVENT
BEGIN:VEVENT
DTSTART;TZID=America/New_York:20240220T173000
DTEND;TZID=America/New_York:20240220T193000
DTSTAMP:20260420T172854
CREATED:20230816T181216Z
LAST-MODIFIED:20240214T074741Z
UID:10001736-1708450200-1708457400@www.lasalle.edu
SUMMARY:Education Forum
DESCRIPTION:Education Forum
URL:https://www.lasalle.edu/event/education-forum/
LOCATION:La Salle Union Dunleavy Room
CATEGORIES:Job/Career
END:VEVENT
BEGIN:VEVENT
DTSTART;TZID=America/New_York:20240215T120000
DTEND;TZID=America/New_York:20240215T140000
DTSTAMP:20260420T172854
CREATED:20240209T043836Z
LAST-MODIFIED:20240214T074734Z
UID:10002543-1707998400-1708005600@www.lasalle.edu
SUMMARY:Explorer Shadow Program Tabling
DESCRIPTION:Sign up for the Explorer Shadow Program! The program is a one-day shadow experience that allows La Salle students to “shadow”\, or observe\, a professional to get a behind-the-scenes look at a specific job or company. Students can experience these shadow opportunities in both the Fall and Spring semesters.  The Explorer Shadow Program allows you to:  -Explore a career field of interest\, without the commitment of an internship. Gain first-hand knowledge of a real work environment and on-the-job etiquette. -Uncover possible opportunities for future careers. -Connect directly with your host (an alumnus/a or other professional)\, who can serve as an excellent resource for career\, job and internship advice.
URL:https://www.lasalle.edu/event/explorer-shadow-program-tabling-4/
LOCATION:La Salle Union Lobby Table
CATEGORIES:Job/Career
END:VEVENT
BEGIN:VEVENT
DTSTART;TZID=America/New_York:20240214T120000
DTEND;TZID=America/New_York:20240214T140000
DTSTAMP:20260420T172854
CREATED:20240209T043834Z
LAST-MODIFIED:20240214T074732Z
UID:10002541-1707912000-1707919200@www.lasalle.edu
SUMMARY:Explorer Shadow Program Tabling
DESCRIPTION:Sign up for the Explorer Shadow Program! The program is a one-day shadow experience that allows La Salle students to “shadow”\, or observe\, a professional to get a behind-the-scenes look at a specific job or company. Students can experience these shadow opportunities in both the Fall and Spring semesters.  The Explorer Shadow Program allows you to:  -Explore a career field of interest\, without the commitment of an internship. Gain first-hand knowledge of a real work environment and on-the-job etiquette. -Uncover possible opportunities for future careers. -Connect directly with your host (an alumnus/a or other professional)\, who can serve as an excellent resource for career\, job and internship advice.
URL:https://www.lasalle.edu/event/explorer-shadow-program-tabling-3/
LOCATION:La Salle Union Lobby Table
CATEGORIES:Job/Career
END:VEVENT
BEGIN:VEVENT
DTSTART;TZID=America/New_York:20240213T120000
DTEND;TZID=America/New_York:20240213T140000
DTSTAMP:20260420T172854
CREATED:20240209T043830Z
LAST-MODIFIED:20240211T054127Z
UID:10002537-1707825600-1707832800@www.lasalle.edu
SUMMARY:Explorer Shadow Program Tabling
DESCRIPTION:Sign up for the Explorer Shadow Program! The program is a one-day shadow experience that allows La Salle students to “shadow”\, or observe\, a professional to get a behind-the-scenes look at a specific job or company. Students can experience these shadow opportunities in both the Fall and Spring semesters.  The Explorer Shadow Program allows you to:  -Explore a career field of interest\, without the commitment of an internship. Gain first-hand knowledge of a real work environment and on-the-job etiquette. -Uncover possible opportunities for future careers. -Connect directly with your host (an alumnus/a or other professional)\, who can serve as an excellent resource for career\, job and internship advice.
URL:https://www.lasalle.edu/event/explorer-shadow-program-tabling-2/
LOCATION:La Salle Union Lobby Table
CATEGORIES:Job/Career
END:VEVENT
BEGIN:VEVENT
DTSTART;TZID=America/New_York:20240207T120000
DTEND;TZID=America/New_York:20240207T140000
DTSTAMP:20260420T172854
CREATED:20240203T014002Z
LAST-MODIFIED:20240206T024133Z
UID:10002533-1707307200-1707314400@www.lasalle.edu
SUMMARY:Explorer Shadow Program Tabling
DESCRIPTION:Sign up for the Explorer Shadow Program! The program is a one-day shadow experience that allows La Salle students to “shadow”\, or observe\, a professional to get a behind-the-scenes look at a specific job or company. Students can experience these shadow opportunities in both the Fall and Spring semesters.  The Explorer Shadow Program allows you to:  -Explore a career field of interest\, without the commitment of an internship. Gain first-hand knowledge of a real work environment and on-the-job etiquette. -Uncover possible opportunities for future careers. -Connect directly with your host (an alumnus/a or other professional)\, who can serve as an excellent resource for career\, job and internship advice.
URL:https://www.lasalle.edu/event/explorer-shadow-program-tabling/
LOCATION:La Salle Union Lobby Table
CATEGORIES:Job/Career
END:VEVENT
BEGIN:VEVENT
DTSTART;TZID=America/New_York:20240206T120000
DTEND;TZID=America/New_York:20240206T140000
DTSTAMP:20260420T172854
CREATED:20240202T013953Z
LAST-MODIFIED:20240206T024131Z
UID:10002529-1707220800-1707228000@www.lasalle.edu
SUMMARY:Employer Tabling: Philadelphia Police
DESCRIPTION:Come meet with the recruiters from Philadelphia Police to learn more about their organization and what opportunities they have to share with La Salle students.
URL:https://www.lasalle.edu/event/employer-tabling-philadelphia-police-2/
LOCATION:La Salle Union Lobby
CATEGORIES:Job/Career
END:VEVENT
BEGIN:VEVENT
DTSTART;TZID=America/New_York:20240206T120000
DTEND;TZID=America/New_York:20240206T140000
DTSTAMP:20260420T172854
CREATED:20240202T013952Z
LAST-MODIFIED:20240206T024130Z
UID:10002528-1707220800-1707228000@www.lasalle.edu
SUMMARY:Employer Tabling: Philadelphia Police
DESCRIPTION:Come meet with the recruiters from Philadelphia Police to learn more about their organization and what opportunities they have to share with La Salle students.
URL:https://www.lasalle.edu/event/employer-tabling-philadelphia-police/
LOCATION:La Salle Union Lobby Table
CATEGORIES:Job/Career
END:VEVENT
BEGIN:VEVENT
DTSTART;TZID=America/New_York:20240130T123000
DTEND;TZID=America/New_York:20240130T140000
DTSTAMP:20260420T172854
CREATED:20230816T181214Z
LAST-MODIFIED:20240129T234127Z
UID:10001731-1706617800-1706623200@www.lasalle.edu
SUMMARY:School of Nursing & Health Sciences Career Forum
DESCRIPTION:School of Nursing & Health Sciences Career Forum
URL:https://www.lasalle.edu/event/school-of-nursing-health-sciences-career-forum/
LOCATION:Founders’ Hall Atrium
CATEGORIES:Job/Career
END:VEVENT
BEGIN:VEVENT
DTSTART;TZID=America/New_York:20240118T120000
DTEND;TZID=America/New_York:20240118T140000
DTSTAMP:20260420T172854
CREATED:20230816T181214Z
LAST-MODIFIED:20240118T144248Z
UID:10001728-1705579200-1705586400@www.lasalle.edu
SUMMARY:Spring Involvement Fair
DESCRIPTION:Spring Involvement Fair – Come and find out all the great things you can get involved in on campus!
URL:https://www.lasalle.edu/event/spring-involvement-fair/
LOCATION:La Salle Union Ballroom
CATEGORIES:Job/Career
END:VEVENT
BEGIN:VEVENT
DTSTART;TZID=America/New_York:20231207T120000
DTEND;TZID=America/New_York:20231207T140000
DTSTAMP:20260420T172854
CREATED:20231111T034558Z
LAST-MODIFIED:20231206T185519Z
UID:10001982-1701950400-1701957600@www.lasalle.edu
SUMMARY:Human Rights Coalition - Employer Company Tabling
DESCRIPTION:“HRC’s mission is to empower prisoners’ families to be leaders in prison organizing and to teach them how to advocate on behalf of their loved ones in prison and expose the inhumane practices of the Department of Corrections.”\nStop by their employer table during free period to learn about their company and who they might be hiring for!
URL:https://www.lasalle.edu/event/human-rights-coalition-employer-company-tabling/
LOCATION:La Salle Union Lobby Table
CATEGORIES:Job/Career
END:VEVENT
BEGIN:VEVENT
DTSTART;TZID=America/New_York:20231205T120000
DTEND;TZID=America/New_York:20231205T140000
DTSTAMP:20260420T172854
CREATED:20231102T214829Z
LAST-MODIFIED:20231205T183729Z
UID:10001904-1701777600-1701784800@www.lasalle.edu
SUMMARY:Jefferson Health - Employer Company Tabling
DESCRIPTION:“Jefferson Health is improving lives through exceptional care in the Greater Philadelphia area and South Jersey.”\nStop by their employer table during free period to learn about their company and who they might be hiring for!
URL:https://www.lasalle.edu/event/jefferson-health-employer-company-tabling/
LOCATION:La Salle Union Lobby Table
CATEGORIES:Job/Career
END:VEVENT
BEGIN:VEVENT
DTSTART;TZID=America/New_York:20231114T173000
DTEND;TZID=America/New_York:20231114T193000
DTSTAMP:20260420T172854
CREATED:20230816T153435Z
LAST-MODIFIED:20231114T063741Z
UID:10001703-1699983000-1699990200@www.lasalle.edu
SUMMARY:Health Sciences & Wellness Network Night
DESCRIPTION:Health Sciences & Wellness Network Night
URL:https://www.lasalle.edu/event/health-sciences-wellness-network-night/
LOCATION:La Salle Union Ballroom
CATEGORIES:Job/Career
END:VEVENT
BEGIN:VEVENT
DTSTART;TZID=America/New_York:20231111T110000
DTEND;TZID=America/New_York:20231111T130000
DTSTAMP:20260420T172854
CREATED:20231022T173906Z
LAST-MODIFIED:20231111T034534Z
UID:10001863-1699700400-1699707600@www.lasalle.edu
SUMMARY:Mingle/Mentor Meet up
DESCRIPTION:Mingle/Mentor Meet up
URL:https://www.lasalle.edu/event/mingle-mentor-meet-up/
LOCATION:La Salle Union Compass Club
CATEGORIES:Job/Career
END:VEVENT
BEGIN:VEVENT
DTSTART;TZID=America/New_York:20231106T100000
DTEND;TZID=America/New_York:20231106T130000
DTSTAMP:20260420T172854
CREATED:20231102T214758Z
LAST-MODIFIED:20231111T034401Z
UID:10001894-1699264800-1699275600@www.lasalle.edu
SUMMARY:Philadelphia Police - Employer Company Tabling
DESCRIPTION:“The Philadelphia Police Department is the police agency responsible for law enforcement and investigations within the City of Philadelphia\, Pennsylvania. The PPD is one of the oldest municipal police agencies\, fourth largest police force and sixth largest non-federal law enforcement agency in the United States.”
URL:https://www.lasalle.edu/event/philadelphia-police-employer-company-tabling/
LOCATION:La Salle Union Lobby Table
CATEGORIES:Job/Career
END:VEVENT
BEGIN:VEVENT
DTSTART;TZID=America/New_York:20231012T120000
DTEND;TZID=America/New_York:20231012T133000
DTSTAMP:20260420T172854
CREATED:20230816T153432Z
LAST-MODIFIED:20230912T202810Z
UID:10001690-1697112000-1697117400@www.lasalle.edu
SUMMARY:Internship & Experiential Opportunity Fair
DESCRIPTION:Internship & Experiential Opportunity Fair
URL:https://www.lasalle.edu/event/internship-experiential-opportunity-fair/
LOCATION:La Salle Union Ballroom
CATEGORIES:Job/Career
END:VEVENT
BEGIN:VEVENT
DTSTART;TZID=America/New_York:20231011T120000
DTEND;TZID=America/New_York:20231011T140000
DTSTAMP:20260420T172854
CREATED:20230816T153432Z
LAST-MODIFIED:20230912T202810Z
UID:10001688-1697025600-1697032800@www.lasalle.edu
SUMMARY:Fall Prepare for the Fair
DESCRIPTION:Fall Prepare for the Fair
URL:https://www.lasalle.edu/event/fall-prepare-for-the-fair-5/
LOCATION:La Salle Union Lobby
CATEGORIES:Job/Career
END:VEVENT
BEGIN:VEVENT
DTSTART;TZID=America/New_York:20231011T120000
DTEND;TZID=America/New_York:20231011T140000
DTSTAMP:20260420T172854
CREATED:20230816T153432Z
LAST-MODIFIED:20230912T202810Z
UID:10001689-1697025600-1697032800@www.lasalle.edu
SUMMARY:Fall Prepare for the Fair
DESCRIPTION:Fall Prepare for the Fair
URL:https://www.lasalle.edu/event/fall-prepare-for-the-fair-6/
LOCATION:Founders’ Hall Lobby Table
CATEGORIES:Job/Career
END:VEVENT
BEGIN:VEVENT
DTSTART;TZID=America/New_York:20231010T120000
DTEND;TZID=America/New_York:20231010T140000
DTSTAMP:20260420T172854
CREATED:20230816T153431Z
LAST-MODIFIED:20230912T202809Z
UID:10001685-1696939200-1696946400@www.lasalle.edu
SUMMARY:Fall Prepare for the Fair
DESCRIPTION:Fall Prepare for the Fair
URL:https://www.lasalle.edu/event/fall-prepare-for-the-fair-3/
LOCATION:Founders’ Hall Lobby Table
CATEGORIES:Job/Career
END:VEVENT
BEGIN:VEVENT
DTSTART;TZID=America/New_York:20231010T120000
DTEND;TZID=America/New_York:20231010T140000
DTSTAMP:20260420T172854
CREATED:20230816T153431Z
LAST-MODIFIED:20230912T202808Z
UID:10001686-1696939200-1696946400@www.lasalle.edu
SUMMARY:Fall Prepare for the Fair
DESCRIPTION:Fall Prepare for the Fair
URL:https://www.lasalle.edu/event/fall-prepare-for-the-fair-4/
LOCATION:La Salle Union Lobby
CATEGORIES:Job/Career
END:VEVENT
BEGIN:VEVENT
DTSTART;TZID=America/New_York:20231009T120000
DTEND;TZID=America/New_York:20231009T140000
DTSTAMP:20260420T172854
CREATED:20230816T153431Z
LAST-MODIFIED:20230912T202807Z
UID:10001684-1696852800-1696860000@www.lasalle.edu
SUMMARY:Fall Prepare for the Fair
DESCRIPTION:Fall Prepare for the Fair
URL:https://www.lasalle.edu/event/fall-prepare-for-the-fair-2/
LOCATION:Founders’ Hall Lobby Table
CATEGORIES:Job/Career
END:VEVENT
BEGIN:VEVENT
DTSTART;TZID=America/New_York:20231009T120000
DTEND;TZID=America/New_York:20231009T140000
DTSTAMP:20260420T172854
CREATED:20230816T153430Z
LAST-MODIFIED:20230912T202807Z
UID:10001683-1696852800-1696860000@www.lasalle.edu
SUMMARY:Fall Prepare for the Fair
DESCRIPTION:Fall Prepare for the Fair
URL:https://www.lasalle.edu/event/fall-prepare-for-the-fair/
LOCATION:La Salle Union Lobby
CATEGORIES:Job/Career
END:VEVENT
BEGIN:VEVENT
DTSTART;TZID=America/New_York:20230913T173000
DTEND;TZID=America/New_York:20230913T193000
DTSTAMP:20260420T172854
CREATED:20230816T153428Z
LAST-MODIFIED:20230912T202756Z
UID:10001673-1694626200-1694633400@www.lasalle.edu
SUMMARY:Finance and Accounting Network Night
DESCRIPTION:Finance and Accounting Network Night
URL:https://www.lasalle.edu/event/finance-and-accounting-network-night/
LOCATION:Founders’ Hall Atrium
CATEGORIES:Job/Career
END:VEVENT
END:VCALENDAR