BEGIN:VCALENDAR
VERSION:2.0
PRODID:-//La Salle University - ECPv6.15.20//NONSGML v1.0//EN
CALSCALE:GREGORIAN
METHOD:PUBLISH
X-ORIGINAL-URL:https://www.lasalle.edu
X-WR-CALDESC:Events for La Salle University
REFRESH-INTERVAL;VALUE=DURATION:PT1H
X-Robots-Tag:noindex
X-PUBLISHED-TTL:PT1H
BEGIN:VTIMEZONE
TZID:America/New_York
BEGIN:DAYLIGHT
TZOFFSETFROM:-0500
TZOFFSETTO:-0400
TZNAME:EDT
DTSTART:20240310T070000
END:DAYLIGHT
BEGIN:STANDARD
TZOFFSETFROM:-0400
TZOFFSETTO:-0500
TZNAME:EST
DTSTART:20241103T060000
END:STANDARD
BEGIN:DAYLIGHT
TZOFFSETFROM:-0500
TZOFFSETTO:-0400
TZNAME:EDT
DTSTART:20250309T070000
END:DAYLIGHT
BEGIN:STANDARD
TZOFFSETFROM:-0400
TZOFFSETTO:-0500
TZNAME:EST
DTSTART:20251102T060000
END:STANDARD
BEGIN:DAYLIGHT
TZOFFSETFROM:-0500
TZOFFSETTO:-0400
TZNAME:EDT
DTSTART:20260308T070000
END:DAYLIGHT
BEGIN:STANDARD
TZOFFSETFROM:-0400
TZOFFSETTO:-0500
TZNAME:EST
DTSTART:20261101T060000
END:STANDARD
BEGIN:DAYLIGHT
TZOFFSETFROM:-0500
TZOFFSETTO:-0400
TZNAME:EDT
DTSTART:20270314T070000
END:DAYLIGHT
BEGIN:STANDARD
TZOFFSETFROM:-0400
TZOFFSETTO:-0500
TZNAME:EST
DTSTART:20271107T060000
END:STANDARD
END:VTIMEZONE
BEGIN:VEVENT
DTSTART;TZID=America/New_York:20251028T110000
DTEND;TZID=America/New_York:20251028T160000
DTSTAMP:20260420T170104
CREATED:20251023T205015Z
LAST-MODIFIED:20251028T193545Z
UID:10005173-1761649200-1761667200@www.lasalle.edu
SUMMARY:Tips\, Tricks\, & Treats Career Readiness Fair
DESCRIPTION:Tips\, Tricks\, & Treats: Career Readiness Fair  Join us for an exciting opportunity to connect with employers and alumni from a wide range of career fields and industries. Meet recruiters who are seeking students for leadership programs\, internships\, co-ops\, and full-time positions.  📄 Bring copies of your resume to share with employers. 👔 Professional dress is required.  Event Highlights:  Complimentary snacks 🍬  Employers will be set up in a fun “trick-or-treat” style layout—collect candy\, swag\, and career advice while learning about open opportunities!  Career Readiness Stations in the Music Room – open to all undergraduate students! Get support with:  Resume reviews  Practicing your 30-second elevator pitch  Accessing the pop-up Career Closet for professional dress  Free professional headshots (12:00–3:00 p.m.) 📸  Career Closet available to all students  📍 Location: Founders Hall Atrium & Music Room
URL:https://www.lasalle.edu/event/tips-tricks-treats-career-readiness-fair/
LOCATION:La Salle Union Lobby Table
CATEGORIES:Job/Career
END:VEVENT
BEGIN:VEVENT
DTSTART;TZID=America/New_York:20251028T110000
DTEND;TZID=America/New_York:20251028T160000
DTSTAMP:20260420T170104
CREATED:20251023T234904Z
LAST-MODIFIED:20251028T193544Z
UID:10005174-1761649200-1761667200@www.lasalle.edu
SUMMARY:Tips\, Tricks\, & Treats Career Readiness Fair
DESCRIPTION:Tips\, Tricks\, & Treats: Career Readiness Fair  Join us for an exciting opportunity to connect with employers and alumni from a wide range of career fields and industries. Meet recruiters who are seeking students for leadership programs\, internships\, co-ops\, and full-time positions.  📄 Bring copies of your resume to share with employers. 👔 Professional dress is required.  Event Highlights:  Complimentary snacks 🍬  Employers will be set up in a fun “trick-or-treat” style layout—collect candy\, swag\, and career advice while learning about open opportunities!  Career Readiness Stations in the Music Room – open to all undergraduate students! Get support with:  Resume reviews  Practicing your 30-second elevator pitch  Accessing the pop-up Career Closet for professional dress  Free professional headshots (12:00–3:00 p.m.) 📸  Career Closet available to all students  📍 Location: Founders Hall Atrium & Music Room
URL:https://www.lasalle.edu/event/tips-tricks-treats-career-readiness-fair-2/
LOCATION:La Salle Union Compass Club
CATEGORIES:Job/Career
END:VEVENT
BEGIN:VEVENT
DTSTART;TZID=America/New_York:20251028T110000
DTEND;TZID=America/New_York:20251028T160000
DTSTAMP:20260420T170104
CREATED:20251024T013910Z
LAST-MODIFIED:20251028T193544Z
UID:10005175-1761649200-1761667200@www.lasalle.edu
SUMMARY:Tips\, Tricks\, & Treats Career Readiness Fair
DESCRIPTION:Tips\, Tricks\, & Treats: Career Readiness Fair  Join us for an exciting opportunity to connect with employers and alumni from a wide range of career fields and industries. Meet recruiters who are seeking students for leadership programs\, internships\, co-ops\, and full-time positions.  📄 Bring copies of your resume to share with employers. 👔 Professional dress is required.  Event Highlights:  Complimentary snacks 🍬  Employers will be set up in a fun “trick-or-treat” style layout—collect candy\, swag\, and career advice while learning about open opportunities!  Career Readiness Stations in the Music Room – open to all undergraduate students! Get support with:  Resume reviews  Practicing your 30-second elevator pitch  Accessing the pop-up Career Closet for professional dress  Free professional headshots (12:00–3:00 p.m.) 📸  Career Closet available to all students  📍 Location: Founders Hall Atrium & Music Room
URL:https://www.lasalle.edu/event/tips-tricks-treats-career-readiness-fair-3/
LOCATION:La Salle Union Music Room
CATEGORIES:Job/Career
END:VEVENT
BEGIN:VEVENT
DTSTART;TZID=America/New_York:20251028T110000
DTEND;TZID=America/New_York:20251028T160000
DTSTAMP:20260420T170104
CREATED:20251024T014633Z
LAST-MODIFIED:20251028T193544Z
UID:10005176-1761649200-1761667200@www.lasalle.edu
SUMMARY:Tips\, Tricks\, & Treats Career Readiness Fair
DESCRIPTION:Tips\, Tricks\, & Treats: Career Readiness Fair  Join us for an exciting opportunity to connect with employers and alumni from a wide range of career fields and industries. Meet recruiters who are seeking students for leadership programs\, internships\, co-ops\, and full-time positions.  📄 Bring copies of your resume to share with employers. 👔 Professional dress is required.  Event Highlights:  Complimentary snacks 🍬  Employers will be set up in a fun “trick-or-treat” style layout—collect candy\, swag\, and career advice while learning about open opportunities!  Career Readiness Stations in the Music Room – open to all undergraduate students! Get support with:  Resume reviews  Practicing your 30-second elevator pitch  Accessing the pop-up Career Closet for professional dress  Free professional headshots (12:00–3:00 p.m.) 📸  Career Closet available to all students  📍 Location: Founders Hall Atrium & Music Room
URL:https://www.lasalle.edu/event/tips-tricks-treats-career-readiness-fair-4/
LOCATION:La Salle Union Ballroom
CATEGORIES:Job/Career
END:VEVENT
BEGIN:VEVENT
DTSTART;TZID=America/New_York:20251031T100000
DTEND;TZID=America/New_York:20251031T120000
DTSTAMP:20260420T170104
CREATED:20251028T205203Z
LAST-MODIFIED:20251031T153216Z
UID:10005192-1761904800-1761912000@www.lasalle.edu
SUMMARY:Director of Conduct and Community Affairs Search
DESCRIPTION:Director of Conduct and Community Affairs Search
URL:https://www.lasalle.edu/event/director-of-conduct-and-community-affairs-search/
LOCATION:La Salle Union 310
CATEGORIES:Job/Career
END:VEVENT
BEGIN:VEVENT
DTSTART;TZID=America/New_York:20251031T131500
DTEND;TZID=America/New_York:20251031T141500
DTSTAMP:20260420T170104
CREATED:20251029T005014Z
LAST-MODIFIED:20251031T173447Z
UID:10005194-1761916500-1761920100@www.lasalle.edu
SUMMARY:Director of Conduct and Community Affairs Search
DESCRIPTION:Director of Conduct and Community Affairs Search
URL:https://www.lasalle.edu/event/director-of-conduct-and-community-affairs-search-2/
LOCATION:La Salle Union 310
CATEGORIES:Job/Career
END:VEVENT
BEGIN:VEVENT
DTSTART;TZID=America/New_York:20260217T110000
DTEND;TZID=America/New_York:20260217T140000
DTSTAMP:20260420T170104
CREATED:20260211T023438Z
LAST-MODIFIED:20260217T185344Z
UID:10005520-1771326000-1771336800@www.lasalle.edu
SUMMARY:Prepare For The Fair - Pack Your Bag Event
DESCRIPTION:Pack Your Bag! – Pack your way to Career Fair success by grabbing some free essentials. Resume samples\, networking tips\, & more!  Date: Tuesday\, February 18 Time: 11:00 AM – 2:00 PM  Location: Union Lobby
URL:https://www.lasalle.edu/event/prepare-for-the-fair-pack-your-bag-event/
LOCATION:La Salle Union Lobby Table
CATEGORIES:Job/Career
END:VEVENT
BEGIN:VEVENT
DTSTART;TZID=America/New_York:20260217T110000
DTEND;TZID=America/New_York:20260217T140000
DTSTAMP:20260420T170104
CREATED:20260211T053432Z
LAST-MODIFIED:20260217T185343Z
UID:10005521-1771326000-1771336800@www.lasalle.edu
SUMMARY:Prepare For The Fair - Pack Your Bag Event
DESCRIPTION:Pack Your Bag! – Pack your way to Career Fair success by grabbing some free essentials. Resume samples\, networking tips\, & more!  Date: Tuesday\, February 18 Time: 11:00 AM – 2:00 PM  Location: Union Lobby
URL:https://www.lasalle.edu/event/prepare-for-the-fair-pack-your-bag-event-2/
LOCATION:La Salle Union Lobby
CATEGORIES:Job/Career
END:VEVENT
BEGIN:VEVENT
DTSTART;TZID=America/New_York:20260219T120000
DTEND;TZID=America/New_York:20260219T140000
DTSTAMP:20260420T170104
CREATED:20260108T094802Z
LAST-MODIFIED:20260219T185033Z
UID:10005415-1771502400-1771509600@www.lasalle.edu
SUMMARY:Spring Career Fair
DESCRIPTION:Prepare for your next move at the Spring Career Fair 2026! Here\, you will not only find various job and internship opportunities\, but also build valuable connections that can open your career path forward. Explore different fields and companies by asking the professionals themselves about their organization\, industry\, & more! Not feeling prepared? We will have Prepare For The Fair events every day leading up to the big day and stations at the fair in our student “Prep Room”!
URL:https://www.lasalle.edu/event/spring-career-fair/
LOCATION:Founders’ Hall Atrium
CATEGORIES:Job/Career
END:VEVENT
BEGIN:VEVENT
DTSTART;TZID=America/New_York:20260219T120000
DTEND;TZID=America/New_York:20260219T140000
DTSTAMP:20260420T170104
CREATED:20260108T094803Z
LAST-MODIFIED:20260219T185033Z
UID:10005416-1771502400-1771509600@www.lasalle.edu
SUMMARY:Spring Career Fair
DESCRIPTION:Prepare for your next move at the Spring Career Fair 2026! Here\, you will not only find various job and internship opportunities\, but also build valuable connections that can open your career path forward. Explore different fields and companies by asking the professionals themselves about their organization\, industry\, & more! Not feeling prepared? We will have Prepare For The Fair events every day leading up to the big day and stations at the fair in our student “Prep Room”!
URL:https://www.lasalle.edu/event/spring-career-fair-2/
LOCATION:Founders’ Hall Auditorium (105)
CATEGORIES:Job/Career
END:VEVENT
BEGIN:VEVENT
DTSTART;TZID=America/New_York:20260226T083000
DTEND;TZID=America/New_York:20260226T150000
DTSTAMP:20260420T170104
CREATED:20260216T093606Z
LAST-MODIFIED:20260224T225144Z
UID:10005541-1772094600-1772118000@www.lasalle.edu
SUMMARY:Spring Career Fair - Back Up Date/Snow Date
DESCRIPTION:Prepare for your next move at the Spring Career Fair 2026! Here\, you will not only find various job and internship opportunities\, but also build valuable connections that can open your career path forward. Explore different fields and companies by asking the professionals themselves about their organization\, industry\, & more! Not feeling prepared? We will have Prepare For The Fair events every day leading up to the big day and stations at the fair in our student “Prep Room”!
URL:https://www.lasalle.edu/event/spring-career-fair-back-up-date-snow-date/
LOCATION:Founders’ Hall Atrium
CATEGORIES:Job/Career
END:VEVENT
BEGIN:VEVENT
DTSTART;TZID=America/New_York:20260226T083000
DTEND;TZID=America/New_York:20260226T150000
DTSTAMP:20260420T170104
CREATED:20260216T093607Z
LAST-MODIFIED:20260224T225144Z
UID:10005542-1772094600-1772118000@www.lasalle.edu
SUMMARY:Spring Career Fair - Back Up Date/Snow Date
DESCRIPTION:Prepare for your next move at the Spring Career Fair 2026! Here\, you will not only find various job and internship opportunities\, but also build valuable connections that can open your career path forward. Explore different fields and companies by asking the professionals themselves about their organization\, industry\, & more! Not feeling prepared? We will have Prepare For The Fair events every day leading up to the big day and stations at the fair in our student “Prep Room”!
URL:https://www.lasalle.edu/event/spring-career-fair-back-up-date-snow-date-2/
LOCATION:Founders’ Hall Auditorium (105)
CATEGORIES:Job/Career
END:VEVENT
BEGIN:VEVENT
DTSTART;TZID=America/New_York:20260317T120000
DTEND;TZID=America/New_York:20260317T140000
DTSTAMP:20260420T170104
CREATED:20260305T233214Z
LAST-MODIFIED:20260313T153757Z
UID:10005609-1773748800-1773756000@www.lasalle.edu
SUMMARY:Employer tabling - Delaware Department of Human Services
DESCRIPTION:Come visit the union lobby during free period to learn more about the Delaware Department of Health and what opportunities they might have available to you!
URL:https://www.lasalle.edu/event/employer-tabling-delaware-department-of-human-services/
LOCATION:La Salle Union Lobby Table
CATEGORIES:Job/Career
END:VEVENT
BEGIN:VEVENT
DTSTART;TZID=America/New_York:20260401T150000
DTEND;TZID=America/New_York:20260401T200000
DTSTAMP:20260420T170104
CREATED:20260327T025425Z
LAST-MODIFIED:20260401T235739Z
UID:10005683-1775055600-1775073600@www.lasalle.edu
SUMMARY:Style For Success - Dress The Part Fashion Showcase
DESCRIPTION:Style for Success: Dress the Part Fashion Show brings together business\, fashion\, and digital innovation in a high-energy\, interactive experience. In collaboration with the Career Closet\, Career Center\, Digital Explorers Lab\, and the School of Business – this business-professional fashion show highlights how personal style\, confidence\, and modern tools shape your professional brand-both in person and online.
URL:https://www.lasalle.edu/event/style-for-success-dress-the-part-fashion-showcase/
LOCATION:Founders’ Hall Atrium
CATEGORIES:Job/Career
END:VEVENT
BEGIN:VEVENT
DTSTART;TZID=America/New_York:20260401T150000
DTEND;TZID=America/New_York:20260401T200000
DTSTAMP:20260420T170104
CREATED:20260327T025426Z
LAST-MODIFIED:20260401T235739Z
UID:10005684-1775055600-1775073600@www.lasalle.edu
SUMMARY:Style For Success - Dress The Part Fashion Showcase
DESCRIPTION:Style for Success: Dress the Part Fashion Show brings together business\, fashion\, and digital innovation in a high-energy\, interactive experience. In collaboration with the Career Closet\, Career Center\, Digital Explorers Lab\, and the School of Business – this business-professional fashion show highlights how personal style\, confidence\, and modern tools shape your professional brand-both in person and online.
URL:https://www.lasalle.edu/event/style-for-success-dress-the-part-fashion-showcase-2/
LOCATION:Founders’ Hall Auditorium (105)
CATEGORIES:Job/Career
END:VEVENT
END:VCALENDAR