BEGIN:VCALENDAR
VERSION:2.0
PRODID:-//La Salle University - ECPv6.15.20//NONSGML v1.0//EN
CALSCALE:GREGORIAN
METHOD:PUBLISH
X-ORIGINAL-URL:https://www.lasalle.edu
X-WR-CALDESC:Events for La Salle University
REFRESH-INTERVAL;VALUE=DURATION:PT1H
X-Robots-Tag:noindex
X-PUBLISHED-TTL:PT1H
BEGIN:VTIMEZONE
TZID:America/New_York
BEGIN:DAYLIGHT
TZOFFSETFROM:-0500
TZOFFSETTO:-0400
TZNAME:EDT
DTSTART:20220313T070000
END:DAYLIGHT
BEGIN:STANDARD
TZOFFSETFROM:-0400
TZOFFSETTO:-0500
TZNAME:EST
DTSTART:20221106T060000
END:STANDARD
BEGIN:DAYLIGHT
TZOFFSETFROM:-0500
TZOFFSETTO:-0400
TZNAME:EDT
DTSTART:20230312T070000
END:DAYLIGHT
BEGIN:STANDARD
TZOFFSETFROM:-0400
TZOFFSETTO:-0500
TZNAME:EST
DTSTART:20231105T060000
END:STANDARD
BEGIN:DAYLIGHT
TZOFFSETFROM:-0500
TZOFFSETTO:-0400
TZNAME:EDT
DTSTART:20240310T070000
END:DAYLIGHT
BEGIN:STANDARD
TZOFFSETFROM:-0400
TZOFFSETTO:-0500
TZNAME:EST
DTSTART:20241103T060000
END:STANDARD
END:VTIMEZONE
BEGIN:VEVENT
DTSTART;TZID=America/New_York:20231103T100000
DTEND;TZID=America/New_York:20231103T110000
DTSTAMP:20260423T045816
CREATED:20231014T143940Z
LAST-MODIFIED:20231102T214756Z
UID:10001794-1699005600-1699009200@www.lasalle.edu
SUMMARY:Campus Engagement Council
DESCRIPTION:Campus Engagemen Council
URL:https://www.lasalle.edu/event/campus-engagement-council-3/
LOCATION:La Salle Union 310
CATEGORIES:Leadership Development
END:VEVENT
BEGIN:VEVENT
DTSTART;TZID=America/New_York:20231102T123000
DTEND;TZID=America/New_York:20231102T140000
DTSTAMP:20260423T045816
CREATED:20231014T143940Z
LAST-MODIFIED:20231025T174540Z
UID:10001792-1698928200-1698933600@www.lasalle.edu
SUMMARY:Explorers CARE and UMAS Workshop
DESCRIPTION:Explorers CARE and UMAS Workshop
URL:https://www.lasalle.edu/event/explorers-care-and-umas-workshop/
LOCATION:La Salle Union 310
CATEGORIES:Leadership Development
END:VEVENT
BEGIN:VEVENT
DTSTART;TZID=America/New_York:20231027T100000
DTEND;TZID=America/New_York:20231027T110000
DTSTAMP:20260423T045816
CREATED:20231014T143936Z
LAST-MODIFIED:20231025T174536Z
UID:10001788-1698400800-1698404400@www.lasalle.edu
SUMMARY:Campus Engagement Council
DESCRIPTION:Campus Engagemen Council
URL:https://www.lasalle.edu/event/campus-engagement-council-2/
LOCATION:La Salle Union 310
CATEGORIES:Leadership Development
END:VEVENT
BEGIN:VEVENT
DTSTART;TZID=America/New_York:20231025T211500
DTEND;TZID=America/New_York:20231025T230000
DTSTAMP:20260423T045816
CREATED:20231025T174535Z
LAST-MODIFIED:20231025T174535Z
UID:10001869-1698268500-1698274800@www.lasalle.edu
SUMMARY:RA All Staff Meeting
DESCRIPTION:RA All Staff Meeting
URL:https://www.lasalle.edu/event/ra-all-staff-meeting/
LOCATION:Holroyd Science Center 190
CATEGORIES:Leadership Development
END:VEVENT
BEGIN:VEVENT
DTSTART;TZID=America/New_York:20231025T170000
DTEND;TZID=America/New_York:20231025T183000
DTSTAMP:20260423T045816
CREATED:20231014T143935Z
LAST-MODIFIED:20231025T174534Z
UID:10001784-1698253200-1698258600@www.lasalle.edu
SUMMARY:Delta Sigma Pi Professional Event
DESCRIPTION:Delta Sigma Pi Professional Event
URL:https://www.lasalle.edu/event/delta-sigma-pi-professional-event/
LOCATION:Founders’ Hall 137
CATEGORIES:Leadership Development
END:VEVENT
BEGIN:VEVENT
DTSTART;TZID=America/New_York:20231020T100000
DTEND;TZID=America/New_York:20231020T110000
DTSTAMP:20260423T045816
CREATED:20231014T143930Z
LAST-MODIFIED:20231016T153718Z
UID:10001779-1697796000-1697799600@www.lasalle.edu
SUMMARY:Campus Engagement Council
DESCRIPTION:Campus Engagemen Council
URL:https://www.lasalle.edu/event/campus-engagement-council/
LOCATION:La Salle Union 310
CATEGORIES:Leadership Development
END:VEVENT
BEGIN:VEVENT
DTSTART;TZID=America/New_York:20231019T113000
DTEND;TZID=America/New_York:20231019T143000
DTSTAMP:20260423T045816
CREATED:20231014T143928Z
LAST-MODIFIED:20231016T153716Z
UID:10001776-1697715000-1697725800@www.lasalle.edu
SUMMARY:Meet the Greeks
DESCRIPTION:Meet the Greeks
URL:https://www.lasalle.edu/event/meet-the-greeks/
LOCATION:La Salle Union Union Patio
CATEGORIES:Leadership Development
END:VEVENT
BEGIN:VEVENT
DTSTART;TZID=America/New_York:20230912T123000
DTEND;TZID=America/New_York:20230912T140000
DTSTAMP:20260423T045816
CREATED:20230816T153428Z
LAST-MODIFIED:20230816T181204Z
UID:10001672-1694521800-1694527200@www.lasalle.edu
SUMMARY:AASL - Meet the e-board
DESCRIPTION:AASL Meet the e-board
URL:https://www.lasalle.edu/event/aasl-meet-the-e-board/
LOCATION:La Salle Union Dunleavy Room
CATEGORIES:Leadership Development
END:VEVENT
BEGIN:VEVENT
DTSTART;TZID=America/New_York:20230823T100000
DTEND;TZID=America/New_York:20230823T150000
DTSTAMP:20260423T045816
CREATED:20230816T153425Z
LAST-MODIFIED:20230816T181202Z
UID:10001662-1692784800-1692802800@www.lasalle.edu
SUMMARY:Commuter Coach Training
DESCRIPTION:Commuter Connector Training
URL:https://www.lasalle.edu/event/commuter-coach-training/
LOCATION:La Salle Union McShain Boardroom
CATEGORIES:Leadership Development
END:VEVENT
END:VCALENDAR