BEGIN:VCALENDAR
VERSION:2.0
PRODID:-//La Salle University - ECPv6.15.20//NONSGML v1.0//EN
CALSCALE:GREGORIAN
METHOD:PUBLISH
X-WR-CALNAME:La Salle University
X-ORIGINAL-URL:https://www.lasalle.edu
X-WR-CALDESC:Events for La Salle University
REFRESH-INTERVAL;VALUE=DURATION:PT1H
X-Robots-Tag:noindex
X-PUBLISHED-TTL:PT1H
BEGIN:VTIMEZONE
TZID:America/New_York
BEGIN:DAYLIGHT
TZOFFSETFROM:-0500
TZOFFSETTO:-0400
TZNAME:EDT
DTSTART:20240310T070000
END:DAYLIGHT
BEGIN:STANDARD
TZOFFSETFROM:-0400
TZOFFSETTO:-0500
TZNAME:EST
DTSTART:20241103T060000
END:STANDARD
BEGIN:DAYLIGHT
TZOFFSETFROM:-0500
TZOFFSETTO:-0400
TZNAME:EDT
DTSTART:20250309T070000
END:DAYLIGHT
BEGIN:STANDARD
TZOFFSETFROM:-0400
TZOFFSETTO:-0500
TZNAME:EST
DTSTART:20251102T060000
END:STANDARD
BEGIN:DAYLIGHT
TZOFFSETFROM:-0500
TZOFFSETTO:-0400
TZNAME:EDT
DTSTART:20260308T070000
END:DAYLIGHT
BEGIN:STANDARD
TZOFFSETFROM:-0400
TZOFFSETTO:-0500
TZNAME:EST
DTSTART:20261101T060000
END:STANDARD
END:VTIMEZONE
BEGIN:VEVENT
DTSTART;TZID=America/New_York:20250902T123000
DTEND;TZID=America/New_York:20250902T133000
DTSTAMP:20260422T224135
CREATED:20250827T045350Z
LAST-MODIFIED:20250902T165243Z
UID:10004977-1756816200-1756819800@www.lasalle.edu
SUMMARY:APASA
DESCRIPTION:APASA
URL:https://www.lasalle.edu/event/apasa/
LOCATION:La Salle Union 312
CATEGORIES:Multicultural/Diversity
END:VEVENT
BEGIN:VEVENT
DTSTART;TZID=America/New_York:20250915T080000
DTEND;TZID=America/New_York:20250915T170000
DTSTAMP:20260422T224135
CREATED:20250909T123726Z
LAST-MODIFIED:20250915T204318Z
UID:10004993-1757923200-1757955600@www.lasalle.edu
SUMMARY:Deprung Gomang handicraft
DESCRIPTION:Deprung Gomang handicraft
URL:https://www.lasalle.edu/event/deprung-gomang-handicraft/
LOCATION:La Salle Union Lobby Table
CATEGORIES:Multicultural/Diversity
END:VEVENT
BEGIN:VEVENT
DTSTART;TZID=America/New_York:20250916T080000
DTEND;TZID=America/New_York:20250916T170000
DTSTAMP:20260422T224135
CREATED:20250910T235703Z
LAST-MODIFIED:20250916T203838Z
UID:10004994-1758009600-1758042000@www.lasalle.edu
SUMMARY:Deprung Gomang handicraft
DESCRIPTION:Deprung Gomang handicraft
URL:https://www.lasalle.edu/event/deprung-gomang-handicraft-2/
LOCATION:La Salle Union Lobby Table
CATEGORIES:Multicultural/Diversity
END:VEVENT
BEGIN:VEVENT
DTSTART;TZID=America/New_York:20250916T160000
DTEND;TZID=America/New_York:20250916T180000
DTSTAMP:20260422T224135
CREATED:20250725T173945Z
LAST-MODIFIED:20250916T214706Z
UID:10004953-1758038400-1758045600@www.lasalle.edu
SUMMARY:MIC: Welcome Reception Union 3rd Floor 307
DESCRIPTION:MIC: Welcome Reception in Art Museum
URL:https://www.lasalle.edu/event/mic-welcome-reception-in-art-museum/
LOCATION:La Salle On-Campus Event
CATEGORIES:Multicultural/Diversity
END:VEVENT
BEGIN:VEVENT
DTSTART;TZID=America/New_York:20250917T080000
DTEND;TZID=America/New_York:20250917T170000
DTSTAMP:20260422T224135
CREATED:20250911T203108Z
LAST-MODIFIED:20250917T203507Z
UID:10004996-1758096000-1758128400@www.lasalle.edu
SUMMARY:Deprung Gomang handicraft
DESCRIPTION:Deprung Gomang handicraft
URL:https://www.lasalle.edu/event/deprung-gomang-handicraft-3/
LOCATION:La Salle Union Lobby Table
CATEGORIES:Multicultural/Diversity
END:VEVENT
BEGIN:VEVENT
DTSTART;TZID=America/New_York:20250918T080000
DTEND;TZID=America/New_York:20250918T170000
DTSTAMP:20260422T224135
CREATED:20250913T193645Z
LAST-MODIFIED:20250918T203526Z
UID:10004998-1758182400-1758214800@www.lasalle.edu
SUMMARY:Deprung Gomang handicraft
DESCRIPTION:Deprung Gomang handicraft
URL:https://www.lasalle.edu/event/deprung-gomang-handicraft-4/
LOCATION:La Salle Union Lobby Table
CATEGORIES:Multicultural/Diversity
END:VEVENT
BEGIN:VEVENT
DTSTART;TZID=America/New_York:20250919T080000
DTEND;TZID=America/New_York:20250919T170000
DTSTAMP:20260422T224135
CREATED:20250917T005735Z
LAST-MODIFIED:20250919T203546Z
UID:10005006-1758268800-1758301200@www.lasalle.edu
SUMMARY:Deprung Gomang handicraft
DESCRIPTION:Deprung Gomang handicraft
URL:https://www.lasalle.edu/event/deprung-gomang-handicraft-5/
LOCATION:La Salle Union Lobby Table
CATEGORIES:Multicultural/Diversity
END:VEVENT
END:VCALENDAR