BEGIN:VCALENDAR
VERSION:2.0
PRODID:-//La Salle University - ECPv6.15.20//NONSGML v1.0//EN
CALSCALE:GREGORIAN
METHOD:PUBLISH
X-WR-CALNAME:La Salle University
X-ORIGINAL-URL:https://www.lasalle.edu
X-WR-CALDESC:Events for La Salle University
REFRESH-INTERVAL;VALUE=DURATION:PT1H
X-Robots-Tag:noindex
X-PUBLISHED-TTL:PT1H
BEGIN:VTIMEZONE
TZID:America/New_York
BEGIN:DAYLIGHT
TZOFFSETFROM:-0500
TZOFFSETTO:-0400
TZNAME:EDT
DTSTART:20250309T070000
END:DAYLIGHT
BEGIN:STANDARD
TZOFFSETFROM:-0400
TZOFFSETTO:-0500
TZNAME:EST
DTSTART:20251102T060000
END:STANDARD
BEGIN:DAYLIGHT
TZOFFSETFROM:-0500
TZOFFSETTO:-0400
TZNAME:EDT
DTSTART:20260308T070000
END:DAYLIGHT
BEGIN:STANDARD
TZOFFSETFROM:-0400
TZOFFSETTO:-0500
TZNAME:EST
DTSTART:20261101T060000
END:STANDARD
BEGIN:DAYLIGHT
TZOFFSETFROM:-0500
TZOFFSETTO:-0400
TZNAME:EDT
DTSTART:20270314T070000
END:DAYLIGHT
BEGIN:STANDARD
TZOFFSETFROM:-0400
TZOFFSETTO:-0500
TZNAME:EST
DTSTART:20271107T060000
END:STANDARD
END:VTIMEZONE
BEGIN:VEVENT
DTSTART;TZID=America/New_York:20260409T180000
DTEND;TZID=America/New_York:20260409T210000
DTSTAMP:20260424T202205
CREATED:20260308T103105Z
LAST-MODIFIED:20260410T004002Z
UID:10005657-1775757600-1775768400@www.lasalle.edu
SUMMARY:Senior BSCP/BSMBA & Fellows Senior Dinner
DESCRIPTION:Senior BSCP/BSMBA & Fellows Senior Dinner
URL:https://www.lasalle.edu/event/senior-bscp-bsmba-fellows-senior-dinner/
LOCATION:Founders’ Hall Atrium
CATEGORIES:Reception
END:VEVENT
BEGIN:VEVENT
DTSTART;TZID=America/New_York:20260415T170000
DTEND;TZID=America/New_York:20260415T210000
DTSTAMP:20260424T202205
CREATED:20260415T175530Z
LAST-MODIFIED:20260416T005154Z
UID:10005723-1776272400-1776286800@www.lasalle.edu
SUMMARY:SA&S Student Awards Celebration
DESCRIPTION:This is the annual end-of-year student celebration for the School of Arts & Sciences.
URL:https://www.lasalle.edu/event/sas-student-awards-celebration/
LOCATION:Holroyd Science Center Atrium
CATEGORIES:Reception
END:VEVENT
END:VCALENDAR