BEGIN:VCALENDAR
VERSION:2.0
PRODID:-//La Salle University - ECPv6.15.20//NONSGML v1.0//EN
CALSCALE:GREGORIAN
METHOD:PUBLISH
X-ORIGINAL-URL:https://www.lasalle.edu
X-WR-CALDESC:Events for La Salle University
REFRESH-INTERVAL;VALUE=DURATION:PT1H
X-Robots-Tag:noindex
X-PUBLISHED-TTL:PT1H
BEGIN:VTIMEZONE
TZID:America/New_York
BEGIN:DAYLIGHT
TZOFFSETFROM:-0500
TZOFFSETTO:-0400
TZNAME:EDT
DTSTART:20230312T070000
END:DAYLIGHT
BEGIN:STANDARD
TZOFFSETFROM:-0400
TZOFFSETTO:-0500
TZNAME:EST
DTSTART:20231105T060000
END:STANDARD
BEGIN:DAYLIGHT
TZOFFSETFROM:-0500
TZOFFSETTO:-0400
TZNAME:EDT
DTSTART:20240310T070000
END:DAYLIGHT
BEGIN:STANDARD
TZOFFSETFROM:-0400
TZOFFSETTO:-0500
TZNAME:EST
DTSTART:20241103T060000
END:STANDARD
BEGIN:DAYLIGHT
TZOFFSETFROM:-0500
TZOFFSETTO:-0400
TZNAME:EDT
DTSTART:20250309T070000
END:DAYLIGHT
BEGIN:STANDARD
TZOFFSETFROM:-0400
TZOFFSETTO:-0500
TZNAME:EST
DTSTART:20251102T060000
END:STANDARD
END:VTIMEZONE
BEGIN:VEVENT
DTSTART;TZID=America/New_York:20240327T130000
DTEND;TZID=America/New_York:20240327T140000
DTSTAMP:20260421T164002
CREATED:20240209T043944Z
LAST-MODIFIED:20240327T173644Z
UID:10002590-1711544400-1711548000@www.lasalle.edu
SUMMARY:Daily Mass
DESCRIPTION:Daily Mass
URL:https://www.lasalle.edu/event/daily-mass-27/
LOCATION:College Hall De La Salle Chapel
CATEGORIES:Religious
END:VEVENT
BEGIN:VEVENT
DTSTART;TZID=America/New_York:20240326T133000
DTEND;TZID=America/New_York:20240326T160000
DTSTAMP:20260421T164002
CREATED:20240209T043940Z
LAST-MODIFIED:20240326T193944Z
UID:10002588-1711459800-1711468800@www.lasalle.edu
SUMMARY:Adoration
DESCRIPTION:Adoration
URL:https://www.lasalle.edu/event/adoration-7/
LOCATION:College Hall De La Salle Chapel
CATEGORIES:Religious
END:VEVENT
BEGIN:VEVENT
DTSTART;TZID=America/New_York:20240326T130000
DTEND;TZID=America/New_York:20240326T133000
DTSTAMP:20260421T164002
CREATED:20240209T043941Z
LAST-MODIFIED:20240326T164955Z
UID:10002589-1711458000-1711459800@www.lasalle.edu
SUMMARY:Daily Mass
DESCRIPTION:Daily Mass
URL:https://www.lasalle.edu/event/daily-mass-26/
LOCATION:College Hall De La Salle Chapel
CATEGORIES:Religious
END:VEVENT
BEGIN:VEVENT
DTSTART;TZID=America/New_York:20240325T130000
DTEND;TZID=America/New_York:20240325T140000
DTSTAMP:20260421T164002
CREATED:20240209T043939Z
LAST-MODIFIED:20240325T173740Z
UID:10002587-1711371600-1711375200@www.lasalle.edu
SUMMARY:Daily Mass
DESCRIPTION:Daily Mass
URL:https://www.lasalle.edu/event/daily-mass-25/
LOCATION:College Hall De La Salle Chapel
CATEGORIES:Religious
END:VEVENT
BEGIN:VEVENT
DTSTART;TZID=America/New_York:20240324T170000
DTEND;TZID=America/New_York:20240324T180000
DTSTAMP:20260421T164002
CREATED:20240209T043939Z
LAST-MODIFIED:20240324T213553Z
UID:10002586-1711299600-1711303200@www.lasalle.edu
SUMMARY:Weekend Mass
DESCRIPTION:Weekend Mass
URL:https://www.lasalle.edu/event/weekend-mass-7/
LOCATION:College Hall De La Salle Chapel
CATEGORIES:Religious
END:VEVENT
BEGIN:VEVENT
DTSTART;TZID=America/New_York:20240321T130000
DTEND;TZID=America/New_York:20240321T140000
DTSTAMP:20260421T164003
CREATED:20240209T043937Z
LAST-MODIFIED:20240321T173840Z
UID:10002585-1711026000-1711029600@www.lasalle.edu
SUMMARY:Daily Mass
DESCRIPTION:Daily Mass
URL:https://www.lasalle.edu/event/daily-mass-24/
LOCATION:College Hall De La Salle Chapel
CATEGORIES:Religious
END:VEVENT
BEGIN:VEVENT
DTSTART;TZID=America/New_York:20240320T130000
DTEND;TZID=America/New_York:20240320T140000
DTSTAMP:20260421T164003
CREATED:20240209T043932Z
LAST-MODIFIED:20240320T174846Z
UID:10002583-1710939600-1710943200@www.lasalle.edu
SUMMARY:Daily Mass
DESCRIPTION:Daily Mass
URL:https://www.lasalle.edu/event/daily-mass-23/
LOCATION:College Hall De La Salle Chapel
CATEGORIES:Religious
END:VEVENT
BEGIN:VEVENT
DTSTART;TZID=America/New_York:20240319T133000
DTEND;TZID=America/New_York:20240319T160000
DTSTAMP:20260421T164003
CREATED:20240209T043932Z
LAST-MODIFIED:20240319T193758Z
UID:10002582-1710855000-1710864000@www.lasalle.edu
SUMMARY:Adoration
DESCRIPTION:Adoration
URL:https://www.lasalle.edu/event/adoration-6/
LOCATION:College Hall De La Salle Chapel
CATEGORIES:Religious
END:VEVENT
BEGIN:VEVENT
DTSTART;TZID=America/New_York:20240319T130000
DTEND;TZID=America/New_York:20240319T133000
DTSTAMP:20260421T164003
CREATED:20240209T043930Z
LAST-MODIFIED:20240319T163936Z
UID:10002581-1710853200-1710855000@www.lasalle.edu
SUMMARY:Daily Mass
DESCRIPTION:Daily Mass
URL:https://www.lasalle.edu/event/daily-mass-22/
LOCATION:College Hall De La Salle Chapel
CATEGORIES:Religious
END:VEVENT
BEGIN:VEVENT
DTSTART;TZID=America/New_York:20240318T130000
DTEND;TZID=America/New_York:20240318T140000
DTSTAMP:20260421T164003
CREATED:20240209T043926Z
LAST-MODIFIED:20240318T173921Z
UID:10002579-1710766800-1710770400@www.lasalle.edu
SUMMARY:Daily Mass
DESCRIPTION:Daily Mass
URL:https://www.lasalle.edu/event/daily-mass-21/
LOCATION:College Hall De La Salle Chapel
CATEGORIES:Religious
END:VEVENT
BEGIN:VEVENT
DTSTART;TZID=America/New_York:20240317T170000
DTEND;TZID=America/New_York:20240317T180000
DTSTAMP:20260421T164003
CREATED:20240209T043924Z
LAST-MODIFIED:20240317T213859Z
UID:10002577-1710694800-1710698400@www.lasalle.edu
SUMMARY:Weekend Mass
DESCRIPTION:Weekend Mass
URL:https://www.lasalle.edu/event/weekend-mass-6/
LOCATION:College Hall De La Salle Chapel
CATEGORIES:Religious
END:VEVENT
BEGIN:VEVENT
DTSTART;TZID=America/New_York:20240314T170000
DTEND;TZID=America/New_York:20240314T180000
DTSTAMP:20260421T164003
CREATED:20240209T043923Z
LAST-MODIFIED:20240314T213805Z
UID:10002576-1710435600-1710439200@www.lasalle.edu
SUMMARY:Evensong
DESCRIPTION:Evensong
URL:https://www.lasalle.edu/event/evensong-5/
LOCATION:College Hall De La Salle Chapel
CATEGORIES:Religious
END:VEVENT
BEGIN:VEVENT
DTSTART;TZID=America/New_York:20240314T130000
DTEND;TZID=America/New_York:20240314T140000
DTSTAMP:20260421T164003
CREATED:20240209T043922Z
LAST-MODIFIED:20240314T173822Z
UID:10002575-1710421200-1710424800@www.lasalle.edu
SUMMARY:Daily Mass
DESCRIPTION:Daily Mass
URL:https://www.lasalle.edu/event/daily-mass-20/
LOCATION:College Hall De La Salle Chapel
CATEGORIES:Religious
END:VEVENT
BEGIN:VEVENT
DTSTART;TZID=America/New_York:20240313T130000
DTEND;TZID=America/New_York:20240313T140000
DTSTAMP:20260421T164003
CREATED:20240209T043920Z
LAST-MODIFIED:20240313T173738Z
UID:10002574-1710334800-1710338400@www.lasalle.edu
SUMMARY:Daily Mass
DESCRIPTION:Daily Mass
URL:https://www.lasalle.edu/event/daily-mass-19/
LOCATION:College Hall De La Salle Chapel
CATEGORIES:Religious
END:VEVENT
BEGIN:VEVENT
DTSTART;TZID=America/New_York:20240312T133000
DTEND;TZID=America/New_York:20240312T160000
DTSTAMP:20260421T164003
CREATED:20240209T043920Z
LAST-MODIFIED:20240312T193701Z
UID:10002573-1710250200-1710259200@www.lasalle.edu
SUMMARY:Adoration
DESCRIPTION:Adoration
URL:https://www.lasalle.edu/event/adoration-5/
LOCATION:College Hall De La Salle Chapel
CATEGORIES:Religious
END:VEVENT
BEGIN:VEVENT
DTSTART;TZID=America/New_York:20240312T130000
DTEND;TZID=America/New_York:20240312T133000
DTSTAMP:20260421T164003
CREATED:20240209T043919Z
LAST-MODIFIED:20240312T164019Z
UID:10002572-1710248400-1710250200@www.lasalle.edu
SUMMARY:Daily Mass
DESCRIPTION:Daily Mass
URL:https://www.lasalle.edu/event/daily-mass-18/
LOCATION:College Hall De La Salle Chapel
CATEGORIES:Religious
END:VEVENT
BEGIN:VEVENT
DTSTART;TZID=America/New_York:20240311T130000
DTEND;TZID=America/New_York:20240311T140000
DTSTAMP:20260421T164003
CREATED:20240209T043918Z
LAST-MODIFIED:20240311T173837Z
UID:10002571-1710162000-1710165600@www.lasalle.edu
SUMMARY:Daily Mass
DESCRIPTION:Daily Mass
URL:https://www.lasalle.edu/event/daily-mass-17/
LOCATION:College Hall De La Salle Chapel
CATEGORIES:Religious
END:VEVENT
BEGIN:VEVENT
DTSTART;TZID=America/New_York:20240310T170000
DTEND;TZID=America/New_York:20240310T180000
DTSTAMP:20260421T164003
CREATED:20240209T043918Z
LAST-MODIFIED:20240310T213231Z
UID:10002570-1710090000-1710093600@www.lasalle.edu
SUMMARY:Weekend Mass
DESCRIPTION:Weekend Mass
URL:https://www.lasalle.edu/event/weekend-mass-5/
LOCATION:College Hall De La Salle Chapel
CATEGORIES:Religious
END:VEVENT
BEGIN:VEVENT
DTSTART;TZID=America/New_York:20240310T130000
DTEND;TZID=America/New_York:20240310T140000
DTSTAMP:20260421T164003
CREATED:20240209T043917Z
LAST-MODIFIED:20240310T173414Z
UID:10002569-1710075600-1710079200@www.lasalle.edu
SUMMARY:Weekend Mass
DESCRIPTION:Weekend Mass
URL:https://www.lasalle.edu/event/weekend-mass-4/
LOCATION:College Hall De La Salle Chapel
CATEGORIES:Religious
END:VEVENT
BEGIN:VEVENT
DTSTART;TZID=America/New_York:20240307T170000
DTEND;TZID=America/New_York:20240307T180000
DTSTAMP:20260421T164003
CREATED:20240209T043915Z
LAST-MODIFIED:20240307T213802Z
UID:10002568-1709830800-1709834400@www.lasalle.edu
SUMMARY:Evensong
DESCRIPTION:Evensong
URL:https://www.lasalle.edu/event/evensong-4/
LOCATION:College Hall De La Salle Chapel
CATEGORIES:Religious
END:VEVENT
BEGIN:VEVENT
DTSTART;TZID=America/New_York:20240307T130000
DTEND;TZID=America/New_York:20240307T140000
DTSTAMP:20260421T164003
CREATED:20240209T043914Z
LAST-MODIFIED:20240307T183852Z
UID:10002567-1709816400-1709820000@www.lasalle.edu
SUMMARY:Daily Mass
DESCRIPTION:Daily Mass
URL:https://www.lasalle.edu/event/daily-mass-16/
LOCATION:College Hall De La Salle Chapel
CATEGORIES:Religious
END:VEVENT
BEGIN:VEVENT
DTSTART;TZID=America/New_York:20240306T130000
DTEND;TZID=America/New_York:20240306T140000
DTSTAMP:20260421T164003
CREATED:20240209T043911Z
LAST-MODIFIED:20240306T183800Z
UID:10002566-1709730000-1709733600@www.lasalle.edu
SUMMARY:Daily Mass
DESCRIPTION:Daily Mass
URL:https://www.lasalle.edu/event/daily-mass-15/
LOCATION:College Hall De La Salle Chapel
CATEGORIES:Religious
END:VEVENT
BEGIN:VEVENT
DTSTART;TZID=America/New_York:20240305T133000
DTEND;TZID=America/New_York:20240305T160000
DTSTAMP:20260421T164003
CREATED:20240209T043910Z
LAST-MODIFIED:20240305T203320Z
UID:10002565-1709645400-1709654400@www.lasalle.edu
SUMMARY:Adoration
DESCRIPTION:Adoration
URL:https://www.lasalle.edu/event/adoration-4/
LOCATION:College Hall De La Salle Chapel
CATEGORIES:Religious
END:VEVENT
BEGIN:VEVENT
DTSTART;TZID=America/New_York:20240305T130000
DTEND;TZID=America/New_York:20240305T133000
DTSTAMP:20260421T164003
CREATED:20240209T043908Z
LAST-MODIFIED:20240305T173919Z
UID:10002564-1709643600-1709645400@www.lasalle.edu
SUMMARY:Daily Mass
DESCRIPTION:Daily Mass
URL:https://www.lasalle.edu/event/daily-mass-14/
LOCATION:College Hall De La Salle Chapel
CATEGORIES:Religious
END:VEVENT
BEGIN:VEVENT
DTSTART;TZID=America/New_York:20240304T130000
DTEND;TZID=America/New_York:20240304T140000
DTSTAMP:20260421T164003
CREATED:20240209T043907Z
LAST-MODIFIED:20240304T184046Z
UID:10002563-1709557200-1709560800@www.lasalle.edu
SUMMARY:Daily Mass
DESCRIPTION:Daily Mass
URL:https://www.lasalle.edu/event/daily-mass-13/
LOCATION:College Hall De La Salle Chapel
CATEGORIES:Religious
END:VEVENT
BEGIN:VEVENT
DTSTART;TZID=America/New_York:20240303T170000
DTEND;TZID=America/New_York:20240303T180000
DTSTAMP:20260421T164003
CREATED:20240209T043906Z
LAST-MODIFIED:20240303T223356Z
UID:10002562-1709485200-1709488800@www.lasalle.edu
SUMMARY:Weekend Mass
DESCRIPTION:Weekend Mass
URL:https://www.lasalle.edu/event/weekend-mass-3/
LOCATION:College Hall De La Salle Chapel
CATEGORIES:Religious
END:VEVENT
BEGIN:VEVENT
DTSTART;TZID=America/New_York:20240229T170000
DTEND;TZID=America/New_York:20240229T180000
DTSTAMP:20260421T164003
CREATED:20240209T043903Z
LAST-MODIFIED:20240229T223556Z
UID:10002561-1709226000-1709229600@www.lasalle.edu
SUMMARY:Evensong
DESCRIPTION:Evensong
URL:https://www.lasalle.edu/event/evensong-3/
LOCATION:College Hall De La Salle Chapel
CATEGORIES:Religious
END:VEVENT
BEGIN:VEVENT
DTSTART;TZID=America/New_York:20240229T130000
DTEND;TZID=America/New_York:20240229T140000
DTSTAMP:20260421T164003
CREATED:20240209T043902Z
LAST-MODIFIED:20240229T183639Z
UID:10002560-1709211600-1709215200@www.lasalle.edu
SUMMARY:Daily Mass
DESCRIPTION:Daily Mass
URL:https://www.lasalle.edu/event/daily-mass-12/
LOCATION:College Hall De La Salle Chapel
CATEGORIES:Religious
END:VEVENT
BEGIN:VEVENT
DTSTART;TZID=America/New_York:20240228T130000
DTEND;TZID=America/New_York:20240228T140000
DTSTAMP:20260421T164003
CREATED:20240209T043859Z
LAST-MODIFIED:20240228T184342Z
UID:10002558-1709125200-1709128800@www.lasalle.edu
SUMMARY:Daily Mass
DESCRIPTION:Daily Mass
URL:https://www.lasalle.edu/event/daily-mass-11/
LOCATION:College Hall De La Salle Chapel
CATEGORIES:Religious
END:VEVENT
BEGIN:VEVENT
DTSTART;TZID=America/New_York:20240227T133000
DTEND;TZID=America/New_York:20240227T160000
DTSTAMP:20260421T164003
CREATED:20240209T043855Z
LAST-MODIFIED:20240227T204315Z
UID:10002556-1709040600-1709049600@www.lasalle.edu
SUMMARY:Adoration
DESCRIPTION:Adoration
URL:https://www.lasalle.edu/event/adoration-3/
LOCATION:College Hall De La Salle Chapel
CATEGORIES:Religious
END:VEVENT
END:VCALENDAR