BEGIN:VCALENDAR
VERSION:2.0
PRODID:-//La Salle University - ECPv6.15.20//NONSGML v1.0//EN
CALSCALE:GREGORIAN
METHOD:PUBLISH
X-ORIGINAL-URL:https://www.lasalle.edu
X-WR-CALDESC:Events for La Salle University
REFRESH-INTERVAL;VALUE=DURATION:PT1H
X-Robots-Tag:noindex
X-PUBLISHED-TTL:PT1H
BEGIN:VTIMEZONE
TZID:America/New_York
BEGIN:DAYLIGHT
TZOFFSETFROM:-0500
TZOFFSETTO:-0400
TZNAME:EDT
DTSTART:20220313T070000
END:DAYLIGHT
BEGIN:STANDARD
TZOFFSETFROM:-0400
TZOFFSETTO:-0500
TZNAME:EST
DTSTART:20221106T060000
END:STANDARD
BEGIN:DAYLIGHT
TZOFFSETFROM:-0500
TZOFFSETTO:-0400
TZNAME:EDT
DTSTART:20230312T070000
END:DAYLIGHT
BEGIN:STANDARD
TZOFFSETFROM:-0400
TZOFFSETTO:-0500
TZNAME:EST
DTSTART:20231105T060000
END:STANDARD
BEGIN:DAYLIGHT
TZOFFSETFROM:-0500
TZOFFSETTO:-0400
TZNAME:EDT
DTSTART:20240310T070000
END:DAYLIGHT
BEGIN:STANDARD
TZOFFSETFROM:-0400
TZOFFSETTO:-0500
TZNAME:EST
DTSTART:20241103T060000
END:STANDARD
END:VTIMEZONE
BEGIN:VEVENT
DTSTART;TZID=America/New_York:20231204T113000
DTEND;TZID=America/New_York:20231204T140000
DTSTAMP:20260422T190744
CREATED:20231129T201958Z
LAST-MODIFIED:20231204T173533Z
UID:10002051-1701689400-1701698400@www.lasalle.edu
SUMMARY:Pheed Philly Volunteering
DESCRIPTION:Pheed Philadelphia is a student-led organization that focuses on hunger and food insecurity at LaSalle through direct services\, education\, and advocacy. Students work in the kitchen prepping meals\, washing dishes\, and other tasks. Please bring a face mask\, it is mandatory. Transportation is free!!
URL:https://www.lasalle.edu/event/pheed-philly-volunteering-2/
LOCATION:La Salle Virtual Classroom
CATEGORIES:Religious
END:VEVENT
BEGIN:VEVENT
DTSTART;TZID=America/New_York:20231201T113000
DTEND;TZID=America/New_York:20231201T140000
DTSTAMP:20260422T190744
CREATED:20231129T201954Z
LAST-MODIFIED:20231201T144034Z
UID:10002049-1701430200-1701439200@www.lasalle.edu
SUMMARY:Pheed Philly Volunteering
DESCRIPTION:Pheed Philadelphia is a student-led organization that focuses on hunger and food insecurity at LaSalle through direct services\, education\, and advocacy. Students work in the kitchen prepping meals\, washing dishes\, and other tasks. Please bring a face mask\, it is mandatory. Transportation is free!!
URL:https://www.lasalle.edu/event/pheed-philly-volunteering/
LOCATION:La Salle Virtual Classroom
CATEGORIES:Religious
END:VEVENT
BEGIN:VEVENT
DTSTART;TZID=America/New_York:20231129T211500
DTEND;TZID=America/New_York:20231129T221500
DTSTAMP:20260422T190744
CREATED:20231129T201950Z
LAST-MODIFIED:20231129T201950Z
UID:10002045-1701292500-1701296100@www.lasalle.edu
SUMMARY:Advent Bible Study
DESCRIPTION:Advent Bible Study
URL:https://www.lasalle.edu/event/advent-bible-study/
LOCATION:College Hall Chapel Lounge
CATEGORIES:Religious
END:VEVENT
END:VCALENDAR