BEGIN:VCALENDAR
VERSION:2.0
PRODID:-//La Salle University - ECPv6.15.20//NONSGML v1.0//EN
CALSCALE:GREGORIAN
METHOD:PUBLISH
X-WR-CALNAME:La Salle University
X-ORIGINAL-URL:https://www.lasalle.edu
X-WR-CALDESC:Events for La Salle University
REFRESH-INTERVAL;VALUE=DURATION:PT1H
X-Robots-Tag:noindex
X-PUBLISHED-TTL:PT1H
BEGIN:VTIMEZONE
TZID:America/New_York
BEGIN:DAYLIGHT
TZOFFSETFROM:-0500
TZOFFSETTO:-0400
TZNAME:EDT
DTSTART:20220313T070000
END:DAYLIGHT
BEGIN:STANDARD
TZOFFSETFROM:-0400
TZOFFSETTO:-0500
TZNAME:EST
DTSTART:20221106T060000
END:STANDARD
BEGIN:DAYLIGHT
TZOFFSETFROM:-0500
TZOFFSETTO:-0400
TZNAME:EDT
DTSTART:20230312T070000
END:DAYLIGHT
BEGIN:STANDARD
TZOFFSETFROM:-0400
TZOFFSETTO:-0500
TZNAME:EST
DTSTART:20231105T060000
END:STANDARD
BEGIN:DAYLIGHT
TZOFFSETFROM:-0500
TZOFFSETTO:-0400
TZNAME:EDT
DTSTART:20240310T070000
END:DAYLIGHT
BEGIN:STANDARD
TZOFFSETFROM:-0400
TZOFFSETTO:-0500
TZNAME:EST
DTSTART:20241103T060000
END:STANDARD
BEGIN:DAYLIGHT
TZOFFSETFROM:-0500
TZOFFSETTO:-0400
TZNAME:EDT
DTSTART:20250309T070000
END:DAYLIGHT
BEGIN:STANDARD
TZOFFSETFROM:-0400
TZOFFSETTO:-0500
TZNAME:EST
DTSTART:20251102T060000
END:STANDARD
END:VTIMEZONE
BEGIN:VEVENT
DTSTART;TZID=America/New_York:20240304T130000
DTEND;TZID=America/New_York:20240304T140000
DTSTAMP:20260421T093641
CREATED:20240209T043907Z
LAST-MODIFIED:20240304T184046Z
UID:10002563-1709557200-1709560800@www.lasalle.edu
SUMMARY:Daily Mass
DESCRIPTION:Daily Mass
URL:https://www.lasalle.edu/event/daily-mass-13/
LOCATION:College Hall De La Salle Chapel
CATEGORIES:Religious
END:VEVENT
BEGIN:VEVENT
DTSTART;TZID=America/New_York:20240303T170000
DTEND;TZID=America/New_York:20240303T180000
DTSTAMP:20260421T093641
CREATED:20240209T043906Z
LAST-MODIFIED:20240303T223356Z
UID:10002562-1709485200-1709488800@www.lasalle.edu
SUMMARY:Weekend Mass
DESCRIPTION:Weekend Mass
URL:https://www.lasalle.edu/event/weekend-mass-3/
LOCATION:College Hall De La Salle Chapel
CATEGORIES:Religious
END:VEVENT
BEGIN:VEVENT
DTSTART;TZID=America/New_York:20240229T170000
DTEND;TZID=America/New_York:20240229T180000
DTSTAMP:20260421T093641
CREATED:20240209T043903Z
LAST-MODIFIED:20240229T223556Z
UID:10002561-1709226000-1709229600@www.lasalle.edu
SUMMARY:Evensong
DESCRIPTION:Evensong
URL:https://www.lasalle.edu/event/evensong-3/
LOCATION:College Hall De La Salle Chapel
CATEGORIES:Religious
END:VEVENT
BEGIN:VEVENT
DTSTART;TZID=America/New_York:20240229T130000
DTEND;TZID=America/New_York:20240229T140000
DTSTAMP:20260421T093641
CREATED:20240209T043902Z
LAST-MODIFIED:20240229T183639Z
UID:10002560-1709211600-1709215200@www.lasalle.edu
SUMMARY:Daily Mass
DESCRIPTION:Daily Mass
URL:https://www.lasalle.edu/event/daily-mass-12/
LOCATION:College Hall De La Salle Chapel
CATEGORIES:Religious
END:VEVENT
BEGIN:VEVENT
DTSTART;TZID=America/New_York:20240228T130000
DTEND;TZID=America/New_York:20240228T140000
DTSTAMP:20260421T093641
CREATED:20240209T043859Z
LAST-MODIFIED:20240228T184342Z
UID:10002558-1709125200-1709128800@www.lasalle.edu
SUMMARY:Daily Mass
DESCRIPTION:Daily Mass
URL:https://www.lasalle.edu/event/daily-mass-11/
LOCATION:College Hall De La Salle Chapel
CATEGORIES:Religious
END:VEVENT
BEGIN:VEVENT
DTSTART;TZID=America/New_York:20240227T133000
DTEND;TZID=America/New_York:20240227T160000
DTSTAMP:20260421T093641
CREATED:20240209T043855Z
LAST-MODIFIED:20240227T204315Z
UID:10002556-1709040600-1709049600@www.lasalle.edu
SUMMARY:Adoration
DESCRIPTION:Adoration
URL:https://www.lasalle.edu/event/adoration-3/
LOCATION:College Hall De La Salle Chapel
CATEGORIES:Religious
END:VEVENT
BEGIN:VEVENT
DTSTART;TZID=America/New_York:20240227T130000
DTEND;TZID=America/New_York:20240227T133000
DTSTAMP:20260421T093641
CREATED:20240209T043855Z
LAST-MODIFIED:20240227T173858Z
UID:10002557-1709038800-1709040600@www.lasalle.edu
SUMMARY:Daily Mass
DESCRIPTION:Daily Mass
URL:https://www.lasalle.edu/event/daily-mass-10/
LOCATION:College Hall De La Salle Chapel
CATEGORIES:Religious
END:VEVENT
BEGIN:VEVENT
DTSTART;TZID=America/New_York:20240226T130000
DTEND;TZID=America/New_York:20240226T140000
DTSTAMP:20260421T093641
CREATED:20240209T043854Z
LAST-MODIFIED:20240226T175021Z
UID:10002555-1708952400-1708956000@www.lasalle.edu
SUMMARY:Daily Mass
DESCRIPTION:Daily Mass
URL:https://www.lasalle.edu/event/daily-mass-9/
LOCATION:College Hall De La Salle Chapel
CATEGORIES:Religious
END:VEVENT
BEGIN:VEVENT
DTSTART;TZID=America/New_York:20240225T170000
DTEND;TZID=America/New_York:20240225T180000
DTSTAMP:20260421T093641
CREATED:20240209T043853Z
LAST-MODIFIED:20240225T223948Z
UID:10002554-1708880400-1708884000@www.lasalle.edu
SUMMARY:Weekend Mass
DESCRIPTION:Weekend Mass
URL:https://www.lasalle.edu/event/weekend-mass-2/
LOCATION:College Hall De La Salle Chapel
CATEGORIES:Religious
END:VEVENT
BEGIN:VEVENT
DTSTART;TZID=America/New_York:20240222T170000
DTEND;TZID=America/New_York:20240222T180000
DTSTAMP:20260421T093641
CREATED:20240209T043852Z
LAST-MODIFIED:20240222T153325Z
UID:10002553-1708621200-1708624800@www.lasalle.edu
SUMMARY:Evensong
DESCRIPTION:Evensong
URL:https://www.lasalle.edu/event/evensong-2/
LOCATION:College Hall De La Salle Chapel
CATEGORIES:Religious
END:VEVENT
BEGIN:VEVENT
DTSTART;TZID=America/New_York:20240222T130000
DTEND;TZID=America/New_York:20240222T140000
DTSTAMP:20260421T093641
CREATED:20240209T043851Z
LAST-MODIFIED:20240222T153312Z
UID:10002552-1708606800-1708610400@www.lasalle.edu
SUMMARY:Daily Mass
DESCRIPTION:Daily Mass
URL:https://www.lasalle.edu/event/daily-mass-8/
LOCATION:College Hall De La Salle Chapel
CATEGORIES:Religious
END:VEVENT
BEGIN:VEVENT
DTSTART;TZID=America/New_York:20240221T130000
DTEND;TZID=America/New_York:20240221T140000
DTSTAMP:20260421T093641
CREATED:20240209T043844Z
LAST-MODIFIED:20240214T074741Z
UID:10002550-1708520400-1708524000@www.lasalle.edu
SUMMARY:Daily Mass
DESCRIPTION:Daily Mass
URL:https://www.lasalle.edu/event/daily-mass-7/
LOCATION:College Hall De La Salle Chapel
CATEGORIES:Religious
END:VEVENT
BEGIN:VEVENT
DTSTART;TZID=America/New_York:20240220T133000
DTEND;TZID=America/New_York:20240220T160000
DTSTAMP:20260421T093641
CREATED:20240209T043843Z
LAST-MODIFIED:20240214T074738Z
UID:10002549-1708435800-1708444800@www.lasalle.edu
SUMMARY:Adoration
DESCRIPTION:Adoration
URL:https://www.lasalle.edu/event/adoration-2/
LOCATION:College Hall De La Salle Chapel
CATEGORIES:Religious
END:VEVENT
BEGIN:VEVENT
DTSTART;TZID=America/New_York:20240220T130000
DTEND;TZID=America/New_York:20240220T133000
DTSTAMP:20260421T093641
CREATED:20240209T043842Z
LAST-MODIFIED:20240214T074740Z
UID:10002548-1708434000-1708435800@www.lasalle.edu
SUMMARY:Daily Mass
DESCRIPTION:Daily Mass
URL:https://www.lasalle.edu/event/daily-mass-6/
LOCATION:College Hall De La Salle Chapel
CATEGORIES:Religious
END:VEVENT
BEGIN:VEVENT
DTSTART;TZID=America/New_York:20240219T130000
DTEND;TZID=America/New_York:20240219T140000
DTSTAMP:20260421T093641
CREATED:20240209T043840Z
LAST-MODIFIED:20240214T074738Z
UID:10002547-1708347600-1708351200@www.lasalle.edu
SUMMARY:Daily Mass
DESCRIPTION:Daily Mass
URL:https://www.lasalle.edu/event/daily-mass-5/
LOCATION:College Hall De La Salle Chapel
CATEGORIES:Religious
END:VEVENT
BEGIN:VEVENT
DTSTART;TZID=America/New_York:20240218T170000
DTEND;TZID=America/New_York:20240218T180000
DTSTAMP:20260421T093641
CREATED:20240209T043839Z
LAST-MODIFIED:20240214T074737Z
UID:10002546-1708275600-1708279200@www.lasalle.edu
SUMMARY:Weekend Mass
DESCRIPTION:Weekend Mass
URL:https://www.lasalle.edu/event/weekend-mass/
LOCATION:College Hall De La Salle Chapel
CATEGORIES:Religious
END:VEVENT
BEGIN:VEVENT
DTSTART;TZID=America/New_York:20240215T170000
DTEND;TZID=America/New_York:20240215T180000
DTSTAMP:20260421T093641
CREATED:20240209T043838Z
LAST-MODIFIED:20240214T074736Z
UID:10002545-1708016400-1708020000@www.lasalle.edu
SUMMARY:Evensong
DESCRIPTION:Evensong
URL:https://www.lasalle.edu/event/evensong/
LOCATION:College Hall De La Salle Chapel
CATEGORIES:Religious
END:VEVENT
BEGIN:VEVENT
DTSTART;TZID=America/New_York:20240215T130000
DTEND;TZID=America/New_York:20240215T140000
DTSTAMP:20260421T093641
CREATED:20240209T043837Z
LAST-MODIFIED:20240214T074734Z
UID:10002544-1708002000-1708005600@www.lasalle.edu
SUMMARY:Daily Mass
DESCRIPTION:Daily Mass
URL:https://www.lasalle.edu/event/daily-mass-4/
LOCATION:College Hall De La Salle Chapel
CATEGORIES:Religious
END:VEVENT
BEGIN:VEVENT
DTSTART;TZID=America/New_York:20240214T130000
DTEND;TZID=America/New_York:20240214T140000
DTSTAMP:20260421T093641
CREATED:20240209T043834Z
LAST-MODIFIED:20240214T074733Z
UID:10002542-1707915600-1707919200@www.lasalle.edu
SUMMARY:Daily Mass
DESCRIPTION:Daily Mass
URL:https://www.lasalle.edu/event/daily-mass-3/
LOCATION:College Hall De La Salle Chapel
CATEGORIES:Religious
END:VEVENT
BEGIN:VEVENT
DTSTART;TZID=America/New_York:20240213T133000
DTEND;TZID=America/New_York:20240213T160000
DTSTAMP:20260421T093641
CREATED:20240209T043832Z
LAST-MODIFIED:20240211T054129Z
UID:10002540-1707831000-1707840000@www.lasalle.edu
SUMMARY:Adoration
DESCRIPTION:Adoration
URL:https://www.lasalle.edu/event/adoration/
LOCATION:College Hall De La Salle Chapel
CATEGORIES:Religious
END:VEVENT
BEGIN:VEVENT
DTSTART;TZID=America/New_York:20240213T130000
DTEND;TZID=America/New_York:20240213T133000
DTSTAMP:20260421T093641
CREATED:20240209T043831Z
LAST-MODIFIED:20240211T054129Z
UID:10002539-1707829200-1707831000@www.lasalle.edu
SUMMARY:Daily Mass
DESCRIPTION:Daily Mass
URL:https://www.lasalle.edu/event/daily-mass-2/
LOCATION:College Hall De La Salle Chapel
CATEGORIES:Religious
END:VEVENT
BEGIN:VEVENT
DTSTART;TZID=America/New_York:20240212T130000
DTEND;TZID=America/New_York:20240212T140000
DTSTAMP:20260421T093641
CREATED:20240209T043829Z
LAST-MODIFIED:20240211T054126Z
UID:10002536-1707742800-1707746400@www.lasalle.edu
SUMMARY:Daily Mass
DESCRIPTION:Daily Mass
URL:https://www.lasalle.edu/event/daily-mass/
LOCATION:College Hall De La Salle Chapel
CATEGORIES:Religious
END:VEVENT
BEGIN:VEVENT
DTSTART;TZID=America/New_York:20231208T113000
DTEND;TZID=America/New_York:20231208T140000
DTSTAMP:20260421T093641
CREATED:20231129T202005Z
LAST-MODIFIED:20231207T194049Z
UID:10002055-1702035000-1702044000@www.lasalle.edu
SUMMARY:Pheed Philly Volunteering
DESCRIPTION:Pheed Philadelphia is a student-led organization that focuses on hunger and food insecurity at LaSalle through direct services\, education\, and advocacy. Students work in the kitchen prepping meals\, washing dishes\, and other tasks. Please bring a face mask\, it is mandatory. Transportation is free!!
URL:https://www.lasalle.edu/event/pheed-philly-volunteering-3/
LOCATION:La Salle Virtual Classroom
CATEGORIES:Religious
END:VEVENT
BEGIN:VEVENT
DTSTART;TZID=America/New_York:20231207T211500
DTEND;TZID=America/New_York:20231207T224500
DTSTAMP:20260421T093641
CREATED:20231129T202004Z
LAST-MODIFIED:20231207T194047Z
UID:10002054-1701983700-1701989100@www.lasalle.edu
SUMMARY:LaSalle Christian Fellowship - Christmas Party
DESCRIPTION:LaSalle Christian Fellowship – Christmas Party
URL:https://www.lasalle.edu/event/lasalle-christian-fellowship-christmas-party/
LOCATION:College Hall Chapel Lounge
CATEGORIES:Religious
END:VEVENT
BEGIN:VEVENT
DTSTART;TZID=America/New_York:20231204T113000
DTEND;TZID=America/New_York:20231204T140000
DTSTAMP:20260421T093641
CREATED:20231129T201958Z
LAST-MODIFIED:20231204T173533Z
UID:10002051-1701689400-1701698400@www.lasalle.edu
SUMMARY:Pheed Philly Volunteering
DESCRIPTION:Pheed Philadelphia is a student-led organization that focuses on hunger and food insecurity at LaSalle through direct services\, education\, and advocacy. Students work in the kitchen prepping meals\, washing dishes\, and other tasks. Please bring a face mask\, it is mandatory. Transportation is free!!
URL:https://www.lasalle.edu/event/pheed-philly-volunteering-2/
LOCATION:La Salle Virtual Classroom
CATEGORIES:Religious
END:VEVENT
BEGIN:VEVENT
DTSTART;TZID=America/New_York:20231201T113000
DTEND;TZID=America/New_York:20231201T140000
DTSTAMP:20260421T093641
CREATED:20231129T201954Z
LAST-MODIFIED:20231201T144034Z
UID:10002049-1701430200-1701439200@www.lasalle.edu
SUMMARY:Pheed Philly Volunteering
DESCRIPTION:Pheed Philadelphia is a student-led organization that focuses on hunger and food insecurity at LaSalle through direct services\, education\, and advocacy. Students work in the kitchen prepping meals\, washing dishes\, and other tasks. Please bring a face mask\, it is mandatory. Transportation is free!!
URL:https://www.lasalle.edu/event/pheed-philly-volunteering/
LOCATION:La Salle Virtual Classroom
CATEGORIES:Religious
END:VEVENT
BEGIN:VEVENT
DTSTART;TZID=America/New_York:20231129T211500
DTEND;TZID=America/New_York:20231129T221500
DTSTAMP:20260421T093641
CREATED:20231129T201950Z
LAST-MODIFIED:20231129T201950Z
UID:10002045-1701292500-1701296100@www.lasalle.edu
SUMMARY:Advent Bible Study
DESCRIPTION:Advent Bible Study
URL:https://www.lasalle.edu/event/advent-bible-study/
LOCATION:College Hall Chapel Lounge
CATEGORIES:Religious
END:VEVENT
END:VCALENDAR