BEGIN:VCALENDAR
VERSION:2.0
PRODID:-//La Salle University - ECPv6.15.20//NONSGML v1.0//EN
CALSCALE:GREGORIAN
METHOD:PUBLISH
X-WR-CALNAME:La Salle University
X-ORIGINAL-URL:https://www.lasalle.edu
X-WR-CALDESC:Events for La Salle University
REFRESH-INTERVAL;VALUE=DURATION:PT1H
X-Robots-Tag:noindex
X-PUBLISHED-TTL:PT1H
BEGIN:VTIMEZONE
TZID:America/New_York
BEGIN:DAYLIGHT
TZOFFSETFROM:-0500
TZOFFSETTO:-0400
TZNAME:EDT
DTSTART:20250309T070000
END:DAYLIGHT
BEGIN:STANDARD
TZOFFSETFROM:-0400
TZOFFSETTO:-0500
TZNAME:EST
DTSTART:20251102T060000
END:STANDARD
BEGIN:DAYLIGHT
TZOFFSETFROM:-0500
TZOFFSETTO:-0400
TZNAME:EDT
DTSTART:20260308T070000
END:DAYLIGHT
BEGIN:STANDARD
TZOFFSETFROM:-0400
TZOFFSETTO:-0500
TZNAME:EST
DTSTART:20261101T060000
END:STANDARD
BEGIN:DAYLIGHT
TZOFFSETFROM:-0500
TZOFFSETTO:-0400
TZNAME:EDT
DTSTART:20270314T070000
END:DAYLIGHT
BEGIN:STANDARD
TZOFFSETFROM:-0400
TZOFFSETTO:-0500
TZNAME:EST
DTSTART:20271107T060000
END:STANDARD
END:VTIMEZONE
BEGIN:VEVENT
DTSTART;TZID=America/New_York:20260421T080000
DTEND;TZID=America/New_York:20260421T230000
DTSTAMP:20260422T163922
CREATED:20260418T033959Z
LAST-MODIFIED:20260418T043747Z
UID:10005739-1776758400-1776812400@www.lasalle.edu
SUMMARY:EXPYs
DESCRIPTION:EXPY Awards
URL:https://www.lasalle.edu/event/expys/
LOCATION:Founders’ Hall Atrium
CATEGORIES:University Celebrations
END:VEVENT
BEGIN:VEVENT
DTSTART;TZID=America/New_York:20260421T160000
DTEND;TZID=America/New_York:20260421T220000
DTSTAMP:20260422T163922
CREATED:20260418T043745Z
LAST-MODIFIED:20260422T014030Z
UID:10005742-1776787200-1776808800@www.lasalle.edu
SUMMARY:EXPYs
DESCRIPTION:EXPYs
URL:https://www.lasalle.edu/event/expys-2/
LOCATION:La Salle Union Compass Club
CATEGORIES:University Celebrations
END:VEVENT
BEGIN:VEVENT
DTSTART;TZID=America/New_York:20260423T173000
DTEND;TZID=America/New_York:20260423T200000
DTSTAMP:20260422T163922
CREATED:20260418T214514Z
LAST-MODIFIED:20260422T203814Z
UID:10005747-1776965400-1776974400@www.lasalle.edu
SUMMARY:Communication and DART Showcase
DESCRIPTION:Communication and DART Showcase
URL:https://www.lasalle.edu/event/communication-and-dart-showcase/
LOCATION:Holroyd Science Center Atrium
CATEGORIES:University Celebrations
END:VEVENT
END:VCALENDAR