BEGIN:VCALENDAR
VERSION:2.0
PRODID:-//La Salle University - ECPv6.15.20//NONSGML v1.0//EN
CALSCALE:GREGORIAN
METHOD:PUBLISH
X-WR-CALNAME:La Salle University
X-ORIGINAL-URL:https://www.lasalle.edu
X-WR-CALDESC:Events for La Salle University
REFRESH-INTERVAL;VALUE=DURATION:PT1H
X-Robots-Tag:noindex
X-PUBLISHED-TTL:PT1H
BEGIN:VTIMEZONE
TZID:America/New_York
BEGIN:DAYLIGHT
TZOFFSETFROM:-0500
TZOFFSETTO:-0400
TZNAME:EDT
DTSTART:20220313T070000
END:DAYLIGHT
BEGIN:STANDARD
TZOFFSETFROM:-0400
TZOFFSETTO:-0500
TZNAME:EST
DTSTART:20221106T060000
END:STANDARD
BEGIN:DAYLIGHT
TZOFFSETFROM:-0500
TZOFFSETTO:-0400
TZNAME:EDT
DTSTART:20230312T070000
END:DAYLIGHT
BEGIN:STANDARD
TZOFFSETFROM:-0400
TZOFFSETTO:-0500
TZNAME:EST
DTSTART:20231105T060000
END:STANDARD
BEGIN:DAYLIGHT
TZOFFSETFROM:-0500
TZOFFSETTO:-0400
TZNAME:EDT
DTSTART:20240310T070000
END:DAYLIGHT
BEGIN:STANDARD
TZOFFSETFROM:-0400
TZOFFSETTO:-0500
TZNAME:EST
DTSTART:20241103T060000
END:STANDARD
END:VTIMEZONE
BEGIN:VEVENT
DTSTART;TZID=America/New_York:20231115T130000
DTEND;TZID=America/New_York:20231115T140000
DTSTAMP:20260420T050438
CREATED:20230816T153435Z
LAST-MODIFIED:20231115T073726Z
UID:10001704-1700053200-1700056800@www.lasalle.edu
SUMMARY:Wellness Wednesday
DESCRIPTION:Each week\, Student Wellness Services hosts Wellness Wednesday\, a weekly tabling program centered around the 8 dimensions of wellness. These 8 dimensions of wellness contribute to our holistic wellbeing\, which is key for students to succeed as a student and a person. These weekly programs offer students a chance to pause and reflect on their personal wellness\, take a break from the day’s workload\, and connect with their PEERS. Wellness Wednesday happens every Wednesday from 1 pm – 2 pm either on the Union Patio or Union Lobby\, weather dependent.
URL:https://www.lasalle.edu/event/wellness-wednesday-11/
LOCATION:La Salle Union Lobby
CATEGORIES:Wellness/Recreation
END:VEVENT
BEGIN:VEVENT
DTSTART;TZID=America/New_York:20231115T090000
DTEND;TZID=America/New_York:20231115T170000
DTSTAMP:20260420T050438
CREATED:20231102T214815Z
LAST-MODIFIED:20231111T034419Z
UID:10001901-1700038800-1700067600@www.lasalle.edu
SUMMARY:Vaccine Clinic
DESCRIPTION:Vaccine Clinic
URL:https://www.lasalle.edu/event/vaccine-clinic-2/
LOCATION:La Salle Union Ballroom
CATEGORIES:Wellness/Recreation
END:VEVENT
BEGIN:VEVENT
DTSTART;TZID=America/New_York:20231113T090000
DTEND;TZID=America/New_York:20231113T170000
DTSTAMP:20260420T050438
CREATED:20231102T214811Z
LAST-MODIFIED:20231113T053521Z
UID:10001897-1699866000-1699894800@www.lasalle.edu
SUMMARY:Vaccine Clinic
DESCRIPTION:Vaccine Clinic
URL:https://www.lasalle.edu/event/vaccine-clinic/
LOCATION:La Salle Union Ballroom
CATEGORIES:Wellness/Recreation
END:VEVENT
BEGIN:VEVENT
DTSTART;TZID=America/New_York:20231108T130000
DTEND;TZID=America/New_York:20231108T140000
DTSTAMP:20260420T050438
CREATED:20230816T153434Z
LAST-MODIFIED:20231111T034405Z
UID:10001700-1699448400-1699452000@www.lasalle.edu
SUMMARY:Wellness Wednesday
DESCRIPTION:Each week\, Student Wellness Services hosts Wellness Wednesday\, a weekly tabling program centered around the 8 dimensions of wellness. These 8 dimensions of wellness contribute to our holistic wellbeing\, which is key for students to succeed as a student and a person. These weekly programs offer students a chance to pause and reflect on their personal wellness\, take a break from the day’s workload\, and connect with their PEERS. Wellness Wednesday happens every Wednesday from 1 pm – 2 pm either on the Union Patio or Union Lobby\, weather dependent.
URL:https://www.lasalle.edu/event/wellness-wednesday-10/
LOCATION:La Salle Union Lobby
CATEGORIES:Wellness/Recreation
END:VEVENT
BEGIN:VEVENT
DTSTART;TZID=America/New_York:20231101T130000
DTEND;TZID=America/New_York:20231101T140000
DTSTAMP:20260420T050438
CREATED:20230816T153434Z
LAST-MODIFIED:20231025T174540Z
UID:10001697-1698843600-1698847200@www.lasalle.edu
SUMMARY:Wellness Wednesday
DESCRIPTION:Each week\, Student Wellness Services hosts Wellness Wednesday\, a weekly tabling program centered around the 8 dimensions of wellness. These 8 dimensions of wellness contribute to our holistic wellbeing\, which is key for students to succeed as a student and a person. These weekly programs offer students a chance to pause and reflect on their personal wellness\, take a break from the day’s workload\, and connect with their PEERS. Wellness Wednesday happens every Wednesday from 1 pm – 2 pm either on the Union Patio or Union Lobby\, weather dependent.
URL:https://www.lasalle.edu/event/wellness-wednesday-9/
LOCATION:La Salle Union Lobby
CATEGORIES:Wellness/Recreation
END:VEVENT
BEGIN:VEVENT
DTSTART;TZID=America/New_York:20231025T130000
DTEND;TZID=America/New_York:20231025T140000
DTSTAMP:20260420T050438
CREATED:20230816T153433Z
LAST-MODIFIED:20231025T174534Z
UID:10001695-1698238800-1698242400@www.lasalle.edu
SUMMARY:Wellness Wednesday
DESCRIPTION:Each week\, Student Wellness Services hosts Wellness Wednesday\, a weekly tabling program centered around the 8 dimensions of wellness. These 8 dimensions of wellness contribute to our holistic wellbeing\, which is key for students to succeed as a student and a person. These weekly programs offer students a chance to pause and reflect on their personal wellness\, take a break from the day’s workload\, and connect with their PEERS. Wellness Wednesday happens every Wednesday from 1 pm – 2 pm either on the Union Patio or Union Lobby\, weather dependent.
URL:https://www.lasalle.edu/event/wellness-wednesday-8/
LOCATION:La Salle Union Lobby
CATEGORIES:Wellness/Recreation
END:VEVENT
BEGIN:VEVENT
DTSTART;TZID=America/New_York:20231018T130000
DTEND;TZID=America/New_York:20231018T140000
DTSTAMP:20260420T050438
CREATED:20230816T153432Z
LAST-MODIFIED:20231016T153715Z
UID:10001691-1697634000-1697637600@www.lasalle.edu
SUMMARY:Wellness Wednesday
DESCRIPTION:Each week\, Student Wellness Services hosts Wellness Wednesday\, a weekly tabling program centered around the 8 dimensions of wellness. These 8 dimensions of wellness contribute to our holistic wellbeing\, which is key for students to succeed as a student and a person. These weekly programs offer students a chance to pause and reflect on their personal wellness\, take a break from the day’s workload\, and connect with their PEERS. Wellness Wednesday happens every Wednesday from 1 pm – 2 pm either on the Union Patio or Union Lobby\, weather dependent.
URL:https://www.lasalle.edu/event/wellness-wednesday-7/
LOCATION:La Salle Union Lobby
CATEGORIES:Wellness/Recreation
END:VEVENT
BEGIN:VEVENT
DTSTART;TZID=America/New_York:20231004T130000
DTEND;TZID=America/New_York:20231004T140000
DTSTAMP:20260420T050438
CREATED:20230816T153430Z
LAST-MODIFIED:20230912T202806Z
UID:10001682-1696424400-1696428000@www.lasalle.edu
SUMMARY:Wellness Wednesday
DESCRIPTION:Each week\, Student Wellness Services hosts Wellness Wednesday\, a weekly tabling program centered around the 8 dimensions of wellness. These 8 dimensions of wellness contribute to our holistic wellbeing\, which is key for students to succeed as a student and a person. These weekly programs offer students a chance to pause and reflect on their personal wellness\, take a break from the day’s workload\, and connect with their PEERS. Wellness Wednesday happens every Wednesday from 1 pm – 2 pm either on the Union Patio or Union Lobby\, weather dependent.
URL:https://www.lasalle.edu/event/wellness-wednesday-6/
LOCATION:La Salle Union Lobby
CATEGORIES:Wellness/Recreation
END:VEVENT
BEGIN:VEVENT
DTSTART;TZID=America/New_York:20230927T130000
DTEND;TZID=America/New_York:20230927T140000
DTSTAMP:20260420T050438
CREATED:20230816T153430Z
LAST-MODIFIED:20230912T202804Z
UID:10001680-1695819600-1695823200@www.lasalle.edu
SUMMARY:Wellness Wednesday
DESCRIPTION:Each week\, Student Wellness Services hosts Wellness Wednesday\, a weekly tabling program centered around the 8 dimensions of wellness. These 8 dimensions of wellness contribute to our holistic wellbeing\, which is key for students to succeed as a student and a person. These weekly programs offer students a chance to pause and reflect on their personal wellness\, take a break from the day’s workload\, and connect with their PEERS. Wellness Wednesday happens every Wednesday from 1 pm – 2 pm either on the Union Patio or Union Lobby\, weather dependent.
URL:https://www.lasalle.edu/event/wellness-wednesday-5/
LOCATION:La Salle Union Lobby
CATEGORIES:Wellness/Recreation
END:VEVENT
BEGIN:VEVENT
DTSTART;TZID=America/New_York:20230920T130000
DTEND;TZID=America/New_York:20230920T140000
DTSTAMP:20260420T050438
CREATED:20230816T153429Z
LAST-MODIFIED:20230912T202800Z
UID:10001677-1695214800-1695218400@www.lasalle.edu
SUMMARY:Wellness Wednesday
DESCRIPTION:Each week\, Student Wellness Services hosts Wellness Wednesday\, a weekly tabling program centered around the 8 dimensions of wellness. These 8 dimensions of wellness contribute to our holistic wellbeing\, which is key for students to succeed as a student and a person. These weekly programs offer students a chance to pause and reflect on their personal wellness\, take a break from the day’s workload\, and connect with their PEERS. Wellness Wednesday happens every Wednesday from 1 pm – 2 pm either on the Union Patio or Union Lobby\, weather dependent.
URL:https://www.lasalle.edu/event/wellness-wednesday-4/
LOCATION:La Salle Union Lobby
CATEGORIES:Wellness/Recreation
END:VEVENT
BEGIN:VEVENT
DTSTART;TZID=America/New_York:20230913T130000
DTEND;TZID=America/New_York:20230913T140000
DTSTAMP:20260420T050438
CREATED:20230816T153428Z
LAST-MODIFIED:20230912T202755Z
UID:10001675-1694610000-1694613600@www.lasalle.edu
SUMMARY:Wellness Wednesday
DESCRIPTION:Each week\, Student Wellness Services hosts Wellness Wednesday\, a weekly tabling program centered around the 8 dimensions of wellness. These 8 dimensions of wellness contribute to our holistic wellbeing\, which is key for students to succeed as a student and a person. These weekly programs offer students a chance to pause and reflect on their personal wellness\, take a break from the day’s workload\, and connect with their PEERS. Wellness Wednesday happens every Wednesday from 1 pm – 2 pm either on the Union Patio or Union Lobby\, weather dependent.
URL:https://www.lasalle.edu/event/wellness-wednesday-3/
LOCATION:La Salle Union Lobby
CATEGORIES:Wellness/Recreation
END:VEVENT
BEGIN:VEVENT
DTSTART;TZID=America/New_York:20230906T130000
DTEND;TZID=America/New_York:20230906T140000
DTSTAMP:20260420T050438
CREATED:20230816T153427Z
LAST-MODIFIED:20230816T181203Z
UID:10001668-1694005200-1694008800@www.lasalle.edu
SUMMARY:Wellness Wednesday
DESCRIPTION:Each week\, Student Wellness Services hosts Wellness Wednesday\, a weekly tabling program centered around the 8 dimensions of wellness. These 8 dimensions of wellness contribute to our holistic wellbeing\, which is key for students to succeed as a student and a person. These weekly programs offer students a chance to pause and reflect on their personal wellness\, take a break from the day’s workload\, and connect with their PEERS. Wellness Wednesday happens every Wednesday from 1 pm – 2 pm either on the Union Patio or Union Lobby\, weather dependent.
URL:https://www.lasalle.edu/event/wellness-wednesday-2/
LOCATION:La Salle Union Lobby
CATEGORIES:Wellness/Recreation
END:VEVENT
BEGIN:VEVENT
DTSTART;TZID=America/New_York:20230830T130000
DTEND;TZID=America/New_York:20230830T140000
DTSTAMP:20260420T050438
CREATED:20230816T153426Z
LAST-MODIFIED:20230816T181203Z
UID:10001666-1693400400-1693404000@www.lasalle.edu
SUMMARY:Wellness Wednesday
DESCRIPTION:Each week\, Student Wellness Services hosts Wellness Wednesday\, a weekly tabling program centered around the 8 dimensions of wellness. These 8 dimensions of wellness contribute to our holistic wellbeing\, which is key for students to succeed as a student and a person. These weekly programs offer students a chance to pause and reflect on their personal wellness\, take a break from the day’s workload\, and connect with their PEERS. Wellness Wednesday happens every Wednesday from 1 pm – 2 pm either on the Union Patio or Union Lobby\, weather dependent.
URL:https://www.lasalle.edu/event/wellness-wednesday/
LOCATION:La Salle Union Lobby
CATEGORIES:Wellness/Recreation
END:VEVENT
END:VCALENDAR