BEGIN:VCALENDAR
VERSION:2.0
PRODID:-//La Salle University - ECPv6.15.20//NONSGML v1.0//EN
CALSCALE:GREGORIAN
METHOD:PUBLISH
X-WR-CALNAME:La Salle University
X-ORIGINAL-URL:https://www.lasalle.edu
X-WR-CALDESC:Events for La Salle University
REFRESH-INTERVAL;VALUE=DURATION:PT1H
X-Robots-Tag:noindex
X-PUBLISHED-TTL:PT1H
BEGIN:VTIMEZONE
TZID:America/New_York
BEGIN:DAYLIGHT
TZOFFSETFROM:-0500
TZOFFSETTO:-0400
TZNAME:EDT
DTSTART:20240310T070000
END:DAYLIGHT
BEGIN:STANDARD
TZOFFSETFROM:-0400
TZOFFSETTO:-0500
TZNAME:EST
DTSTART:20241103T060000
END:STANDARD
BEGIN:DAYLIGHT
TZOFFSETFROM:-0500
TZOFFSETTO:-0400
TZNAME:EDT
DTSTART:20250309T070000
END:DAYLIGHT
BEGIN:STANDARD
TZOFFSETFROM:-0400
TZOFFSETTO:-0500
TZNAME:EST
DTSTART:20251102T060000
END:STANDARD
BEGIN:DAYLIGHT
TZOFFSETFROM:-0500
TZOFFSETTO:-0400
TZNAME:EDT
DTSTART:20260308T070000
END:DAYLIGHT
BEGIN:STANDARD
TZOFFSETFROM:-0400
TZOFFSETTO:-0500
TZNAME:EST
DTSTART:20261101T060000
END:STANDARD
END:VTIMEZONE
BEGIN:VEVENT
DTSTART;TZID=America/New_York:20250317T000000
DTEND;TZID=America/New_York:20250317T235959
DTSTAMP:20260422T103011
CREATED:20240822T215141Z
LAST-MODIFIED:20240822T215141Z
UID:10003251-1742169600-1742255999@www.lasalle.edu
SUMMARY:Mid-Semester Holiday - Spring
DESCRIPTION:
URL:https://www.lasalle.edu/event/mid-semester-holiday-spring-31/
LOCATION:All Locations
CATEGORIES:Academic-DAY,Academic-EVE,Academic-GRAD
END:VEVENT
BEGIN:VEVENT
DTSTART;TZID=America/New_York:20250318T000000
DTEND;TZID=America/New_York:20250318T235959
DTSTAMP:20260422T103011
CREATED:20240822T215142Z
LAST-MODIFIED:20240822T215142Z
UID:10003252-1742256000-1742342399@www.lasalle.edu
SUMMARY:Mid-Semester Holiday - Spring
DESCRIPTION:
URL:https://www.lasalle.edu/event/mid-semester-holiday-spring-32/
LOCATION:All Locations
CATEGORIES:Academic-DAY,Academic-EVE,Academic-GRAD
END:VEVENT
BEGIN:VEVENT
DTSTART;TZID=America/New_York:20250319T000000
DTEND;TZID=America/New_York:20250319T235959
DTSTAMP:20260422T103011
CREATED:20240822T215143Z
LAST-MODIFIED:20240822T215143Z
UID:10003253-1742342400-1742428799@www.lasalle.edu
SUMMARY:Mid-Semester Holiday - Spring
DESCRIPTION:
URL:https://www.lasalle.edu/event/mid-semester-holiday-spring-33/
LOCATION:All Locations
CATEGORIES:Academic-DAY,Academic-EVE,Academic-GRAD
END:VEVENT
BEGIN:VEVENT
DTSTART;TZID=America/New_York:20250320T000000
DTEND;TZID=America/New_York:20250320T235959
DTSTAMP:20260422T103011
CREATED:20240822T215143Z
LAST-MODIFIED:20240822T215143Z
UID:10003254-1742428800-1742515199@www.lasalle.edu
SUMMARY:Mid-Semester Holiday - Spring
DESCRIPTION:
URL:https://www.lasalle.edu/event/mid-semester-holiday-spring-34/
LOCATION:All Locations
CATEGORIES:Academic-DAY,Academic-EVE,Academic-GRAD
END:VEVENT
BEGIN:VEVENT
DTSTART;TZID=America/New_York:20250321T000000
DTEND;TZID=America/New_York:20250321T235959
DTSTAMP:20260422T103011
CREATED:20240822T215144Z
LAST-MODIFIED:20240822T215144Z
UID:10003255-1742515200-1742601599@www.lasalle.edu
SUMMARY:Mid-Semester Holiday - Spring
DESCRIPTION:
URL:https://www.lasalle.edu/event/mid-semester-holiday-spring-35/
LOCATION:All Locations
CATEGORIES:Academic-DAY,Academic-EVE,Academic-GRAD
END:VEVENT
BEGIN:VEVENT
DTSTART;TZID=America/New_York:20250322T000000
DTEND;TZID=America/New_York:20250322T235959
DTSTAMP:20260422T103011
CREATED:20240822T215341Z
LAST-MODIFIED:20240822T215341Z
UID:10003256-1742601600-1742687999@www.lasalle.edu
SUMMARY:Mid-Semester Holiday - Spring
DESCRIPTION:
URL:https://www.lasalle.edu/event/mid-semester-holiday-spring-36/
LOCATION:All Locations
CATEGORIES:Academic-DAY,Academic-EVE,Academic-GRAD
END:VEVENT
BEGIN:VEVENT
DTSTART;TZID=America/New_York:20250323T000000
DTEND;TZID=America/New_York:20250323T235959
DTSTAMP:20260422T103011
CREATED:20240822T215342Z
LAST-MODIFIED:20240822T215342Z
UID:10003257-1742688000-1742774399@www.lasalle.edu
SUMMARY:Mid-Semester Holiday - Spring
DESCRIPTION:
URL:https://www.lasalle.edu/event/mid-semester-holiday-spring-37/
LOCATION:All Locations
CATEGORIES:Academic-DAY,Academic-EVE,Academic-GRAD
END:VEVENT
END:VCALENDAR