BEGIN:VCALENDAR
VERSION:2.0
PRODID:-//La Salle University - ECPv6.15.20//NONSGML v1.0//EN
CALSCALE:GREGORIAN
METHOD:PUBLISH
X-WR-CALNAME:La Salle University
X-ORIGINAL-URL:https://www.lasalle.edu
X-WR-CALDESC:Events for La Salle University
REFRESH-INTERVAL;VALUE=DURATION:PT1H
X-Robots-Tag:noindex
X-PUBLISHED-TTL:PT1H
BEGIN:VTIMEZONE
TZID:America/New_York
BEGIN:DAYLIGHT
TZOFFSETFROM:-0500
TZOFFSETTO:-0400
TZNAME:EDT
DTSTART:20210314T070000
END:DAYLIGHT
BEGIN:STANDARD
TZOFFSETFROM:-0400
TZOFFSETTO:-0500
TZNAME:EST
DTSTART:20211107T060000
END:STANDARD
BEGIN:DAYLIGHT
TZOFFSETFROM:-0500
TZOFFSETTO:-0400
TZNAME:EDT
DTSTART:20220313T070000
END:DAYLIGHT
BEGIN:STANDARD
TZOFFSETFROM:-0400
TZOFFSETTO:-0500
TZNAME:EST
DTSTART:20221106T060000
END:STANDARD
BEGIN:DAYLIGHT
TZOFFSETFROM:-0500
TZOFFSETTO:-0400
TZNAME:EDT
DTSTART:20230312T070000
END:DAYLIGHT
BEGIN:STANDARD
TZOFFSETFROM:-0400
TZOFFSETTO:-0500
TZNAME:EST
DTSTART:20231105T060000
END:STANDARD
END:VTIMEZONE
BEGIN:VEVENT
DTSTART;TZID=America/New_York:20221219T000000
DTEND;TZID=America/New_York:20221219T235959
DTSTAMP:20260421T121952
CREATED:20230420T151827Z
LAST-MODIFIED:20230420T151827Z
UID:10001251-1671408000-1671494399@www.lasalle.edu
SUMMARY:Winter Intersession Courses Begin
DESCRIPTION:On-campus Courses do not meet when University is closed
URL:https://www.lasalle.edu/event/winter-intersession-courses-begin/
LOCATION:All Locations
CATEGORIES:Academic-DAY,Academic-EVE,Academic-GRAD
END:VEVENT
BEGIN:VEVENT
DTSTART;TZID=America/New_York:20221219T000000
DTEND;TZID=America/New_York:20221219T235959
DTSTAMP:20260421T121952
CREATED:20230420T151827Z
LAST-MODIFIED:20230420T151827Z
UID:10001252-1671408000-1671494399@www.lasalle.edu
SUMMARY:Winter Intersession Last Day for Registration and to Drop a Class
DESCRIPTION:
URL:https://www.lasalle.edu/event/winter-intersession-last-day-for-registration-and-to-drop-a-class/
LOCATION:All Locations
CATEGORIES:Academic-DAY,Academic-EVE,Academic-GRAD
END:VEVENT
BEGIN:VEVENT
DTSTART;TZID=America/New_York:20221225T000000
DTEND;TZID=America/New_York:20221225T235959
DTSTAMP:20260421T121952
CREATED:20230420T152028Z
LAST-MODIFIED:20230420T152028Z
UID:10001257-1671926400-1672012799@www.lasalle.edu
SUMMARY:Winter Intersession Last Day for Filing P/F Option
DESCRIPTION:
URL:https://www.lasalle.edu/event/winter-intersession-last-day-for-filing-p-f-option/
LOCATION:All Locations
CATEGORIES:Academic-DAY,Academic-EVE,Academic-GRAD
END:VEVENT
END:VCALENDAR