BEGIN:VCALENDAR
VERSION:2.0
PRODID:-//La Salle University - ECPv6.15.20//NONSGML v1.0//EN
CALSCALE:GREGORIAN
METHOD:PUBLISH
X-WR-CALNAME:La Salle University
X-ORIGINAL-URL:https://www.lasalle.edu
X-WR-CALDESC:Events for La Salle University
REFRESH-INTERVAL;VALUE=DURATION:PT1H
X-Robots-Tag:noindex
X-PUBLISHED-TTL:PT1H
BEGIN:VTIMEZONE
TZID:America/New_York
BEGIN:DAYLIGHT
TZOFFSETFROM:-0500
TZOFFSETTO:-0400
TZNAME:EDT
DTSTART:20240310T070000
END:DAYLIGHT
BEGIN:STANDARD
TZOFFSETFROM:-0400
TZOFFSETTO:-0500
TZNAME:EST
DTSTART:20241103T060000
END:STANDARD
BEGIN:DAYLIGHT
TZOFFSETFROM:-0500
TZOFFSETTO:-0400
TZNAME:EDT
DTSTART:20250309T070000
END:DAYLIGHT
BEGIN:STANDARD
TZOFFSETFROM:-0400
TZOFFSETTO:-0500
TZNAME:EST
DTSTART:20251102T060000
END:STANDARD
BEGIN:DAYLIGHT
TZOFFSETFROM:-0500
TZOFFSETTO:-0400
TZNAME:EDT
DTSTART:20260308T070000
END:DAYLIGHT
BEGIN:STANDARD
TZOFFSETFROM:-0400
TZOFFSETTO:-0500
TZNAME:EST
DTSTART:20261101T060000
END:STANDARD
END:VTIMEZONE
BEGIN:VEVENT
DTSTART;TZID=America/New_York:20250317T000000
DTEND;TZID=America/New_York:20250317T235959
DTSTAMP:20260424T174102
CREATED:20240822T215141Z
LAST-MODIFIED:20240822T215141Z
UID:10003251-1742169600-1742255999@www.lasalle.edu
SUMMARY:Mid-Semester Holiday - Spring
DESCRIPTION:
URL:https://www.lasalle.edu/event/mid-semester-holiday-spring-31/
LOCATION:All Locations
CATEGORIES:Academic-DAY,Academic-EVE,Academic-GRAD
END:VEVENT
BEGIN:VEVENT
DTSTART;TZID=America/New_York:20250314T000000
DTEND;TZID=America/New_York:20250314T235959
DTSTAMP:20260424T174102
CREATED:20240822T214943Z
LAST-MODIFIED:20240822T214943Z
UID:10003249-1741910400-1741996799@www.lasalle.edu
SUMMARY:8-Week I Grades Due
DESCRIPTION:All Locations
URL:https://www.lasalle.edu/event/8-week-i-grades-due-9/
CATEGORIES:Academic-GRAD
END:VEVENT
BEGIN:VEVENT
DTSTART;TZID=America/New_York:20250314T000000
DTEND;TZID=America/New_York:20250314T235959
DTSTAMP:20260424T174102
CREATED:20240822T214943Z
LAST-MODIFIED:20240822T214943Z
UID:10003250-1741910400-1741996799@www.lasalle.edu
SUMMARY:MBA ONLINE I Grades Due
DESCRIPTION:
URL:https://www.lasalle.edu/event/mba-online-i-grades-due-13/
LOCATION:Online
CATEGORIES:Academic-GRAD
END:VEVENT
BEGIN:VEVENT
DTSTART;TZID=America/New_York:20250314T000000
DTEND;TZID=America/New_York:20250314T235959
DTSTAMP:20260424T174102
CREATED:20240118T173009Z
LAST-MODIFIED:20240118T173009Z
UID:10002469-1741910400-1741996799@www.lasalle.edu
SUMMARY:MBA ONLINE I Grades Due
DESCRIPTION:
URL:https://www.lasalle.edu/event/mba-online-i-grades-due-10/
LOCATION:Online
CATEGORIES:Academic-GRAD
END:VEVENT
BEGIN:VEVENT
DTSTART;TZID=America/New_York:20250314T000000
DTEND;TZID=America/New_York:20250314T235959
DTSTAMP:20260424T174102
CREATED:20240118T173008Z
LAST-MODIFIED:20240118T173008Z
UID:10002468-1741910400-1741996799@www.lasalle.edu
SUMMARY:8-Week I Grades Due
DESCRIPTION:
URL:https://www.lasalle.edu/event/8-week-i-grades-due-7/
LOCATION:All Locations
CATEGORIES:Academic-GRAD
END:VEVENT
BEGIN:VEVENT
DTSTART;TZID=America/New_York:20250313T000000
DTEND;TZID=America/New_York:20250313T235959
DTSTAMP:20260424T174102
CREATED:20240822T214942Z
LAST-MODIFIED:20240822T214942Z
UID:10003248-1741824000-1741910399@www.lasalle.edu
SUMMARY:RN-BSN/FNP/ANP ONLINE II Last Day for Filing P/F Option
DESCRIPTION:
URL:https://www.lasalle.edu/event/rn-bsn-fnp-anp-online-ii-last-day-for-filing-p-f-option-12/
LOCATION:Online
CATEGORIES:Academic-EVE
END:VEVENT
BEGIN:VEVENT
DTSTART;TZID=America/New_York:20250313T000000
DTEND;TZID=America/New_York:20250313T235959
DTSTAMP:20260424T174102
CREATED:20240822T214941Z
LAST-MODIFIED:20240822T214941Z
UID:10003246-1741824000-1741910399@www.lasalle.edu
SUMMARY:Freshmen Registration for Fall 2025 Begins
DESCRIPTION:
URL:https://www.lasalle.edu/event/freshmen-registration-for-fall-2025-begins-2/
LOCATION:Main Campus
CATEGORIES:Academic-DAY,Academic-EVE
END:VEVENT
BEGIN:VEVENT
DTSTART;TZID=America/New_York:20250313T000000
DTEND;TZID=America/New_York:20250313T235959
DTSTAMP:20260424T174102
CREATED:20240822T214941Z
LAST-MODIFIED:20240822T214941Z
UID:10003247-1741824000-1741910399@www.lasalle.edu
SUMMARY:7-Week II Last Day for Filing P/F Option
DESCRIPTION:
URL:https://www.lasalle.edu/event/7-week-ii-last-day-for-filing-p-f-option-8/
LOCATION:All Locations
CATEGORIES:Academic-DAY,Academic-EVE
END:VEVENT
BEGIN:VEVENT
DTSTART;TZID=America/New_York:20250313T000000
DTEND;TZID=America/New_York:20250313T235959
DTSTAMP:20260424T174102
CREATED:20240118T173007Z
LAST-MODIFIED:20240118T173007Z
UID:10002467-1741824000-1741910399@www.lasalle.edu
SUMMARY:RN-BSN/FNP/ANP ONLINE II Last Day for Filing P/F Option
DESCRIPTION:
URL:https://www.lasalle.edu/event/rn-bsn-fnp-anp-online-ii-last-day-for-filing-p-f-option-9/
LOCATION:Online
CATEGORIES:Academic-EVE
END:VEVENT
BEGIN:VEVENT
DTSTART;TZID=America/New_York:20250311T000000
DTEND;TZID=America/New_York:20250311T235959
DTSTAMP:20260424T174102
CREATED:20240822T214831Z
LAST-MODIFIED:20240822T214831Z
UID:10003245-1741651200-1741737599@www.lasalle.edu
SUMMARY:8-Week II Last Day to Add/Drop a Course
DESCRIPTION:
URL:https://www.lasalle.edu/event/8-week-ii-last-day-to-add-drop-a-course-7/
LOCATION:All Locations
CATEGORIES:Academic-GRAD
END:VEVENT
BEGIN:VEVENT
DTSTART;TZID=America/New_York:20250311T000000
DTEND;TZID=America/New_York:20250311T235959
DTSTAMP:20260424T174102
CREATED:20240822T214830Z
LAST-MODIFIED:20240822T214830Z
UID:10003244-1741651200-1741737599@www.lasalle.edu
SUMMARY:MBA ONLINE II Last Day to Drop a Course
DESCRIPTION:
URL:https://www.lasalle.edu/event/mba-online-ii-last-day-to-drop-a-course-6/
LOCATION:Online
CATEGORIES:Academic-GRAD
END:VEVENT
BEGIN:VEVENT
DTSTART;TZID=America/New_York:20250311T000000
DTEND;TZID=America/New_York:20250311T235959
DTSTAMP:20260424T174102
CREATED:20240118T173000Z
LAST-MODIFIED:20240118T173000Z
UID:10002464-1741651200-1741737599@www.lasalle.edu
SUMMARY:8-Week II Last Day to Add/Drop a Course
DESCRIPTION:
URL:https://www.lasalle.edu/event/8-week-ii-last-day-to-add-drop-a-course-5/
LOCATION:All Locations
CATEGORIES:Academic-GRAD
END:VEVENT
BEGIN:VEVENT
DTSTART;TZID=America/New_York:20250311T000000
DTEND;TZID=America/New_York:20250311T235959
DTSTAMP:20260424T174102
CREATED:20240118T172959Z
LAST-MODIFIED:20240118T172959Z
UID:10002463-1741651200-1741737599@www.lasalle.edu
SUMMARY:MBA ONLINE II Last Day to Drop a Course
DESCRIPTION:
URL:https://www.lasalle.edu/event/mba-online-ii-last-day-to-drop-a-course-5/
LOCATION:Online
CATEGORIES:Academic-GRAD
END:VEVENT
BEGIN:VEVENT
DTSTART;TZID=America/New_York:20250310T000000
DTEND;TZID=America/New_York:20250310T235959
DTSTAMP:20260424T174102
CREATED:20240822T214830Z
LAST-MODIFIED:20240822T214830Z
UID:10003243-1741564800-1741651199@www.lasalle.edu
SUMMARY:SWK Spring Semester Last Day for Withdrawal
DESCRIPTION:
URL:https://www.lasalle.edu/event/swk-spring-semester-last-day-for-withdrawal/
LOCATION:All Locations
CATEGORIES:Academic-DAY,Academic-EVE
END:VEVENT
BEGIN:VEVENT
DTSTART;TZID=America/New_York:20250310T000000
DTEND;TZID=America/New_York:20250310T235959
DTSTAMP:20260424T174102
CREATED:20240822T214829Z
LAST-MODIFIED:20240822T214829Z
UID:10003242-1741564800-1741651199@www.lasalle.edu
SUMMARY:MBA ONLINE II Courses Begin
DESCRIPTION:
URL:https://www.lasalle.edu/event/mba-online-ii-courses-begin-9/
LOCATION:Online
CATEGORIES:Academic-GRAD
END:VEVENT
BEGIN:VEVENT
DTSTART;TZID=America/New_York:20250310T000000
DTEND;TZID=America/New_York:20250310T235959
DTSTAMP:20260424T174102
CREATED:20240822T214828Z
LAST-MODIFIED:20240822T214828Z
UID:10003241-1741564800-1741651199@www.lasalle.edu
SUMMARY:8-Week II Courses Begin
DESCRIPTION:
URL:https://www.lasalle.edu/event/8-week-ii-courses-begin-8/
LOCATION:All Locations
CATEGORIES:Academic-GRAD
END:VEVENT
BEGIN:VEVENT
DTSTART;TZID=America/New_York:20250310T000000
DTEND;TZID=America/New_York:20250310T235959
DTSTAMP:20260424T174102
CREATED:20240118T172957Z
LAST-MODIFIED:20240118T172957Z
UID:10002461-1741564800-1741651199@www.lasalle.edu
SUMMARY:MBA ONLINE II Courses Begin
DESCRIPTION:
URL:https://www.lasalle.edu/event/mba-online-ii-courses-begin-7/
LOCATION:Online
CATEGORIES:Academic-GRAD
END:VEVENT
BEGIN:VEVENT
DTSTART;TZID=America/New_York:20250310T000000
DTEND;TZID=America/New_York:20250310T235959
DTSTAMP:20260424T174102
CREATED:20240118T172955Z
LAST-MODIFIED:20240118T172955Z
UID:10002460-1741564800-1741651199@www.lasalle.edu
SUMMARY:8-Week II Courses Begin
DESCRIPTION:
URL:https://www.lasalle.edu/event/8-week-ii-courses-begin-6/
LOCATION:All Locations
CATEGORIES:Academic-GRAD
END:VEVENT
BEGIN:VEVENT
DTSTART;TZID=America/New_York:20250308T000000
DTEND;TZID=America/New_York:20250308T235959
DTSTAMP:20260424T174102
CREATED:20240822T214815Z
LAST-MODIFIED:20240822T214815Z
UID:10003239-1741392000-1741478399@www.lasalle.edu
SUMMARY:8-Week I Courses End
DESCRIPTION:
URL:https://www.lasalle.edu/event/8-week-i-courses-end-9/
LOCATION:All Locations
CATEGORIES:Academic-GRAD
END:VEVENT
BEGIN:VEVENT
DTSTART;TZID=America/New_York:20250308T000000
DTEND;TZID=America/New_York:20250308T235959
DTSTAMP:20260424T174102
CREATED:20240822T214815Z
LAST-MODIFIED:20240822T214815Z
UID:10003240-1741392000-1741478399@www.lasalle.edu
SUMMARY:MBA ONLINE I Courses End
DESCRIPTION:
URL:https://www.lasalle.edu/event/mba-online-i-courses-end-13/
LOCATION:Online
CATEGORIES:Academic-GRAD
END:VEVENT
BEGIN:VEVENT
DTSTART;TZID=America/New_York:20250308T000000
DTEND;TZID=America/New_York:20250308T235959
DTSTAMP:20260424T174102
CREATED:20240118T172953Z
LAST-MODIFIED:20240118T172953Z
UID:10002459-1741392000-1741478399@www.lasalle.edu
SUMMARY:MBA ONLINE I Courses End
DESCRIPTION:
URL:https://www.lasalle.edu/event/mba-online-i-courses-end-10/
LOCATION:Online
CATEGORIES:Academic-GRAD
END:VEVENT
BEGIN:VEVENT
DTSTART;TZID=America/New_York:20250308T000000
DTEND;TZID=America/New_York:20250308T235959
DTSTAMP:20260424T174102
CREATED:20240118T172952Z
LAST-MODIFIED:20240118T172952Z
UID:10002458-1741392000-1741478399@www.lasalle.edu
SUMMARY:8-Week I Courses End
DESCRIPTION:
URL:https://www.lasalle.edu/event/8-week-i-courses-end-7/
LOCATION:All Locations
CATEGORIES:Academic-GRAD
END:VEVENT
BEGIN:VEVENT
DTSTART;TZID=America/New_York:20250308T000000
DTEND;TZID=America/New_York:20250308T235959
DTSTAMP:20260424T174102
CREATED:20240118T172947Z
LAST-MODIFIED:20240118T172947Z
UID:10002454-1741392000-1741478399@www.lasalle.edu
SUMMARY:MBA ONLINE I Courses End
DESCRIPTION:
URL:https://www.lasalle.edu/event/mba-online-i-courses-end-9/
LOCATION:Online
CATEGORIES:Academic-GRAD
END:VEVENT
BEGIN:VEVENT
DTSTART;TZID=America/New_York:20250308T000000
DTEND;TZID=America/New_York:20250308T235959
DTSTAMP:20260424T174102
CREATED:20240118T172946Z
LAST-MODIFIED:20240118T172946Z
UID:10002453-1741392000-1741478399@www.lasalle.edu
SUMMARY:8-Week I Courses End
DESCRIPTION:
URL:https://www.lasalle.edu/event/8-week-i-courses-end-6/
LOCATION:All Locations
CATEGORIES:Academic-GRAD
END:VEVENT
BEGIN:VEVENT
DTSTART;TZID=America/New_York:20250306T000000
DTEND;TZID=America/New_York:20250306T235959
DTSTAMP:20260424T174102
CREATED:20240822T214814Z
LAST-MODIFIED:20240822T214814Z
UID:10003238-1741219200-1741305599@www.lasalle.edu
SUMMARY:RN-BSN/FNP/ANP ONLINE I Grades Due
DESCRIPTION:
URL:https://www.lasalle.edu/event/rn-bsn-fnp-anp-online-i-grades-due-13/
LOCATION:Online
CATEGORIES:Academic-EVE
END:VEVENT
BEGIN:VEVENT
DTSTART;TZID=America/New_York:20250306T000000
DTEND;TZID=America/New_York:20250306T235959
DTSTAMP:20260424T174102
CREATED:20240822T214813Z
LAST-MODIFIED:20240822T214813Z
UID:10003237-1741219200-1741305599@www.lasalle.edu
SUMMARY:7-Week I Grades Due
DESCRIPTION:
URL:https://www.lasalle.edu/event/7-week-i-grades-due-9/
LOCATION:All Locations
CATEGORIES:Academic-DAY,Academic-EVE
END:VEVENT
BEGIN:VEVENT
DTSTART;TZID=America/New_York:20250306T000000
DTEND;TZID=America/New_York:20250306T235959
DTSTAMP:20260424T174102
CREATED:20240822T214812Z
LAST-MODIFIED:20240822T214812Z
UID:10003236-1741219200-1741305599@www.lasalle.edu
SUMMARY:Sophomore Registration for Fall 2025 Begins
DESCRIPTION:
URL:https://www.lasalle.edu/event/sophomore-registration-for-fall-2025-begins-3/
LOCATION:Main Campus
CATEGORIES:Academic-DAY,Academic-EVE
END:VEVENT
BEGIN:VEVENT
DTSTART;TZID=America/New_York:20250306T000000
DTEND;TZID=America/New_York:20250306T235959
DTSTAMP:20260424T174102
CREATED:20240118T172950Z
LAST-MODIFIED:20240118T172950Z
UID:10002457-1741219200-1741305599@www.lasalle.edu
SUMMARY:RN-BSN/FNP/ANP ONLINE I Grades Due
DESCRIPTION:
URL:https://www.lasalle.edu/event/rn-bsn-fnp-anp-online-i-grades-due-10/
LOCATION:Online
CATEGORIES:Academic-EVE
END:VEVENT
BEGIN:VEVENT
DTSTART;TZID=America/New_York:20250306T000000
DTEND;TZID=America/New_York:20250306T235959
DTSTAMP:20260424T174102
CREATED:20240118T172945Z
LAST-MODIFIED:20240118T172945Z
UID:10002452-1741219200-1741305599@www.lasalle.edu
SUMMARY:RN-BSN/FNP/ANP ONLINE I Grades Due
DESCRIPTION:
URL:https://www.lasalle.edu/event/rn-bsn-fnp-anp-online-i-grades-due-9/
LOCATION:Online
CATEGORIES:Academic-EVE
END:VEVENT
BEGIN:VEVENT
DTSTART;TZID=America/New_York:20250305T000000
DTEND;TZID=America/New_York:20250305T235959
DTSTAMP:20260424T174102
CREATED:20240822T214729Z
LAST-MODIFIED:20240822T214729Z
UID:10003235-1741132800-1741219199@www.lasalle.edu
SUMMARY:MBA ONLINE II Last Day to Add a Course
DESCRIPTION:
URL:https://www.lasalle.edu/event/mba-online-ii-last-day-to-add-a-course-12/
LOCATION:Online
CATEGORIES:Academic-GRAD
END:VEVENT
END:VCALENDAR