BEGIN:VCALENDAR
VERSION:2.0
PRODID:-//La Salle University - ECPv6.15.20//NONSGML v1.0//EN
CALSCALE:GREGORIAN
METHOD:PUBLISH
X-WR-CALNAME:La Salle University
X-ORIGINAL-URL:https://www.lasalle.edu
X-WR-CALDESC:Events for La Salle University
REFRESH-INTERVAL;VALUE=DURATION:PT1H
X-Robots-Tag:noindex
X-PUBLISHED-TTL:PT1H
BEGIN:VTIMEZONE
TZID:America/New_York
BEGIN:DAYLIGHT
TZOFFSETFROM:-0500
TZOFFSETTO:-0400
TZNAME:EDT
DTSTART:20230312T070000
END:DAYLIGHT
BEGIN:STANDARD
TZOFFSETFROM:-0400
TZOFFSETTO:-0500
TZNAME:EST
DTSTART:20231105T060000
END:STANDARD
BEGIN:DAYLIGHT
TZOFFSETFROM:-0500
TZOFFSETTO:-0400
TZNAME:EDT
DTSTART:20240310T070000
END:DAYLIGHT
BEGIN:STANDARD
TZOFFSETFROM:-0400
TZOFFSETTO:-0500
TZNAME:EST
DTSTART:20241103T060000
END:STANDARD
BEGIN:DAYLIGHT
TZOFFSETFROM:-0500
TZOFFSETTO:-0400
TZNAME:EDT
DTSTART:20250309T070000
END:DAYLIGHT
BEGIN:STANDARD
TZOFFSETFROM:-0400
TZOFFSETTO:-0500
TZNAME:EST
DTSTART:20251102T060000
END:STANDARD
END:VTIMEZONE
BEGIN:VEVENT
DTSTART;TZID=America/New_York:20241112T083000
DTEND;TZID=America/New_York:20241112T093000
DTSTAMP:20260421T070623
CREATED:20241104T073657Z
LAST-MODIFIED:20241112T135438Z
UID:10003810-1731400200-1731403800@www.lasalle.edu
SUMMARY:MSCHE Self-Study Team Chair Preliminary Visit
DESCRIPTION:MSCHE Self-Study Team Chair Preliminary Visit
URL:https://www.lasalle.edu/event/msche-self-study-team-chair-preliminary-visit/
LOCATION:College Hall Brother Teliow Boardroom
CATEGORIES:Meeting - General
END:VEVENT
BEGIN:VEVENT
DTSTART;TZID=America/New_York:20240911T100000
DTEND;TZID=America/New_York:20240911T120000
DTSTAMP:20260421T070623
CREATED:20240907T134244Z
LAST-MODIFIED:20240911T164032Z
UID:10003340-1726048800-1726056000@www.lasalle.edu
SUMMARY:President Allen/RPK Group
DESCRIPTION:President Allen/RPK Group
URL:https://www.lasalle.edu/event/president-allen-rpk-group/
LOCATION:College Hall Brother Teliow Boardroom
CATEGORIES:Meeting - General
END:VEVENT
BEGIN:VEVENT
DTSTART;TZID=America/New_York:20240813T100000
DTEND;TZID=America/New_York:20240813T110000
DTSTAMP:20260421T070623
CREATED:20240810T154202Z
LAST-MODIFIED:20240813T144939Z
UID:10002997-1723543200-1723546800@www.lasalle.edu
SUMMARY:Weekly President's Office Meeting
DESCRIPTION:Weekly President’s Office Meeting
URL:https://www.lasalle.edu/event/weekly-presidents-office-meeting/
LOCATION:College Hall Brother Teliow Boardroom
CATEGORIES:Meeting - General
END:VEVENT
END:VCALENDAR