BEGIN:VCALENDAR
VERSION:2.0
PRODID:-//La Salle University - ECPv6.15.20//NONSGML v1.0//EN
CALSCALE:GREGORIAN
METHOD:PUBLISH
X-WR-CALNAME:La Salle University
X-ORIGINAL-URL:https://www.lasalle.edu
X-WR-CALDESC:Events for La Salle University
REFRESH-INTERVAL;VALUE=DURATION:PT1H
X-Robots-Tag:noindex
X-PUBLISHED-TTL:PT1H
BEGIN:VTIMEZONE
TZID:America/New_York
BEGIN:DAYLIGHT
TZOFFSETFROM:-0500
TZOFFSETTO:-0400
TZNAME:EDT
DTSTART:20230312T070000
END:DAYLIGHT
BEGIN:STANDARD
TZOFFSETFROM:-0400
TZOFFSETTO:-0500
TZNAME:EST
DTSTART:20231105T060000
END:STANDARD
BEGIN:DAYLIGHT
TZOFFSETFROM:-0500
TZOFFSETTO:-0400
TZNAME:EDT
DTSTART:20240310T070000
END:DAYLIGHT
BEGIN:STANDARD
TZOFFSETFROM:-0400
TZOFFSETTO:-0500
TZNAME:EST
DTSTART:20241103T060000
END:STANDARD
BEGIN:DAYLIGHT
TZOFFSETFROM:-0500
TZOFFSETTO:-0400
TZNAME:EDT
DTSTART:20250309T070000
END:DAYLIGHT
BEGIN:STANDARD
TZOFFSETFROM:-0400
TZOFFSETTO:-0500
TZNAME:EST
DTSTART:20251102T060000
END:STANDARD
BEGIN:DAYLIGHT
TZOFFSETFROM:-0500
TZOFFSETTO:-0400
TZNAME:EDT
DTSTART:20260308T070000
END:DAYLIGHT
BEGIN:STANDARD
TZOFFSETFROM:-0400
TZOFFSETTO:-0500
TZNAME:EST
DTSTART:20261101T060000
END:STANDARD
END:VTIMEZONE
BEGIN:VEVENT
DTSTART;TZID=America/New_York:20250202T090000
DTEND;TZID=America/New_York:20250203T000000
DTSTAMP:20260423T103101
CREATED:20250131T214714Z
LAST-MODIFIED:20250203T044246Z
UID:10004128-1738486800-1738540800@www.lasalle.edu
SUMMARY:Sorority Recruitment
DESCRIPTION:Sorority Recruitment
URL:https://www.lasalle.edu/event/sorority-recruitment-31/
LOCATION:Founders’ Hall 531
CATEGORIES:Leadership Development
END:VEVENT
BEGIN:VEVENT
DTSTART;TZID=America/New_York:20250201T080000
DTEND;TZID=America/New_York:20250202T000000
DTSTAMP:20260423T103101
CREATED:20250127T154715Z
LAST-MODIFIED:20250202T033928Z
UID:10004114-1738396800-1738454400@www.lasalle.edu
SUMMARY:Sorority Recruitment
DESCRIPTION:Sorority Recruitment
URL:https://www.lasalle.edu/event/sorority-recruitment-19/
LOCATION:Founders’ Hall 531
CATEGORIES:Leadership Development
END:VEVENT
BEGIN:VEVENT
DTSTART;TZID=America/New_York:20250131T170000
DTEND;TZID=America/New_York:20250201T000000
DTSTAMP:20260423T103101
CREATED:20250125T024514Z
LAST-MODIFIED:20250201T043933Z
UID:10004098-1738342800-1738368000@www.lasalle.edu
SUMMARY:Sorority Recruitment
DESCRIPTION:Sorority Recruitment
URL:https://www.lasalle.edu/event/sorority-recruitment-6/
LOCATION:Founders’ Hall 531
CATEGORIES:Leadership Development
END:VEVENT
BEGIN:VEVENT
DTSTART;TZID=America/New_York:20250111T070000
DTEND;TZID=America/New_York:20250111T190000
DTSTAMP:20260423T103101
CREATED:20241207T183536Z
LAST-MODIFIED:20250111T232025Z
UID:10003981-1736578800-1736622000@www.lasalle.edu
SUMMARY:Mock Trial
DESCRIPTION:Mock Trial Tournement
URL:https://www.lasalle.edu/event/mock-trial-16/
LOCATION:Founders’ Hall 531
CATEGORIES:Leadership Development
END:VEVENT
BEGIN:VEVENT
DTSTART;TZID=America/New_York:20250110T170000
DTEND;TZID=America/New_York:20250110T210000
DTSTAMP:20260423T103101
CREATED:20241207T083917Z
LAST-MODIFIED:20250111T003425Z
UID:10003969-1736528400-1736542800@www.lasalle.edu
SUMMARY:Mock Trial
DESCRIPTION:Mock Trial Tournement
URL:https://www.lasalle.edu/event/mock-trial-4/
LOCATION:Founders’ Hall 531
CATEGORIES:Leadership Development
END:VEVENT
BEGIN:VEVENT
DTSTART;TZID=America/New_York:20241020T080000
DTEND;TZID=America/New_York:20241020T200000
DTSTAMP:20260423T103101
CREATED:20241020T023838Z
LAST-MODIFIED:20241020T233856Z
UID:10003627-1729411200-1729454400@www.lasalle.edu
SUMMARY:Mock Trial Tournament
DESCRIPTION:Mock Trial Tournament
URL:https://www.lasalle.edu/event/mock-trial-tournament-44/
LOCATION:Founders’ Hall 531
CATEGORIES:Leadership Development
END:VEVENT
BEGIN:VEVENT
DTSTART;TZID=America/New_York:20241019T070000
DTEND;TZID=America/New_York:20241019T200000
DTSTAMP:20260423T103101
CREATED:20241019T014125Z
LAST-MODIFIED:20241020T003602Z
UID:10003607-1729321200-1729368000@www.lasalle.edu
SUMMARY:Mock Trial Tournament
DESCRIPTION:Mock Trial Tournament
URL:https://www.lasalle.edu/event/mock-trial-tournament-26/
LOCATION:Founders’ Hall 531
CATEGORIES:Leadership Development
END:VEVENT
BEGIN:VEVENT
DTSTART;TZID=America/New_York:20241018T170000
DTEND;TZID=America/New_York:20241018T200000
DTSTAMP:20260423T103102
CREATED:20241017T193834Z
LAST-MODIFIED:20241018T234356Z
UID:10003581-1729270800-1729281600@www.lasalle.edu
SUMMARY:Mock Trial Tournament
DESCRIPTION:Mock Trial Tournament
URL:https://www.lasalle.edu/event/mock-trial-tournament-3/
LOCATION:Founders’ Hall 531
CATEGORIES:Leadership Development
END:VEVENT
END:VCALENDAR