BEGIN:VCALENDAR
VERSION:2.0
PRODID:-//La Salle University - ECPv6.15.20//NONSGML v1.0//EN
CALSCALE:GREGORIAN
METHOD:PUBLISH
X-ORIGINAL-URL:https://www.lasalle.edu
X-WR-CALDESC:Events for La Salle University
REFRESH-INTERVAL;VALUE=DURATION:PT1H
X-Robots-Tag:noindex
X-PUBLISHED-TTL:PT1H
BEGIN:VTIMEZONE
TZID:America/New_York
BEGIN:DAYLIGHT
TZOFFSETFROM:-0500
TZOFFSETTO:-0400
TZNAME:EDT
DTSTART:20240310T070000
END:DAYLIGHT
BEGIN:STANDARD
TZOFFSETFROM:-0400
TZOFFSETTO:-0500
TZNAME:EST
DTSTART:20241103T060000
END:STANDARD
BEGIN:DAYLIGHT
TZOFFSETFROM:-0500
TZOFFSETTO:-0400
TZNAME:EDT
DTSTART:20250309T070000
END:DAYLIGHT
BEGIN:STANDARD
TZOFFSETFROM:-0400
TZOFFSETTO:-0500
TZNAME:EST
DTSTART:20251102T060000
END:STANDARD
BEGIN:DAYLIGHT
TZOFFSETFROM:-0500
TZOFFSETTO:-0400
TZNAME:EDT
DTSTART:20260308T070000
END:DAYLIGHT
BEGIN:STANDARD
TZOFFSETFROM:-0400
TZOFFSETTO:-0500
TZNAME:EST
DTSTART:20261101T060000
END:STANDARD
BEGIN:DAYLIGHT
TZOFFSETFROM:-0500
TZOFFSETTO:-0400
TZNAME:EDT
DTSTART:20270314T070000
END:DAYLIGHT
BEGIN:STANDARD
TZOFFSETFROM:-0400
TZOFFSETTO:-0500
TZNAME:EST
DTSTART:20271107T060000
END:STANDARD
END:VTIMEZONE
BEGIN:VEVENT
DTSTART;TZID=America/New_York:20260226T083000
DTEND;TZID=America/New_York:20260226T150000
DTSTAMP:20260422T153600
CREATED:20260216T093607Z
LAST-MODIFIED:20260224T225144Z
UID:10005542-1772094600-1772118000@www.lasalle.edu
SUMMARY:Spring Career Fair - Back Up Date/Snow Date
DESCRIPTION:Prepare for your next move at the Spring Career Fair 2026! Here\, you will not only find various job and internship opportunities\, but also build valuable connections that can open your career path forward. Explore different fields and companies by asking the professionals themselves about their organization\, industry\, & more! Not feeling prepared? We will have Prepare For The Fair events every day leading up to the big day and stations at the fair in our student “Prep Room”!
URL:https://www.lasalle.edu/event/spring-career-fair-back-up-date-snow-date-2/
LOCATION:Founders’ Hall Auditorium (105)
CATEGORIES:Job/Career
END:VEVENT
BEGIN:VEVENT
DTSTART;TZID=America/New_York:20260225T180000
DTEND;TZID=America/New_York:20260225T200000
DTSTAMP:20260422T153600
CREATED:20260216T093605Z
LAST-MODIFIED:20260226T004900Z
UID:10005540-1772042400-1772049600@www.lasalle.edu
SUMMARY:BSU Event
DESCRIPTION:BSU Movie Night “Coming to America”
URL:https://www.lasalle.edu/event/bsu-event/
LOCATION:Founders’ Hall Auditorium (105)
CATEGORIES:University Celebrations
END:VEVENT
BEGIN:VEVENT
DTSTART;TZID=America/New_York:20260219T120000
DTEND;TZID=America/New_York:20260219T140000
DTSTAMP:20260422T153600
CREATED:20260108T094803Z
LAST-MODIFIED:20260219T185033Z
UID:10005416-1771502400-1771509600@www.lasalle.edu
SUMMARY:Spring Career Fair
DESCRIPTION:Prepare for your next move at the Spring Career Fair 2026! Here\, you will not only find various job and internship opportunities\, but also build valuable connections that can open your career path forward. Explore different fields and companies by asking the professionals themselves about their organization\, industry\, & more! Not feeling prepared? We will have Prepare For The Fair events every day leading up to the big day and stations at the fair in our student “Prep Room”!
URL:https://www.lasalle.edu/event/spring-career-fair-2/
LOCATION:Founders’ Hall Auditorium (105)
CATEGORIES:Job/Career
END:VEVENT
BEGIN:VEVENT
DTSTART;TZID=America/New_York:20260212T190000
DTEND;TZID=America/New_York:20260212T210000
DTSTAMP:20260422T153600
CREATED:20260205T234943Z
LAST-MODIFIED:20260213T013837Z
UID:10005503-1770922800-1770930000@www.lasalle.edu
SUMMARY:Pop a balloon
DESCRIPTION:Pop a balloon
URL:https://www.lasalle.edu/event/pop-a-balloon/
LOCATION:Founders’ Hall Auditorium (105)
CATEGORIES:Entertainment
END:VEVENT
BEGIN:VEVENT
DTSTART;TZID=America/New_York:20260210T180000
DTEND;TZID=America/New_York:20260210T210000
DTSTAMP:20260422T153600
CREATED:20260209T194610Z
LAST-MODIFIED:20260211T013408Z
UID:10005517-1770746400-1770757200@www.lasalle.edu
SUMMARY:Baseball
DESCRIPTION:Baseball
URL:https://www.lasalle.edu/event/baseball/
LOCATION:Founders’ Hall Auditorium (105)
CATEGORIES:Meeting - General
END:VEVENT
BEGIN:VEVENT
DTSTART;TZID=America/New_York:20260108T090000
DTEND;TZID=America/New_York:20260108T160000
DTSTAMP:20260422T153600
CREATED:20251205T113313Z
LAST-MODIFIED:20251216T194059Z
UID:10005364-1767862800-1767888000@www.lasalle.edu
SUMMARY:Enrollment and Computer Information Sciences
DESCRIPTION:Enrollment and Computer Information Sciences
URL:https://www.lasalle.edu/event/enrollment-and-computer-information-sciences/
LOCATION:Founders’ Hall Auditorium (105)
CATEGORIES:Admissions
END:VEVENT
BEGIN:VEVENT
DTSTART;TZID=America/New_York:20251204T120000
DTEND;TZID=America/New_York:20251204T140000
DTSTAMP:20260422T153600
CREATED:20251121T235304Z
LAST-MODIFIED:20251204T184652Z
UID:10005321-1764849600-1764856800@www.lasalle.edu
SUMMARY:Voices of La Salle
DESCRIPTION:Voices of La Salle series\, pt. 2
URL:https://www.lasalle.edu/event/voices-of-la-salle/
LOCATION:Founders’ Hall Auditorium (105)
CATEGORIES:Leadership Development
END:VEVENT
BEGIN:VEVENT
DTSTART;TZID=America/New_York:20251015T143000
DTEND;TZID=America/New_York:20251015T190000
DTSTAMP:20260422T153600
CREATED:20251009T184928Z
LAST-MODIFIED:20251015T223407Z
UID:10005117-1760538600-1760554800@www.lasalle.edu
SUMMARY:TALA Conference
DESCRIPTION:TALA Conference
URL:https://www.lasalle.edu/event/tala-conference/
LOCATION:Founders’ Hall Auditorium (105)
CATEGORIES:Conference - External
END:VEVENT
BEGIN:VEVENT
DTSTART;TZID=America/New_York:20250925T170000
DTEND;TZID=America/New_York:20250925T190000
DTSTAMP:20260422T153600
CREATED:20250924T034230Z
LAST-MODIFIED:20250925T224154Z
UID:10005037-1758819600-1758826800@www.lasalle.edu
SUMMARY:CEC- Greek Life Live
DESCRIPTION:CEC- Greek Life Live
URL:https://www.lasalle.edu/event/cec-greek-life-live/
LOCATION:Founders’ Hall Auditorium (105)
CATEGORIES:Entertainment
END:VEVENT
BEGIN:VEVENT
DTSTART;TZID=America/New_York:20250819T090000
DTEND;TZID=America/New_York:20250819T150000
DTSTAMP:20260422T153600
CREATED:20250721T203313Z
LAST-MODIFIED:20250819T184513Z
UID:10004937-1755594000-1755615600@www.lasalle.edu
SUMMARY:DLSI Teaching and Learning Conference
DESCRIPTION:DLSI Teaching and Learning Conference
URL:https://www.lasalle.edu/event/dlsi-teaching-and-learning-conference/
LOCATION:Founders’ Hall Auditorium (105)
CATEGORIES:Conference
END:VEVENT
BEGIN:VEVENT
DTSTART;TZID=America/New_York:20250722T090000
DTEND;TZID=America/New_York:20250722T113000
DTSTAMP:20260422T153600
CREATED:20250718T074057Z
LAST-MODIFIED:20250722T144210Z
UID:10004919-1753174800-1753183800@www.lasalle.edu
SUMMARY:Group Tour launch
DESCRIPTION:Group Tour launch
URL:https://www.lasalle.edu/event/group-tour-launch-4/
LOCATION:Founders’ Hall Auditorium (105)
CATEGORIES:Admissions
END:VEVENT
BEGIN:VEVENT
DTSTART;TZID=America/New_York:20250708T080000
DTEND;TZID=America/New_York:20250708T103000
DTSTAMP:20260422T153600
CREATED:20250707T223748Z
LAST-MODIFIED:20250708T134111Z
UID:10004804-1751961600-1751970600@www.lasalle.edu
SUMMARY:Group Tour launch
DESCRIPTION:Group Tour launch
URL:https://www.lasalle.edu/event/group-tour-launch/
LOCATION:Founders’ Hall Auditorium (105)
CATEGORIES:Admissions
END:VEVENT
BEGIN:VEVENT
DTSTART;TZID=America/New_York:20250626T070000
DTEND;TZID=America/New_York:20250626T220000
DTSTAMP:20260422T153600
CREATED:20250524T163910Z
LAST-MODIFIED:20250602T074115Z
UID:10004654-1750921200-1750975200@www.lasalle.edu
SUMMARY:Ready\, Set\, Explore
DESCRIPTION:Ready\, Set\, Explore
URL:https://www.lasalle.edu/event/ready-set-explore-12/
LOCATION:Founders’ Hall Auditorium (105)
CATEGORIES:University Celebrations
END:VEVENT
BEGIN:VEVENT
DTSTART;TZID=America/New_York:20250625T070000
DTEND;TZID=America/New_York:20250625T220000
DTSTAMP:20260422T153600
CREATED:20250514T194849Z
LAST-MODIFIED:20250602T194508Z
UID:10004645-1750834800-1750888800@www.lasalle.edu
SUMMARY:Ready\, Set\, Explore
DESCRIPTION:Ready\, Set\, Explore
URL:https://www.lasalle.edu/event/ready-set-explore-7/
LOCATION:Founders’ Hall Auditorium (105)
CATEGORIES:University Celebrations
END:VEVENT
BEGIN:VEVENT
DTSTART;TZID=America/New_York:20250511T070000
DTEND;TZID=America/New_York:20250511T230000
DTSTAMP:20260422T153600
CREATED:20250511T033653Z
LAST-MODIFIED:20250512T024624Z
UID:10004621-1746946800-1747004400@www.lasalle.edu
SUMMARY:Commencement
DESCRIPTION:Commencement
URL:https://www.lasalle.edu/event/commencement-37/
LOCATION:Founders’ Hall Auditorium (105)
CATEGORIES:University Celebrations
END:VEVENT
BEGIN:VEVENT
DTSTART;TZID=America/New_York:20250510T070000
DTEND;TZID=America/New_York:20250510T230000
DTSTAMP:20260422T153600
CREATED:20250509T044942Z
LAST-MODIFIED:20250511T033208Z
UID:10004611-1746860400-1746918000@www.lasalle.edu
SUMMARY:Commencement
DESCRIPTION:Commencement
URL:https://www.lasalle.edu/event/commencement-28/
LOCATION:Founders’ Hall Auditorium (105)
CATEGORIES:University Celebrations
END:VEVENT
BEGIN:VEVENT
DTSTART;TZID=America/New_York:20250509T120000
DTEND;TZID=America/New_York:20250509T140000
DTSTAMP:20260422T153600
CREATED:20250507T195334Z
LAST-MODIFIED:20250509T173913Z
UID:10004598-1746792000-1746799200@www.lasalle.edu
SUMMARY:Nursing Pinning Ceremony
DESCRIPTION:Annual Pinning Ceremony for Graduating Nursing Students
URL:https://www.lasalle.edu/event/nursing-pinning-ceremony/
LOCATION:Founders’ Hall Auditorium (105)
CATEGORIES:Service
END:VEVENT
BEGIN:VEVENT
DTSTART;TZID=America/New_York:20250508T070000
DTEND;TZID=America/New_York:20250508T230000
DTSTAMP:20260422T153600
CREATED:20250501T193221Z
LAST-MODIFIED:20250509T023752Z
UID:10004589-1746687600-1746745200@www.lasalle.edu
SUMMARY:Commencement
DESCRIPTION:Commencement
URL:https://www.lasalle.edu/event/commencement-9/
LOCATION:Founders’ Hall Auditorium (105)
CATEGORIES:University Celebrations
END:VEVENT
BEGIN:VEVENT
DTSTART;TZID=America/New_York:20250422T080000
DTEND;TZID=America/New_York:20250422T103000
DTSTAMP:20260422T153600
CREATED:20250415T093753Z
LAST-MODIFIED:20250422T133915Z
UID:10004532-1745308800-1745317800@www.lasalle.edu
SUMMARY:Admissions Group Tour
DESCRIPTION:Admissions Group Tour
URL:https://www.lasalle.edu/event/admissions-group-tour-13/
LOCATION:Founders’ Hall Auditorium (105)
CATEGORIES:Admissions
END:VEVENT
BEGIN:VEVENT
DTSTART;TZID=America/New_York:20250416T110000
DTEND;TZID=America/New_York:20250416T133000
DTSTAMP:20260422T153600
CREATED:20250413T053842Z
LAST-MODIFIED:20250416T164205Z
UID:10004519-1744801200-1744810200@www.lasalle.edu
SUMMARY:Admissions Group Tour
DESCRIPTION:Admissions Group Tour
URL:https://www.lasalle.edu/event/admissions-group-tour-12/
LOCATION:Founders’ Hall Auditorium (105)
CATEGORIES:Admissions
END:VEVENT
BEGIN:VEVENT
DTSTART;TZID=America/New_York:20250415T080000
DTEND;TZID=America/New_York:20250415T103000
DTSTAMP:20260422T153600
CREATED:20250412T103813Z
LAST-MODIFIED:20250415T134153Z
UID:10004513-1744704000-1744713000@www.lasalle.edu
SUMMARY:Admissions Group Tour
DESCRIPTION:Admissions Group Tour
URL:https://www.lasalle.edu/event/admissions-group-tour-11/
LOCATION:Founders’ Hall Auditorium (105)
CATEGORIES:Admissions
END:VEVENT
BEGIN:VEVENT
DTSTART;TZID=America/New_York:20250408T083000
DTEND;TZID=America/New_York:20250408T100000
DTSTAMP:20260422T153600
CREATED:20250405T043650Z
LAST-MODIFIED:20250408T135111Z
UID:10004459-1744101000-1744106400@www.lasalle.edu
SUMMARY:Admission visit tour
DESCRIPTION:Admission visit tour
URL:https://www.lasalle.edu/event/admission-visit-tour-8/
LOCATION:Founders’ Hall Auditorium (105)
CATEGORIES:Admissions
END:VEVENT
BEGIN:VEVENT
DTSTART;TZID=America/New_York:20250403T083000
DTEND;TZID=America/New_York:20250403T100000
DTSTAMP:20260422T153600
CREATED:20250309T103520Z
LAST-MODIFIED:20250403T134727Z
UID:10004409-1743669000-1743674400@www.lasalle.edu
SUMMARY:Admission visit tour
DESCRIPTION:Admission visit tour
URL:https://www.lasalle.edu/event/admission-visit-tour-6/
LOCATION:Founders’ Hall Auditorium (105)
CATEGORIES:Admissions
END:VEVENT
BEGIN:VEVENT
DTSTART;TZID=America/New_York:20250402T100000
DTEND;TZID=America/New_York:20250402T120000
DTSTAMP:20260422T153600
CREATED:20250309T095026Z
LAST-MODIFIED:20250402T154816Z
UID:10004406-1743588000-1743595200@www.lasalle.edu
SUMMARY:Middle States visit
DESCRIPTION:Middle States visit
URL:https://www.lasalle.edu/event/middle-states-visit-2/
LOCATION:Founders’ Hall Auditorium (105)
CATEGORIES:Conference
END:VEVENT
BEGIN:VEVENT
DTSTART;TZID=America/New_York:20250401T120000
DTEND;TZID=America/New_York:20250401T140000
DTSTAMP:20260422T153600
CREATED:20250309T095025Z
LAST-MODIFIED:20250401T174920Z
UID:10004405-1743508800-1743516000@www.lasalle.edu
SUMMARY:Middle States visit
DESCRIPTION:Middle States visit
URL:https://www.lasalle.edu/event/middle-states-visit/
LOCATION:Founders’ Hall Auditorium (105)
CATEGORIES:Conference
END:VEVENT
BEGIN:VEVENT
DTSTART;TZID=America/New_York:20250401T083000
DTEND;TZID=America/New_York:20250401T100000
DTSTAMP:20260422T153600
CREATED:20250309T094531Z
LAST-MODIFIED:20250401T135126Z
UID:10004401-1743496200-1743501600@www.lasalle.edu
SUMMARY:Admission visit tour
DESCRIPTION:Admission visit tour
URL:https://www.lasalle.edu/event/admission-visit-tour-5/
LOCATION:Founders’ Hall Auditorium (105)
CATEGORIES:Admissions
END:VEVENT
BEGIN:VEVENT
DTSTART;TZID=America/New_York:20250325T180000
DTEND;TZID=America/New_York:20250325T210000
DTSTAMP:20260422T153600
CREATED:20250309T084347Z
LAST-MODIFIED:20250326T005804Z
UID:10004376-1742925600-1742936400@www.lasalle.edu
SUMMARY:Nutrition Panelist Program
DESCRIPTION:Nutrition Panelist Program
URL:https://www.lasalle.edu/event/nutrition-panelist-program/
LOCATION:Founders’ Hall Auditorium (105)
CATEGORIES:Lectures/Speakers
END:VEVENT
BEGIN:VEVENT
DTSTART;TZID=America/New_York:20250310T170000
DTEND;TZID=America/New_York:20250310T200000
DTSTAMP:20260422T153600
CREATED:20250220T085053Z
LAST-MODIFIED:20250310T234652Z
UID:10004272-1741626000-1741636800@www.lasalle.edu
SUMMARY:Family Feud Event
DESCRIPTION:Family Feud Event
URL:https://www.lasalle.edu/event/family-feud-event/
LOCATION:Founders’ Hall Auditorium (105)
CATEGORIES:Leadership Development
END:VEVENT
BEGIN:VEVENT
DTSTART;TZID=America/New_York:20250306T123000
DTEND;TZID=America/New_York:20250306T133000
DTSTAMP:20260422T153600
CREATED:20250227T214124Z
LAST-MODIFIED:20250306T173858Z
UID:10004314-1741264200-1741267800@www.lasalle.edu
SUMMARY:Town Hall
DESCRIPTION:Town Hall
URL:https://www.lasalle.edu/event/town-hall/
LOCATION:Founders’ Hall Auditorium (105)
CATEGORIES:University Celebrations
END:VEVENT
BEGIN:VEVENT
DTSTART;TZID=America/New_York:20250306T083000
DTEND;TZID=America/New_York:20250306T100000
DTSTAMP:20260422T153600
CREATED:20250227T214122Z
LAST-MODIFIED:20250306T143323Z
UID:10004311-1741249800-1741255200@www.lasalle.edu
SUMMARY:Admission visit tour
DESCRIPTION:Admission visit tour
URL:https://www.lasalle.edu/event/admission-visit-tour-4/
LOCATION:Founders’ Hall Auditorium (105)
CATEGORIES:Admissions
END:VEVENT
END:VCALENDAR