BEGIN:VCALENDAR
VERSION:2.0
PRODID:-//La Salle University - ECPv6.15.20//NONSGML v1.0//EN
CALSCALE:GREGORIAN
METHOD:PUBLISH
X-WR-CALNAME:La Salle University
X-ORIGINAL-URL:https://www.lasalle.edu
X-WR-CALDESC:Events for La Salle University
REFRESH-INTERVAL;VALUE=DURATION:PT1H
X-Robots-Tag:noindex
X-PUBLISHED-TTL:PT1H
BEGIN:VTIMEZONE
TZID:America/New_York
BEGIN:DAYLIGHT
TZOFFSETFROM:-0500
TZOFFSETTO:-0400
TZNAME:EDT
DTSTART:20230312T070000
END:DAYLIGHT
BEGIN:STANDARD
TZOFFSETFROM:-0400
TZOFFSETTO:-0500
TZNAME:EST
DTSTART:20231105T060000
END:STANDARD
BEGIN:DAYLIGHT
TZOFFSETFROM:-0500
TZOFFSETTO:-0400
TZNAME:EDT
DTSTART:20240310T070000
END:DAYLIGHT
BEGIN:STANDARD
TZOFFSETFROM:-0400
TZOFFSETTO:-0500
TZNAME:EST
DTSTART:20241103T060000
END:STANDARD
BEGIN:DAYLIGHT
TZOFFSETFROM:-0500
TZOFFSETTO:-0400
TZNAME:EDT
DTSTART:20250309T070000
END:DAYLIGHT
BEGIN:STANDARD
TZOFFSETFROM:-0400
TZOFFSETTO:-0500
TZNAME:EST
DTSTART:20251102T060000
END:STANDARD
BEGIN:DAYLIGHT
TZOFFSETFROM:-0500
TZOFFSETTO:-0400
TZNAME:EDT
DTSTART:20260308T070000
END:DAYLIGHT
BEGIN:STANDARD
TZOFFSETFROM:-0400
TZOFFSETTO:-0500
TZNAME:EST
DTSTART:20261101T060000
END:STANDARD
END:VTIMEZONE
BEGIN:VEVENT
DTSTART;TZID=America/New_York:20250401T120000
DTEND;TZID=America/New_York:20250401T140000
DTSTAMP:20260422T190743
CREATED:20250309T095025Z
LAST-MODIFIED:20250401T174920Z
UID:10004405-1743508800-1743516000@www.lasalle.edu
SUMMARY:Middle States visit
DESCRIPTION:Middle States visit
URL:https://www.lasalle.edu/event/middle-states-visit/
LOCATION:Founders’ Hall Auditorium (105)
CATEGORIES:Conference
END:VEVENT
BEGIN:VEVENT
DTSTART;TZID=America/New_York:20250401T083000
DTEND;TZID=America/New_York:20250401T100000
DTSTAMP:20260422T190743
CREATED:20250309T094531Z
LAST-MODIFIED:20250401T135126Z
UID:10004401-1743496200-1743501600@www.lasalle.edu
SUMMARY:Admission visit tour
DESCRIPTION:Admission visit tour
URL:https://www.lasalle.edu/event/admission-visit-tour-5/
LOCATION:Founders’ Hall Auditorium (105)
CATEGORIES:Admissions
END:VEVENT
BEGIN:VEVENT
DTSTART;TZID=America/New_York:20250325T180000
DTEND;TZID=America/New_York:20250325T210000
DTSTAMP:20260422T190743
CREATED:20250309T084347Z
LAST-MODIFIED:20250326T005804Z
UID:10004376-1742925600-1742936400@www.lasalle.edu
SUMMARY:Nutrition Panelist Program
DESCRIPTION:Nutrition Panelist Program
URL:https://www.lasalle.edu/event/nutrition-panelist-program/
LOCATION:Founders’ Hall Auditorium (105)
CATEGORIES:Lectures/Speakers
END:VEVENT
BEGIN:VEVENT
DTSTART;TZID=America/New_York:20250310T170000
DTEND;TZID=America/New_York:20250310T200000
DTSTAMP:20260422T190743
CREATED:20250220T085053Z
LAST-MODIFIED:20250310T234652Z
UID:10004272-1741626000-1741636800@www.lasalle.edu
SUMMARY:Family Feud Event
DESCRIPTION:Family Feud Event
URL:https://www.lasalle.edu/event/family-feud-event/
LOCATION:Founders’ Hall Auditorium (105)
CATEGORIES:Leadership Development
END:VEVENT
BEGIN:VEVENT
DTSTART;TZID=America/New_York:20250306T123000
DTEND;TZID=America/New_York:20250306T133000
DTSTAMP:20260422T190743
CREATED:20250227T214124Z
LAST-MODIFIED:20250306T173858Z
UID:10004314-1741264200-1741267800@www.lasalle.edu
SUMMARY:Town Hall
DESCRIPTION:Town Hall
URL:https://www.lasalle.edu/event/town-hall/
LOCATION:Founders’ Hall Auditorium (105)
CATEGORIES:University Celebrations
END:VEVENT
BEGIN:VEVENT
DTSTART;TZID=America/New_York:20250306T083000
DTEND;TZID=America/New_York:20250306T100000
DTSTAMP:20260422T190743
CREATED:20250227T214122Z
LAST-MODIFIED:20250306T143323Z
UID:10004311-1741249800-1741255200@www.lasalle.edu
SUMMARY:Admission visit tour
DESCRIPTION:Admission visit tour
URL:https://www.lasalle.edu/event/admission-visit-tour-4/
LOCATION:Founders’ Hall Auditorium (105)
CATEGORIES:Admissions
END:VEVENT
BEGIN:VEVENT
DTSTART;TZID=America/New_York:20250305T090000
DTEND;TZID=America/New_York:20250305T213000
DTSTAMP:20260422T190743
CREATED:20250225T074118Z
LAST-MODIFIED:20250306T013615Z
UID:10004300-1741165200-1741210200@www.lasalle.edu
SUMMARY:SOHS Mixer Reception
DESCRIPTION:Business Mixer Reception
URL:https://www.lasalle.edu/event/sohs-mixer-reception-2/
LOCATION:Founders’ Hall Auditorium (105)
CATEGORIES:Admissions
END:VEVENT
BEGIN:VEVENT
DTSTART;TZID=America/New_York:20250304T083000
DTEND;TZID=America/New_York:20250304T100000
DTSTAMP:20260422T190743
CREATED:20250224T094629Z
LAST-MODIFIED:20250304T143423Z
UID:10004292-1741077000-1741082400@www.lasalle.edu
SUMMARY:Admission visit tour
DESCRIPTION:Admission visit tour
URL:https://www.lasalle.edu/event/admission-visit-tour-3/
LOCATION:Founders’ Hall Auditorium (105)
CATEGORIES:Admissions
END:VEVENT
BEGIN:VEVENT
DTSTART;TZID=America/New_York:20250228T173000
DTEND;TZID=America/New_York:20250228T193000
DTSTAMP:20260422T190743
CREATED:20250221T003652Z
LAST-MODIFIED:20250228T233959Z
UID:10004278-1740763800-1740771000@www.lasalle.edu
SUMMARY:Marriage and Family Therapy Town Hall
DESCRIPTION:Marriage and Family Therapy Town Hall
URL:https://www.lasalle.edu/event/marriage-and-family-therapy-town-hall/
LOCATION:Founders’ Hall Auditorium (105)
CATEGORIES:Meeting - General
END:VEVENT
BEGIN:VEVENT
DTSTART;TZID=America/New_York:20250220T083000
DTEND;TZID=America/New_York:20250220T100000
DTSTAMP:20260422T190743
CREATED:20250213T054305Z
LAST-MODIFIED:20250220T143806Z
UID:10004239-1740040200-1740045600@www.lasalle.edu
SUMMARY:Admission visit tour
DESCRIPTION:Admission visit tour
URL:https://www.lasalle.edu/event/admission-visit-tour-2/
LOCATION:Founders’ Hall Auditorium (105)
CATEGORIES:Admissions
END:VEVENT
BEGIN:VEVENT
DTSTART;TZID=America/New_York:20250219T090000
DTEND;TZID=America/New_York:20250219T213000
DTSTAMP:20260422T190743
CREATED:20250213T053920Z
LAST-MODIFIED:20250220T014049Z
UID:10004236-1739955600-1740000600@www.lasalle.edu
SUMMARY:Business Mixer Reception
DESCRIPTION:Business Mixer Reception
URL:https://www.lasalle.edu/event/business-mixer-reception-2/
LOCATION:Founders’ Hall Auditorium (105)
CATEGORIES:Admissions
END:VEVENT
BEGIN:VEVENT
DTSTART;TZID=America/New_York:20250218T170000
DTEND;TZID=America/New_York:20250218T180000
DTSTAMP:20260422T190743
CREATED:20250212T185536Z
LAST-MODIFIED:20250218T225153Z
UID:10004225-1739898000-1739901600@www.lasalle.edu
SUMMARY:The Business of Sports club: Philadelphia 76ers Panel
DESCRIPTION:On Friday\, February 7th at 12:30pm in Founders Hall\, the Business of Sports club will be hosting a Philadelphia 76ers panel!
URL:https://www.lasalle.edu/event/the-business-of-sports-club-philadelphia-76ers-panel/
LOCATION:Founders’ Hall Auditorium (105)
CATEGORIES:Lectures/Speakers
END:VEVENT
BEGIN:VEVENT
DTSTART;TZID=America/New_York:20250211T083000
DTEND;TZID=America/New_York:20250211T100000
DTSTAMP:20260422T190743
CREATED:20250203T064037Z
LAST-MODIFIED:20250211T143955Z
UID:10004166-1739262600-1739268000@www.lasalle.edu
SUMMARY:Admission visit tour
DESCRIPTION:Admission visit tour
URL:https://www.lasalle.edu/event/admission-visit-tour/
LOCATION:Founders’ Hall Auditorium (105)
CATEGORIES:Admissions
END:VEVENT
BEGIN:VEVENT
DTSTART;TZID=America/New_York:20250207T123000
DTEND;TZID=America/New_York:20250207T134500
DTSTAMP:20260422T190743
CREATED:20250205T233331Z
LAST-MODIFIED:20250207T175215Z
UID:10004206-1738931400-1738935900@www.lasalle.edu
SUMMARY:Business of Sports: Philadelphia 76ers Panel
DESCRIPTION:On Friday\, February 7th at 12:30pm in Founders Hall room 137\, the Business of Sports club will be hosting a Philadelphia 76ers panel!
URL:https://www.lasalle.edu/event/business-of-sports-philadelphia-76ers-panel-2/
LOCATION:Founders’ Hall Auditorium (105)
CATEGORIES:Lectures/Speakers
END:VEVENT
BEGIN:VEVENT
DTSTART;TZID=America/New_York:20250204T170000
DTEND;TZID=America/New_York:20250204T190000
DTSTAMP:20260422T190743
CREATED:20250202T045017Z
LAST-MODIFIED:20250204T225509Z
UID:10004145-1738688400-1738695600@www.lasalle.edu
SUMMARY:Wellness Speaker
DESCRIPTION:Wellness Speaker
URL:https://www.lasalle.edu/event/wellness-speaker/
LOCATION:Founders’ Hall Auditorium (105)
CATEGORIES:Wellness/Recreation
END:VEVENT
BEGIN:VEVENT
DTSTART;TZID=America/New_York:20250202T190000
DTEND;TZID=America/New_York:20250203T000000
DTSTAMP:20260422T190743
CREATED:20250131T214713Z
LAST-MODIFIED:20250203T044546Z
UID:10004127-1738522800-1738540800@www.lasalle.edu
SUMMARY:Sorority Recruitment
DESCRIPTION:Sorority Recruitment
URL:https://www.lasalle.edu/event/sorority-recruitment-30/
LOCATION:Founders’ Hall Auditorium (105)
CATEGORIES:Leadership Development
END:VEVENT
BEGIN:VEVENT
DTSTART;TZID=America/New_York:20250201T080000
DTEND;TZID=America/New_York:20250202T000000
DTSTAMP:20260422T190743
CREATED:20250127T163407Z
LAST-MODIFIED:20250202T033927Z
UID:10004122-1738396800-1738454400@www.lasalle.edu
SUMMARY:Sorority Recruitment
DESCRIPTION:Sorority Recruitment
URL:https://www.lasalle.edu/event/sorority-recruitment-27/
LOCATION:Founders’ Hall Auditorium (105)
CATEGORIES:Leadership Development
END:VEVENT
BEGIN:VEVENT
DTSTART;TZID=America/New_York:20250131T190000
DTEND;TZID=America/New_York:20250201T000000
DTSTAMP:20260422T190743
CREATED:20250125T024516Z
LAST-MODIFIED:20250201T043818Z
UID:10004101-1738350000-1738368000@www.lasalle.edu
SUMMARY:Sorority Recruitment
DESCRIPTION:Sorority Recruitment
URL:https://www.lasalle.edu/event/sorority-recruitment-9/
LOCATION:Founders’ Hall Auditorium (105)
CATEGORIES:Leadership Development
END:VEVENT
BEGIN:VEVENT
DTSTART;TZID=America/New_York:20250130T190000
DTEND;TZID=America/New_York:20250131T000000
DTSTAMP:20260422T190743
CREATED:20250124T113143Z
LAST-MODIFIED:20250131T043939Z
UID:10004094-1738263600-1738281600@www.lasalle.edu
SUMMARY:Spring Sorority Recruitment
DESCRIPTION:Spring Sorority Recruitment
URL:https://www.lasalle.edu/event/spring-sorority-recruitment/
LOCATION:Founders’ Hall Auditorium (105)
CATEGORIES:Leadership Development
END:VEVENT
BEGIN:VEVENT
DTSTART;TZID=America/New_York:20250130T123000
DTEND;TZID=America/New_York:20250130T140000
DTSTAMP:20260422T190743
CREATED:20250121T234440Z
LAST-MODIFIED:20250130T184228Z
UID:10004085-1738240200-1738245600@www.lasalle.edu
SUMMARY:Spring Opening Meeting
DESCRIPTION:Spring Opening Meeting
URL:https://www.lasalle.edu/event/spring-opening-meeting-3/
LOCATION:Founders’ Hall Auditorium (105)
CATEGORIES:Meeting - General
END:VEVENT
BEGIN:VEVENT
DTSTART;TZID=America/New_York:20250130T083000
DTEND;TZID=America/New_York:20250130T100000
DTSTAMP:20260422T190743
CREATED:20250121T234438Z
LAST-MODIFIED:20250130T143436Z
UID:10004082-1738225800-1738231200@www.lasalle.edu
SUMMARY:Admissions Group Tour
DESCRIPTION:Admissions Group Tour
URL:https://www.lasalle.edu/event/admissions-group-tour-9/
LOCATION:Founders’ Hall Auditorium (105)
CATEGORIES:Admissions
END:VEVENT
BEGIN:VEVENT
DTSTART;TZID=America/New_York:20250123T083000
DTEND;TZID=America/New_York:20250123T100000
DTSTAMP:20260422T190743
CREATED:20250113T013805Z
LAST-MODIFIED:20250123T144547Z
UID:10004045-1737621000-1737626400@www.lasalle.edu
SUMMARY:Admissions Group Tour
DESCRIPTION:Admissions Group Tour
URL:https://www.lasalle.edu/event/admissions-group-tour-7/
LOCATION:Founders’ Hall Auditorium (105)
CATEGORIES:Admissions
END:VEVENT
BEGIN:VEVENT
DTSTART;TZID=America/New_York:20250121T180000
DTEND;TZID=America/New_York:20250121T200000
DTSTAMP:20260422T190743
CREATED:20241104T083733Z
LAST-MODIFIED:20250122T005408Z
UID:10003830-1737482400-1737489600@www.lasalle.edu
SUMMARY:suicide prevention speaker
DESCRIPTION:suicide prevention speaker
URL:https://www.lasalle.edu/event/suicide-prevention-speaker/
LOCATION:Founders’ Hall Auditorium (105)
CATEGORIES:Wellness/Recreation
END:VEVENT
BEGIN:VEVENT
DTSTART;TZID=America/New_York:20250121T083000
DTEND;TZID=America/New_York:20250121T100000
DTSTAMP:20260422T190743
CREATED:20250113T013531Z
LAST-MODIFIED:20250121T144751Z
UID:10004041-1737448200-1737453600@www.lasalle.edu
SUMMARY:Admissions Group Tour
DESCRIPTION:Admissions Group Tour
URL:https://www.lasalle.edu/event/admissions-group-tour-5/
LOCATION:Founders’ Hall Auditorium (105)
CATEGORIES:Admissions
END:VEVENT
BEGIN:VEVENT
DTSTART;TZID=America/New_York:20250120T170000
DTEND;TZID=America/New_York:20250120T210000
DTSTAMP:20260422T190743
CREATED:20250115T193411Z
LAST-MODIFIED:20250121T013204Z
UID:10004070-1737392400-1737406800@www.lasalle.edu
SUMMARY:Black History Month Speaker
DESCRIPTION:Black HIstory Month Speaker
URL:https://www.lasalle.edu/event/black-history-month-speaker/
LOCATION:Founders’ Hall Auditorium (105)
CATEGORIES:Multicultural/Diversity
END:VEVENT
BEGIN:VEVENT
DTSTART;TZID=America/New_York:20250120T120000
DTEND;TZID=America/New_York:20250120T144500
DTSTAMP:20260422T190743
CREATED:20250111T064229Z
LAST-MODIFIED:20250120T193453Z
UID:10004038-1737374400-1737384300@www.lasalle.edu
SUMMARY:ACE Winter Training
DESCRIPTION:ACE Winter Training
URL:https://www.lasalle.edu/event/ace-winter-training/
LOCATION:Founders’ Hall Auditorium (105)
CATEGORIES:Leadership Development
END:VEVENT
BEGIN:VEVENT
DTSTART;TZID=America/New_York:20250116T083000
DTEND;TZID=America/New_York:20250116T163000
DTSTAMP:20260422T190743
CREATED:20250111T054143Z
LAST-MODIFIED:20250113T183428Z
UID:10004036-1737016200-1737045000@www.lasalle.edu
SUMMARY:FAFSA Training
DESCRIPTION:FAFSA Training
URL:https://www.lasalle.edu/event/fafsa-training/
LOCATION:Founders’ Hall Auditorium (105)
CATEGORIES:Meeting - General
END:VEVENT
BEGIN:VEVENT
DTSTART;TZID=America/New_York:20250112T070000
DTEND;TZID=America/New_York:20250112T190000
DTSTAMP:20260422T190743
CREATED:20241212T222301Z
LAST-MODIFIED:20250112T234249Z
UID:10003997-1736665200-1736708400@www.lasalle.edu
SUMMARY:Mock Trial
DESCRIPTION:Mock Trial Tournement
URL:https://www.lasalle.edu/event/mock-trial-31/
LOCATION:Founders’ Hall Auditorium (105)
CATEGORIES:Leadership Development
END:VEVENT
BEGIN:VEVENT
DTSTART;TZID=America/New_York:20250111T070000
DTEND;TZID=America/New_York:20250111T190000
DTSTAMP:20260422T190743
CREATED:20241212T094347Z
LAST-MODIFIED:20250111T233219Z
UID:10003992-1736578800-1736622000@www.lasalle.edu
SUMMARY:Mock Trial
DESCRIPTION:Mock Trial Tournement
URL:https://www.lasalle.edu/event/mock-trial-27/
LOCATION:Founders’ Hall Auditorium (105)
CATEGORIES:Leadership Development
END:VEVENT
BEGIN:VEVENT
DTSTART;TZID=America/New_York:20241206T090000
DTEND;TZID=America/New_York:20241206T150000
DTSTAMP:20260422T190743
CREATED:20241124T153212Z
LAST-MODIFIED:20241206T043742Z
UID:10003929-1733475600-1733497200@www.lasalle.edu
SUMMARY:Clarifi December Meeting
DESCRIPTION:Clarifi December Meeting
URL:https://www.lasalle.edu/event/clarifi-december-meeting/
LOCATION:Founders’ Hall Auditorium (105)
CATEGORIES:Conference - External
END:VEVENT
END:VCALENDAR