BEGIN:VCALENDAR
VERSION:2.0
PRODID:-//La Salle University - ECPv6.15.20//NONSGML v1.0//EN
CALSCALE:GREGORIAN
METHOD:PUBLISH
X-ORIGINAL-URL:https://www.lasalle.edu
X-WR-CALDESC:Events for La Salle University
REFRESH-INTERVAL;VALUE=DURATION:PT1H
X-Robots-Tag:noindex
X-PUBLISHED-TTL:PT1H
BEGIN:VTIMEZONE
TZID:America/New_York
BEGIN:DAYLIGHT
TZOFFSETFROM:-0500
TZOFFSETTO:-0400
TZNAME:EDT
DTSTART:20220313T070000
END:DAYLIGHT
BEGIN:STANDARD
TZOFFSETFROM:-0400
TZOFFSETTO:-0500
TZNAME:EST
DTSTART:20221106T060000
END:STANDARD
BEGIN:DAYLIGHT
TZOFFSETFROM:-0500
TZOFFSETTO:-0400
TZNAME:EDT
DTSTART:20230312T070000
END:DAYLIGHT
BEGIN:STANDARD
TZOFFSETFROM:-0400
TZOFFSETTO:-0500
TZNAME:EST
DTSTART:20231105T060000
END:STANDARD
BEGIN:DAYLIGHT
TZOFFSETFROM:-0500
TZOFFSETTO:-0400
TZNAME:EDT
DTSTART:20240310T070000
END:DAYLIGHT
BEGIN:STANDARD
TZOFFSETFROM:-0400
TZOFFSETTO:-0500
TZNAME:EST
DTSTART:20241103T060000
END:STANDARD
BEGIN:DAYLIGHT
TZOFFSETFROM:-0500
TZOFFSETTO:-0400
TZNAME:EDT
DTSTART:20250309T070000
END:DAYLIGHT
BEGIN:STANDARD
TZOFFSETFROM:-0400
TZOFFSETTO:-0500
TZNAME:EST
DTSTART:20251102T060000
END:STANDARD
END:VTIMEZONE
BEGIN:VEVENT
DTSTART;TZID=America/New_York:20240927T170000
DTEND;TZID=America/New_York:20240927T180000
DTSTAMP:20260423T011304
CREATED:20240926T014554Z
LAST-MODIFIED:20240927T214628Z
UID:10003450-1727456400-1727460000@www.lasalle.edu
SUMMARY:PFW Guest Speaker
DESCRIPTION:PFW Guest Speaker
URL:https://www.lasalle.edu/event/pfw-guest-speaker/
LOCATION:Founders’ Hall Auditorium (105)
CATEGORIES:University Celebrations
END:VEVENT
BEGIN:VEVENT
DTSTART;TZID=America/New_York:20240926T130000
DTEND;TZID=America/New_York:20240926T140000
DTSTAMP:20260423T011304
CREATED:20240924T204453Z
LAST-MODIFIED:20240926T174922Z
UID:10003442-1727355600-1727359200@www.lasalle.edu
SUMMARY:Enrollment Group Tour
DESCRIPTION:Enrollment Group Tour
URL:https://www.lasalle.edu/event/enrollment-group-tour/
LOCATION:Founders’ Hall Auditorium (105)
CATEGORIES:Admissions
END:VEVENT
BEGIN:VEVENT
DTSTART;TZID=America/New_York:20240809T090000
DTEND;TZID=America/New_York:20240809T120000
DTSTAMP:20260423T011304
CREATED:20240510T194651Z
LAST-MODIFIED:20240809T154809Z
UID:10002929-1723194000-1723204800@www.lasalle.edu
SUMMARY:Clarke School Graduation
DESCRIPTION:Clarke School Graduation
URL:https://www.lasalle.edu/event/clarke-school-graduation/
LOCATION:Founders’ Hall Auditorium (105)
CATEGORIES:Conference - External
END:VEVENT
BEGIN:VEVENT
DTSTART;TZID=America/New_York:20240710T113000
DTEND;TZID=America/New_York:20240710T133000
DTSTAMP:20260423T011304
CREATED:20240614T103538Z
LAST-MODIFIED:20240710T164300Z
UID:10002955-1720611000-1720618200@www.lasalle.edu
SUMMARY:Admissions
DESCRIPTION:tour
URL:https://www.lasalle.edu/event/admissions-2/
LOCATION:Founders’ Hall Auditorium (105)
CATEGORIES:Admissions
END:VEVENT
BEGIN:VEVENT
DTSTART;TZID=America/New_York:20240618T090000
DTEND;TZID=America/New_York:20240618T130000
DTSTAMP:20260423T011304
CREATED:20240509T003408Z
LAST-MODIFIED:20240618T163716Z
UID:10002927-1718701200-1718715600@www.lasalle.edu
SUMMARY:2024-25 PHEAA Annual Workshop
DESCRIPTION:2024-25 PHEAA Annual Workshop
URL:https://www.lasalle.edu/event/2024-25-pheaa-annual-workshop-2/
LOCATION:Founders’ Hall Auditorium (105)
CATEGORIES:Conference
END:VEVENT
BEGIN:VEVENT
DTSTART;TZID=America/New_York:20240429T093000
DTEND;TZID=America/New_York:20240429T110000
DTSTAMP:20260423T011304
CREATED:20240426T093349Z
LAST-MODIFIED:20240429T153318Z
UID:10002887-1714383000-1714388400@www.lasalle.edu
SUMMARY:Admissions Group Tour
DESCRIPTION:Admissions Group Tour
URL:https://www.lasalle.edu/event/admissions-group-tour-4/
LOCATION:Founders’ Hall Auditorium (105)
CATEGORIES:Admissions
END:VEVENT
BEGIN:VEVENT
DTSTART;TZID=America/New_York:20240426T113000
DTEND;TZID=America/New_York:20240426T160000
DTSTAMP:20260423T011304
CREATED:20231102T214926Z
LAST-MODIFIED:20240426T193730Z
UID:10001965-1714131000-1714147200@www.lasalle.edu
SUMMARY:Bankers Day
DESCRIPTION:Bankers Day
URL:https://www.lasalle.edu/event/bankers-day/
LOCATION:Founders’ Hall Auditorium (105)
CATEGORIES:Leadership Development
END:VEVENT
BEGIN:VEVENT
DTSTART;TZID=America/New_York:20240425T093000
DTEND;TZID=America/New_York:20240425T110000
DTSTAMP:20260423T011304
CREATED:20240423T184315Z
LAST-MODIFIED:20240425T143721Z
UID:10002866-1714037400-1714042800@www.lasalle.edu
SUMMARY:Admissions Group Tour
DESCRIPTION:Admissions Group Tour
URL:https://www.lasalle.edu/event/admissions-group-tour-3/
LOCATION:Founders’ Hall Auditorium (105)
CATEGORIES:Admissions
END:VEVENT
BEGIN:VEVENT
DTSTART;TZID=America/New_York:20240419T143000
DTEND;TZID=America/New_York:20240419T153000
DTSTAMP:20260423T011304
CREATED:20240418T185138Z
LAST-MODIFIED:20240419T183844Z
UID:10002847-1713537000-1713540600@www.lasalle.edu
SUMMARY:Admissions Group Tour
DESCRIPTION:Admissions Group Tour
URL:https://www.lasalle.edu/event/admissions-group-tour-2/
LOCATION:Founders’ Hall Auditorium (105)
CATEGORIES:Admissions
END:VEVENT
BEGIN:VEVENT
DTSTART;TZID=America/New_York:20240419T093000
DTEND;TZID=America/New_York:20240419T110000
DTSTAMP:20260423T011304
CREATED:20240418T185137Z
LAST-MODIFIED:20240419T143829Z
UID:10002845-1713519000-1713524400@www.lasalle.edu
SUMMARY:Admissions Group Tour
DESCRIPTION:Admissions Group Tour
URL:https://www.lasalle.edu/event/admissions-group-tour/
LOCATION:Founders’ Hall Auditorium (105)
CATEGORIES:Admissions
END:VEVENT
BEGIN:VEVENT
DTSTART;TZID=America/New_York:20240416T120000
DTEND;TZID=America/New_York:20240416T134500
DTSTAMP:20260423T011304
CREATED:20240221T221842Z
LAST-MODIFIED:20240416T173449Z
UID:10002659-1713268800-1713275100@www.lasalle.edu
SUMMARY:Business of Sports Club Presents: Radio Legend Angelo Cataldi
DESCRIPTION:The Business of Sports Club Presents: Sports Radio Legend Angelo Cataldi  Tuesday\, April 16th\, 12:30-1:45pm in Founders Hall Auditorium
URL:https://www.lasalle.edu/event/business-of-sports-club-presents-radio-legend-angelo-cataldi/
LOCATION:Founders’ Hall Auditorium (105)
CATEGORIES:Lectures/Speakers
END:VEVENT
BEGIN:VEVENT
DTSTART;TZID=America/New_York:20240306T093000
DTEND;TZID=America/New_York:20240306T110000
DTSTAMP:20260423T011304
CREATED:20240229T063637Z
LAST-MODIFIED:20240306T154146Z
UID:10002687-1709717400-1709722800@www.lasalle.edu
SUMMARY:Admissions
DESCRIPTION:Admissions Tour
URL:https://www.lasalle.edu/event/admissions/
LOCATION:Founders’ Hall Auditorium (105)
CATEGORIES:Admissions
END:VEVENT
BEGIN:VEVENT
DTSTART;TZID=America/New_York:20240125T123000
DTEND;TZID=America/New_York:20240125T140000
DTSTAMP:20260423T011304
CREATED:20231129T202029Z
LAST-MODIFIED:20240124T204105Z
UID:10002060-1706185800-1706191200@www.lasalle.edu
SUMMARY:Faculty/Staff Spring Opening Meeting
DESCRIPTION:Spring Opening Meeting – Welcome Back!
URL:https://www.lasalle.edu/event/spring-opening-meeting/
LOCATION:Founders’ Hall Auditorium (105)
CATEGORIES:University Celebrations
END:VEVENT
BEGIN:VEVENT
DTSTART;TZID=America/New_York:20240124T180000
DTEND;TZID=America/New_York:20240124T200000
DTSTAMP:20260423T011304
CREATED:20240113T133732Z
LAST-MODIFIED:20240124T204100Z
UID:10002187-1706119200-1706126400@www.lasalle.edu
SUMMARY:Graduate Student Open House
DESCRIPTION:Prospective students who attend will learn about the on-campus and online graduate programs at La Salle University-wide Graduate Open House. The goal of this event is to draw interest and encourage attendees to apply.   The event is an evening focused on prospective adult learners interested in Master’s and Ph.D. programs. The event’s look and feel should be professional and classy\, with an approach similar to a cocktail or networking event. There’s a good amount of La Salle branded or colored decorations.  Seated dining height tables and tall counter or poseur tables are present around the space. All tables are round to encourage conversation. We’d also have themed place cards that attendees can select from to facilitate conversation before the presentation starts.  Décor includes clusters of balloons and centerpieces at each table. Tablecloths will be on all the tables. Lighting options include adding flameless candles (tealight or votive) alongside branded centerpieces.   The activities will entail a presentation by an Enrollment Division staff member followed by breakout sessions for the different schools/programs. The areas would be spread across the lobby space and in the auditorium. Snacks and beverages are available throughout the evening. Guests can take from the table and eat at their leisure. The evening would conclude with tours of the St. Benilde\, Founders Hall\, and Holroyd/Hayman. Attendees can select which of the three they would like to participate in. We’ll also book a shuttle to take those to Holroyd/Hayman and back to Founders after their tour.
URL:https://www.lasalle.edu/event/graduate-student-open-house-3/
LOCATION:Founders’ Hall Auditorium (105)
CATEGORIES:Academic-DAY,Leadership Development
END:VEVENT
BEGIN:VEVENT
DTSTART;TZID=America/New_York:20231130T180000
DTEND;TZID=America/New_York:20231130T203000
DTSTAMP:20260423T011304
CREATED:20231129T201952Z
LAST-MODIFIED:20231130T140413Z
UID:10002047-1701367200-1701376200@www.lasalle.edu
SUMMARY:AIDs Outreach Movie Night - 5B documentary about the first AIDS ward in San Francisco and a short reflection.
DESCRIPTION:AIDs Outreach Movie Night – 5B documentary about the first AIDS ward in San Francisco and a short reflection
URL:https://www.lasalle.edu/event/aids-outreach-movie-night-5b-documentary-about-the-first-aids-ward-in-san-francisco-and-a-short-reflection/
LOCATION:Founders’ Hall Auditorium (105)
CATEGORIES:Wellness/Recreation
END:VEVENT
END:VCALENDAR