BEGIN:VCALENDAR
VERSION:2.0
PRODID:-//La Salle University - ECPv6.15.20//NONSGML v1.0//EN
CALSCALE:GREGORIAN
METHOD:PUBLISH
X-ORIGINAL-URL:https://www.lasalle.edu
X-WR-CALDESC:Events for La Salle University
REFRESH-INTERVAL;VALUE=DURATION:PT1H
X-Robots-Tag:noindex
X-PUBLISHED-TTL:PT1H
BEGIN:VTIMEZONE
TZID:America/New_York
BEGIN:DAYLIGHT
TZOFFSETFROM:-0500
TZOFFSETTO:-0400
TZNAME:EDT
DTSTART:20240310T070000
END:DAYLIGHT
BEGIN:STANDARD
TZOFFSETFROM:-0400
TZOFFSETTO:-0500
TZNAME:EST
DTSTART:20241103T060000
END:STANDARD
BEGIN:DAYLIGHT
TZOFFSETFROM:-0500
TZOFFSETTO:-0400
TZNAME:EDT
DTSTART:20250309T070000
END:DAYLIGHT
BEGIN:STANDARD
TZOFFSETFROM:-0400
TZOFFSETTO:-0500
TZNAME:EST
DTSTART:20251102T060000
END:STANDARD
BEGIN:DAYLIGHT
TZOFFSETFROM:-0500
TZOFFSETTO:-0400
TZNAME:EDT
DTSTART:20260308T070000
END:DAYLIGHT
BEGIN:STANDARD
TZOFFSETFROM:-0400
TZOFFSETTO:-0500
TZNAME:EST
DTSTART:20261101T060000
END:STANDARD
END:VTIMEZONE
BEGIN:VEVENT
DTSTART;TZID=America/New_York:20250715T080000
DTEND;TZID=America/New_York:20250715T160000
DTSTAMP:20260422T213659
CREATED:20250711T004157Z
LAST-MODIFIED:20250715T184732Z
UID:10004876-1752566400-1752595200@www.lasalle.edu
SUMMARY:Summer camps
DESCRIPTION:Summer camps
URL:https://www.lasalle.edu/event/summer-camps-12/
LOCATION:Hayman Hall 115
CATEGORIES:Summer Camps & Conferences
END:VEVENT
BEGIN:VEVENT
DTSTART;TZID=America/New_York:20250714T080000
DTEND;TZID=America/New_York:20250714T160000
DTSTAMP:20260422T213659
CREATED:20250710T053306Z
LAST-MODIFIED:20250714T193454Z
UID:10004869-1752480000-1752508800@www.lasalle.edu
SUMMARY:Summer camps
DESCRIPTION:Summer camps
URL:https://www.lasalle.edu/event/summer-camps-11/
LOCATION:Hayman Hall 115
CATEGORIES:Summer Camps & Conferences
END:VEVENT
BEGIN:VEVENT
DTSTART;TZID=America/New_York:20250710T080000
DTEND;TZID=America/New_York:20250710T160000
DTSTAMP:20260422T213659
CREATED:20250708T194406Z
LAST-MODIFIED:20250710T194538Z
UID:10004842-1752134400-1752163200@www.lasalle.edu
SUMMARY:Summer camps
DESCRIPTION:Summer camps
URL:https://www.lasalle.edu/event/summer-camps-9/
LOCATION:Hayman Hall 115
CATEGORIES:Summer Camps & Conferences
END:VEVENT
BEGIN:VEVENT
DTSTART;TZID=America/New_York:20250709T080000
DTEND;TZID=America/New_York:20250709T160000
DTSTAMP:20260422T213659
CREATED:20250708T013736Z
LAST-MODIFIED:20250709T194313Z
UID:10004828-1752048000-1752076800@www.lasalle.edu
SUMMARY:Summer camps
DESCRIPTION:Summer camps
URL:https://www.lasalle.edu/event/summer-camps-8/
LOCATION:Hayman Hall 115
CATEGORIES:Summer Camps & Conferences
END:VEVENT
BEGIN:VEVENT
DTSTART;TZID=America/New_York:20250708T080000
DTEND;TZID=America/New_York:20250708T160000
DTSTAMP:20260422T213659
CREATED:20250707T223749Z
LAST-MODIFIED:20250708T163929Z
UID:10004806-1751961600-1751990400@www.lasalle.edu
SUMMARY:Summer camps
DESCRIPTION:Summer camps
URL:https://www.lasalle.edu/event/summer-camps-7/
LOCATION:Hayman Hall 115
CATEGORIES:Summer Camps & Conferences
END:VEVENT
BEGIN:VEVENT
DTSTART;TZID=America/New_York:20250707T080000
DTEND;TZID=America/New_York:20250707T160000
DTSTAMP:20260422T213659
CREATED:20250704T203937Z
LAST-MODIFIED:20250707T183714Z
UID:10004777-1751875200-1751904000@www.lasalle.edu
SUMMARY:Summer camps
DESCRIPTION:Summer camps
URL:https://www.lasalle.edu/event/summer-camps-6/
LOCATION:Hayman Hall 115
CATEGORIES:Summer Camps & Conferences
END:VEVENT
BEGIN:VEVENT
DTSTART;TZID=America/New_York:20250704T080000
DTEND;TZID=America/New_York:20250704T160000
DTSTAMP:20260422T213659
CREATED:20250703T043847Z
LAST-MODIFIED:20250704T193640Z
UID:10004766-1751616000-1751644800@www.lasalle.edu
SUMMARY:Summer camps
DESCRIPTION:Summer camps
URL:https://www.lasalle.edu/event/summer-camps-5/
LOCATION:Hayman Hall 115
CATEGORIES:Summer Camps & Conferences
END:VEVENT
BEGIN:VEVENT
DTSTART;TZID=America/New_York:20250703T080000
DTEND;TZID=America/New_York:20250703T160000
DTSTAMP:20260422T213659
CREATED:20250702T204029Z
LAST-MODIFIED:20250703T193541Z
UID:10004735-1751529600-1751558400@www.lasalle.edu
SUMMARY:Summer camps
DESCRIPTION:Summer camps
URL:https://www.lasalle.edu/event/summer-camps-4/
LOCATION:Hayman Hall 115
CATEGORIES:Summer Camps & Conferences
END:VEVENT
BEGIN:VEVENT
DTSTART;TZID=America/New_York:20250702T080000
DTEND;TZID=America/New_York:20250702T160000
DTSTAMP:20260422T213659
CREATED:20250701T213431Z
LAST-MODIFIED:20250702T194026Z
UID:10004715-1751443200-1751472000@www.lasalle.edu
SUMMARY:Summer camps
DESCRIPTION:Summer camps
URL:https://www.lasalle.edu/event/summer-camps-3/
LOCATION:Hayman Hall 115
CATEGORIES:Summer Camps & Conferences
END:VEVENT
BEGIN:VEVENT
DTSTART;TZID=America/New_York:20250701T080000
DTEND;TZID=America/New_York:20250701T160000
DTSTAMP:20260422T213659
CREATED:20250630T203331Z
LAST-MODIFIED:20250701T163514Z
UID:10004693-1751356800-1751385600@www.lasalle.edu
SUMMARY:Summer camps
DESCRIPTION:Summer camps
URL:https://www.lasalle.edu/event/summer-camps-2/
LOCATION:Hayman Hall 115
CATEGORIES:Summer Camps & Conferences
END:VEVENT
BEGIN:VEVENT
DTSTART;TZID=America/New_York:20250630T080000
DTEND;TZID=America/New_York:20250630T160000
DTSTAMP:20260422T213659
CREATED:20250603T044422Z
LAST-MODIFIED:20250630T194454Z
UID:10004676-1751270400-1751299200@www.lasalle.edu
SUMMARY:Summer camps
DESCRIPTION:Summer camps
URL:https://www.lasalle.edu/event/summer-camps/
LOCATION:Hayman Hall 115
CATEGORIES:Summer Camps & Conferences
END:VEVENT
END:VCALENDAR