BEGIN:VCALENDAR
VERSION:2.0
PRODID:-//La Salle University - ECPv6.15.20//NONSGML v1.0//EN
CALSCALE:GREGORIAN
METHOD:PUBLISH
X-WR-CALNAME:La Salle University
X-ORIGINAL-URL:https://www.lasalle.edu
X-WR-CALDESC:Events for La Salle University
REFRESH-INTERVAL;VALUE=DURATION:PT1H
X-Robots-Tag:noindex
X-PUBLISHED-TTL:PT1H
BEGIN:VTIMEZONE
TZID:America/New_York
BEGIN:DAYLIGHT
TZOFFSETFROM:-0500
TZOFFSETTO:-0400
TZNAME:EDT
DTSTART:20230312T070000
END:DAYLIGHT
BEGIN:STANDARD
TZOFFSETFROM:-0400
TZOFFSETTO:-0500
TZNAME:EST
DTSTART:20231105T060000
END:STANDARD
BEGIN:DAYLIGHT
TZOFFSETFROM:-0500
TZOFFSETTO:-0400
TZNAME:EDT
DTSTART:20240310T070000
END:DAYLIGHT
BEGIN:STANDARD
TZOFFSETFROM:-0400
TZOFFSETTO:-0500
TZNAME:EST
DTSTART:20241103T060000
END:STANDARD
BEGIN:DAYLIGHT
TZOFFSETFROM:-0500
TZOFFSETTO:-0400
TZNAME:EDT
DTSTART:20250309T070000
END:DAYLIGHT
BEGIN:STANDARD
TZOFFSETFROM:-0400
TZOFFSETTO:-0500
TZNAME:EST
DTSTART:20251102T060000
END:STANDARD
BEGIN:DAYLIGHT
TZOFFSETFROM:-0500
TZOFFSETTO:-0400
TZNAME:EDT
DTSTART:20260308T070000
END:DAYLIGHT
BEGIN:STANDARD
TZOFFSETFROM:-0400
TZOFFSETTO:-0500
TZNAME:EST
DTSTART:20261101T060000
END:STANDARD
END:VTIMEZONE
BEGIN:VEVENT
DTSTART;TZID=America/New_York:20250216T100000
DTEND;TZID=America/New_York:20250216T170000
DTSTAMP:20260421T072358
CREATED:20250207T213621Z
LAST-MODIFIED:20250216T214515Z
UID:10004216-1739700000-1739725200@www.lasalle.edu
SUMMARY:Palentine's Day Brunch in Manayunk
DESCRIPTION:Palentine’s Day Brunch in Manayunk
URL:https://www.lasalle.edu/event/palentines-day-brunch-in-manayunk/
LOCATION:La Salle Off-Campus Event
CATEGORIES:Dinning
END:VEVENT
BEGIN:VEVENT
DTSTART;TZID=America/New_York:20250215T140000
DTEND;TZID=America/New_York:20250215T160000
DTSTAMP:20260421T072358
CREATED:20250207T213620Z
LAST-MODIFIED:20250215T194400Z
UID:10004215-1739628000-1739635200@www.lasalle.edu
SUMMARY:Bus trip-Target shuttle
DESCRIPTION:Bus trip-Target shuttle
URL:https://www.lasalle.edu/event/bus-trip-target-shuttle-11/
LOCATION:La Salle Off-Campus Event
CATEGORIES:Entertainment
END:VEVENT
BEGIN:VEVENT
DTSTART;TZID=America/New_York:20250208T140000
DTEND;TZID=America/New_York:20250208T160000
DTSTAMP:20260421T072358
CREATED:20250207T034943Z
LAST-MODIFIED:20250208T205100Z
UID:10004212-1739023200-1739030400@www.lasalle.edu
SUMMARY:Bus trip-Target shuttle
DESCRIPTION:Bus trip-Target shuttle
URL:https://www.lasalle.edu/event/bus-trip-target-shuttle-10/
LOCATION:La Salle Off-Campus Event
CATEGORIES:Entertainment
END:VEVENT
BEGIN:VEVENT
DTSTART;TZID=America/New_York:20250127T114500
DTEND;TZID=America/New_York:20250127T134500
DTSTAMP:20260421T072358
CREATED:20250113T175024Z
LAST-MODIFIED:20250127T183356Z
UID:10004053-1737978300-1737985500@www.lasalle.edu
SUMMARY:Pheed Philly
DESCRIPTION:Pheed Philly
URL:https://www.lasalle.edu/event/pheed-philly-29/
LOCATION:La Salle Off-Campus Event
CATEGORIES:Service
END:VEVENT
BEGIN:VEVENT
DTSTART;TZID=America/New_York:20241207T140000
DTEND;TZID=America/New_York:20241207T160000
DTSTAMP:20260421T072358
CREATED:20241126T130828Z
LAST-MODIFIED:20241207T203508Z
UID:10003936-1733580000-1733587200@www.lasalle.edu
SUMMARY:Bus trip Target shuttle
DESCRIPTION:Target shuttle
URL:https://www.lasalle.edu/event/bus-trip-target-shuttle-9/
LOCATION:La Salle Off-Campus Event
CATEGORIES:Entertainment
END:VEVENT
BEGIN:VEVENT
DTSTART;TZID=America/New_York:20241207T093000
DTEND;TZID=America/New_York:20241207T103000
DTSTAMP:20260421T072358
CREATED:20241205T144358Z
LAST-MODIFIED:20241207T143510Z
UID:10003966-1733563800-1733567400@www.lasalle.edu
SUMMARY:Greater Goods
DESCRIPTION:Greater Goods
URL:https://www.lasalle.edu/event/greater-goods-4/
LOCATION:La Salle Off-Campus Event
CATEGORIES:Service
END:VEVENT
BEGIN:VEVENT
DTSTART;TZID=America/New_York:20241206T114500
DTEND;TZID=America/New_York:20241206T134500
DTSTAMP:20260421T072358
CREATED:20241124T153213Z
LAST-MODIFIED:20241206T043743Z
UID:10003930-1733485500-1733492700@www.lasalle.edu
SUMMARY:Pheed Philly
DESCRIPTION:Pheed Philly
URL:https://www.lasalle.edu/event/pheed-philly-28/
LOCATION:La Salle Off-Campus Event
CATEGORIES:Service
END:VEVENT
BEGIN:VEVENT
DTSTART;TZID=America/New_York:20241205T174500
DTEND;TZID=America/New_York:20241205T193000
DTSTAMP:20260421T072358
CREATED:20241205T144227Z
LAST-MODIFIED:20241205T224403Z
UID:10003965-1733420700-1733427000@www.lasalle.edu
SUMMARY:Cycle bar
DESCRIPTION:Cycle bar
URL:https://www.lasalle.edu/event/cycle-bar/
LOCATION:La Salle Off-Campus Event
CATEGORIES:Entertainment
END:VEVENT
BEGIN:VEVENT
DTSTART;TZID=America/New_York:20241202T114500
DTEND;TZID=America/New_York:20241202T134500
DTSTAMP:20260421T072358
CREATED:20241105T014539Z
LAST-MODIFIED:20241202T184509Z
UID:10003884-1733139900-1733147100@www.lasalle.edu
SUMMARY:Pheed Philly
DESCRIPTION:Pheed Philly
URL:https://www.lasalle.edu/event/pheed-philly-27/
LOCATION:La Salle Off-Campus Event
CATEGORIES:Service
END:VEVENT
BEGIN:VEVENT
DTSTART;TZID=America/New_York:20241129T114500
DTEND;TZID=America/New_York:20241129T134500
DTSTAMP:20260421T072358
CREATED:20241105T014537Z
LAST-MODIFIED:20241129T183747Z
UID:10003880-1732880700-1732887900@www.lasalle.edu
SUMMARY:Pheed Philly
DESCRIPTION:Pheed Philly
URL:https://www.lasalle.edu/event/pheed-philly-26/
LOCATION:La Salle Off-Campus Event
CATEGORIES:Service
END:VEVENT
BEGIN:VEVENT
DTSTART;TZID=America/New_York:20241125T114500
DTEND;TZID=America/New_York:20241125T134500
DTSTAMP:20260421T072358
CREATED:20241105T013430Z
LAST-MODIFIED:20241125T183845Z
UID:10003868-1732535100-1732542300@www.lasalle.edu
SUMMARY:Pheed Philly
DESCRIPTION:Pheed Philly
URL:https://www.lasalle.edu/event/pheed-philly-25/
LOCATION:La Salle Off-Campus Event
CATEGORIES:Service
END:VEVENT
BEGIN:VEVENT
DTSTART;TZID=America/New_York:20241123T140000
DTEND;TZID=America/New_York:20241123T160000
DTSTAMP:20260421T072358
CREATED:20241105T013428Z
LAST-MODIFIED:20241123T203427Z
UID:10003865-1732370400-1732377600@www.lasalle.edu
SUMMARY:Target shuttle
DESCRIPTION:LNL – Mac & Cheese Bar (Deepher Dude – Suggested)
URL:https://www.lasalle.edu/event/target-shuttle-2/
LOCATION:La Salle Off-Campus Event
CATEGORIES:Entertainment
END:VEVENT
BEGIN:VEVENT
DTSTART;TZID=America/New_York:20241122T114500
DTEND;TZID=America/New_York:20241122T134500
DTSTAMP:20260421T072358
CREATED:20241105T010116Z
LAST-MODIFIED:20241122T173827Z
UID:10003862-1732275900-1732283100@www.lasalle.edu
SUMMARY:Pheed Philly
DESCRIPTION:Pheed Philly
URL:https://www.lasalle.edu/event/pheed-philly-24/
LOCATION:La Salle Off-Campus Event
CATEGORIES:Service
END:VEVENT
BEGIN:VEVENT
DTSTART;TZID=America/New_York:20241118T190000
DTEND;TZID=America/New_York:20241118T220000
DTSTAMP:20260421T072358
CREATED:20241114T183843Z
LAST-MODIFIED:20241119T013704Z
UID:10003903-1731956400-1731967200@www.lasalle.edu
SUMMARY:Flyer's Game
DESCRIPTION:Flyer’s Game
URL:https://www.lasalle.edu/event/flyers-game/
LOCATION:La Salle Off-Campus Event
CATEGORIES:Entertainment
END:VEVENT
BEGIN:VEVENT
DTSTART;TZID=America/New_York:20241118T114500
DTEND;TZID=America/New_York:20241118T134500
DTSTAMP:20260421T072358
CREATED:20241104T093725Z
LAST-MODIFIED:20241118T183839Z
UID:10003840-1731930300-1731937500@www.lasalle.edu
SUMMARY:Pheed Philly
DESCRIPTION:Pheed Philly
URL:https://www.lasalle.edu/event/pheed-philly-23/
LOCATION:La Salle Off-Campus Event
CATEGORIES:Service
END:VEVENT
BEGIN:VEVENT
DTSTART;TZID=America/New_York:20241116T140000
DTEND;TZID=America/New_York:20241116T160000
DTSTAMP:20260421T072358
CREATED:20241104T093552Z
LAST-MODIFIED:20241116T203747Z
UID:10003835-1731765600-1731772800@www.lasalle.edu
SUMMARY:Bus trip target shuttle
DESCRIPTION:Bus trip target shuttle
URL:https://www.lasalle.edu/event/bus-trip-target-shuttle-8/
LOCATION:La Salle Off-Campus Event
CATEGORIES:Entertainment
END:VEVENT
BEGIN:VEVENT
DTSTART;TZID=America/New_York:20241116T074500
DTEND;TZID=America/New_York:20241116T110000
DTSTAMP:20260421T072358
CREATED:20241115T163731Z
LAST-MODIFIED:20241116T143551Z
UID:10003906-1731743100-1731754800@www.lasalle.edu
SUMMARY:Walk to defeat ALS
DESCRIPTION:Walk to defeat ALS
URL:https://www.lasalle.edu/event/walk-to-defeat-als/
LOCATION:La Salle Off-Campus Event
CATEGORIES:Service
END:VEVENT
BEGIN:VEVENT
DTSTART;TZID=America/New_York:20241115T114500
DTEND;TZID=America/New_York:20241115T134500
DTSTAMP:20260421T072358
CREATED:20241104T093550Z
LAST-MODIFIED:20241115T174038Z
UID:10003832-1731671100-1731678300@www.lasalle.edu
SUMMARY:Pheed Philly
DESCRIPTION:Pheed Philly
URL:https://www.lasalle.edu/event/pheed-philly-22/
LOCATION:La Salle Off-Campus Event
CATEGORIES:Service
END:VEVENT
BEGIN:VEVENT
DTSTART;TZID=America/New_York:20241111T114500
DTEND;TZID=America/New_York:20241111T134500
DTSTAMP:20260421T072358
CREATED:20241104T064939Z
LAST-MODIFIED:20241111T183534Z
UID:10003806-1731325500-1731332700@www.lasalle.edu
SUMMARY:Pheed Philly
DESCRIPTION:Pheed Philly
URL:https://www.lasalle.edu/event/pheed-philly-21/
LOCATION:La Salle Off-Campus Event
CATEGORIES:Service
END:VEVENT
BEGIN:VEVENT
DTSTART;TZID=America/New_York:20241108T114500
DTEND;TZID=America/New_York:20241108T134500
DTSTAMP:20260421T072358
CREATED:20241104T054634Z
LAST-MODIFIED:20241108T183514Z
UID:10003782-1731066300-1731073500@www.lasalle.edu
SUMMARY:Pheed Philly
DESCRIPTION:Pheed Philly
URL:https://www.lasalle.edu/event/pheed-philly-20/
LOCATION:La Salle Off-Campus Event
CATEGORIES:Service
END:VEVENT
BEGIN:VEVENT
DTSTART;TZID=America/New_York:20241104T114500
DTEND;TZID=America/New_York:20241104T134500
DTSTAMP:20260421T072358
CREATED:20241101T024619Z
LAST-MODIFIED:20241104T183757Z
UID:10003745-1730720700-1730727900@www.lasalle.edu
SUMMARY:Pheed Philly
DESCRIPTION:Pheed Philly
URL:https://www.lasalle.edu/event/pheed-philly-19/
LOCATION:La Salle Off-Campus Event
CATEGORIES:Service
END:VEVENT
BEGIN:VEVENT
DTSTART;TZID=America/New_York:20241102T140000
DTEND;TZID=America/New_York:20241102T160000
DTSTAMP:20260421T072358
CREATED:20241031T194624Z
LAST-MODIFIED:20241102T193511Z
UID:10003740-1730556000-1730563200@www.lasalle.edu
SUMMARY:Target shuttle
DESCRIPTION:Target shuttle
URL:https://www.lasalle.edu/event/target-shuttle/
LOCATION:La Salle Off-Campus Event
CATEGORIES:Entertainment
END:VEVENT
BEGIN:VEVENT
DTSTART;TZID=America/New_York:20241101T114500
DTEND;TZID=America/New_York:20241101T134500
DTSTAMP:20260421T072358
CREATED:20241031T164509Z
LAST-MODIFIED:20241101T173857Z
UID:10003735-1730461500-1730468700@www.lasalle.edu
SUMMARY:Pheed Philly
DESCRIPTION:Pheed Philly
URL:https://www.lasalle.edu/event/pheed-philly-18/
LOCATION:La Salle Off-Campus Event
CATEGORIES:Service
END:VEVENT
BEGIN:VEVENT
DTSTART;TZID=America/New_York:20241030T100000
DTEND;TZID=America/New_York:20241030T120000
DTSTAMP:20260421T072358
CREATED:20241029T004404Z
LAST-MODIFIED:20241030T155309Z
UID:10003716-1730282400-1730289600@www.lasalle.edu
SUMMARY:Greater Goods
DESCRIPTION:Greater Goods
URL:https://www.lasalle.edu/event/greater-goods-3/
LOCATION:La Salle Off-Campus Event
CATEGORIES:Service
END:VEVENT
BEGIN:VEVENT
DTSTART;TZID=America/New_York:20241029T170000
DTEND;TZID=America/New_York:20241029T220000
DTSTAMP:20260421T072358
CREATED:20241027T033450Z
LAST-MODIFIED:20241030T013803Z
UID:10003711-1730221200-1730239200@www.lasalle.edu
SUMMARY:Bus trip: Eastern State Penitentiary
DESCRIPTION:Bus trip: Eastern State Penitentiary
URL:https://www.lasalle.edu/event/bus-trip-eastern-state-penitentiary/
LOCATION:La Salle Off-Campus Event
CATEGORIES:Entertainment
END:VEVENT
BEGIN:VEVENT
DTSTART;TZID=America/New_York:20241028T114500
DTEND;TZID=America/New_York:20241028T134500
DTSTAMP:20260421T072358
CREATED:20241026T034601Z
LAST-MODIFIED:20241028T165050Z
UID:10003698-1730115900-1730123100@www.lasalle.edu
SUMMARY:Pheed Philly
DESCRIPTION:Pheed Philly
URL:https://www.lasalle.edu/event/pheed-philly-17/
LOCATION:La Salle Off-Campus Event
CATEGORIES:Service
END:VEVENT
BEGIN:VEVENT
DTSTART;TZID=America/New_York:20241026T140000
DTEND;TZID=America/New_York:20241026T163000
DTSTAMP:20260421T072358
CREATED:20241025T004820Z
LAST-MODIFIED:20241026T193834Z
UID:10003685-1729951200-1729960200@www.lasalle.edu
SUMMARY:Bus trip Target Shuttle
DESCRIPTION:Bus trip Target Shuttle
URL:https://www.lasalle.edu/event/bus-trip-target-shuttle-7/
LOCATION:La Salle Off-Campus Event
CATEGORIES:Entertainment
END:VEVENT
BEGIN:VEVENT
DTSTART;TZID=America/New_York:20241025T140000
DTEND;TZID=America/New_York:20241025T160000
DTSTAMP:20260421T072358
CREATED:20241024T184100Z
LAST-MODIFIED:20241025T194818Z
UID:10003678-1729864800-1729872000@www.lasalle.edu
SUMMARY:Bus trip target shuttle
DESCRIPTION:Bus trip target shuttle
URL:https://www.lasalle.edu/event/bus-trip-target-shuttle-6/
LOCATION:La Salle Off-Campus Event
CATEGORIES:Entertainment
END:VEVENT
BEGIN:VEVENT
DTSTART;TZID=America/New_York:20241025T114500
DTEND;TZID=America/New_York:20241025T134500
DTSTAMP:20260421T072358
CREATED:20241024T184058Z
LAST-MODIFIED:20241025T174706Z
UID:10003675-1729856700-1729863900@www.lasalle.edu
SUMMARY:Pheed Philly
DESCRIPTION:Pheed Philly
URL:https://www.lasalle.edu/event/pheed-philly-16/
LOCATION:La Salle Off-Campus Event
CATEGORIES:Service
END:VEVENT
BEGIN:VEVENT
DTSTART;TZID=America/New_York:20241024T200000
DTEND;TZID=America/New_York:20241024T220000
DTSTAMP:20260421T072358
CREATED:20241024T183908Z
LAST-MODIFIED:20241025T014547Z
UID:10003671-1729800000-1729807200@www.lasalle.edu
SUMMARY:Deke's SNAP fundraiser
DESCRIPTION:Deke’s SNAP fundraiser
URL:https://www.lasalle.edu/event/dekes-snap-fundraiser/
LOCATION:La Salle Off-Campus Event
CATEGORIES:Fundraiser
END:VEVENT
END:VCALENDAR