BEGIN:VCALENDAR
VERSION:2.0
PRODID:-//La Salle University - ECPv6.15.20//NONSGML v1.0//EN
CALSCALE:GREGORIAN
METHOD:PUBLISH
X-WR-CALNAME:La Salle University
X-ORIGINAL-URL:https://www.lasalle.edu
X-WR-CALDESC:Events for La Salle University
REFRESH-INTERVAL;VALUE=DURATION:PT1H
X-Robots-Tag:noindex
X-PUBLISHED-TTL:PT1H
BEGIN:VTIMEZONE
TZID:America/New_York
BEGIN:DAYLIGHT
TZOFFSETFROM:-0500
TZOFFSETTO:-0400
TZNAME:EDT
DTSTART:20230312T070000
END:DAYLIGHT
BEGIN:STANDARD
TZOFFSETFROM:-0400
TZOFFSETTO:-0500
TZNAME:EST
DTSTART:20231105T060000
END:STANDARD
BEGIN:DAYLIGHT
TZOFFSETFROM:-0500
TZOFFSETTO:-0400
TZNAME:EDT
DTSTART:20240310T070000
END:DAYLIGHT
BEGIN:STANDARD
TZOFFSETFROM:-0400
TZOFFSETTO:-0500
TZNAME:EST
DTSTART:20241103T060000
END:STANDARD
BEGIN:DAYLIGHT
TZOFFSETFROM:-0500
TZOFFSETTO:-0400
TZNAME:EDT
DTSTART:20250309T070000
END:DAYLIGHT
BEGIN:STANDARD
TZOFFSETFROM:-0400
TZOFFSETTO:-0500
TZNAME:EST
DTSTART:20251102T060000
END:STANDARD
END:VTIMEZONE
BEGIN:VEVENT
DTSTART;TZID=America/New_York:20241014T163000
DTEND;TZID=America/New_York:20241014T190000
DTSTAMP:20260421T123954
CREATED:20241010T204750Z
LAST-MODIFIED:20241014T223702Z
UID:10003551-1728923400-1728932400@www.lasalle.edu
SUMMARY:Trinity Lutheran Church
DESCRIPTION:Trinity Lutheran Church
URL:https://www.lasalle.edu/event/trinity-lutheran-church/
LOCATION:La Salle Off-Campus Event
CATEGORIES:Religious
END:VEVENT
BEGIN:VEVENT
DTSTART;TZID=America/New_York:20241014T130000
DTEND;TZID=America/New_York:20241014T150000
DTSTAMP:20260421T123954
CREATED:20241010T204749Z
LAST-MODIFIED:20241014T184322Z
UID:10003550-1728910800-1728918000@www.lasalle.edu
SUMMARY:Our Closet Service
DESCRIPTION:Our Closet Service
URL:https://www.lasalle.edu/event/our-closet-service/
LOCATION:La Salle Off-Campus Event
CATEGORIES:Service
END:VEVENT
BEGIN:VEVENT
DTSTART;TZID=America/New_York:20241014T100000
DTEND;TZID=America/New_York:20241014T120000
DTSTAMP:20260421T123954
CREATED:20241010T204748Z
LAST-MODIFIED:20241014T155208Z
UID:10003549-1728900000-1728907200@www.lasalle.edu
SUMMARY:Mt. Zion Baptist Church
DESCRIPTION:Mt. Zion Baptist Church
URL:https://www.lasalle.edu/event/mt-zion-baptist-church/
LOCATION:La Salle Off-Campus Event
CATEGORIES:Religious
END:VEVENT
BEGIN:VEVENT
DTSTART;TZID=America/New_York:20241013T140000
DTEND;TZID=America/New_York:20241013T160000
DTSTAMP:20260421T123954
CREATED:20241010T184247Z
LAST-MODIFIED:20241013T193612Z
UID:10003548-1728828000-1728835200@www.lasalle.edu
SUMMARY:Upper Darby Gurdwara
DESCRIPTION:Upper Darby Gurdwara
URL:https://www.lasalle.edu/event/upper-darby-gurdwara/
LOCATION:La Salle Off-Campus Event
CATEGORIES:Religious
END:VEVENT
BEGIN:VEVENT
DTSTART;TZID=America/New_York:20241013T100000
DTEND;TZID=America/New_York:20241013T123000
DTSTAMP:20260421T123954
CREATED:20241010T184247Z
LAST-MODIFIED:20241013T153612Z
UID:10003547-1728813600-1728822600@www.lasalle.edu
SUMMARY:chenrezig Tibetan Buddhist Center
DESCRIPTION:chenrezig Tibetan Buddhist Center
URL:https://www.lasalle.edu/event/chenrezig-tibetan-buddhist-center/
LOCATION:La Salle Off-Campus Event
CATEGORIES:Religious
END:VEVENT
BEGIN:VEVENT
DTSTART;TZID=America/New_York:20241012T130000
DTEND;TZID=America/New_York:20241012T150000
DTSTAMP:20260421T123954
CREATED:20241010T184246Z
LAST-MODIFIED:20241012T183559Z
UID:10003546-1728738000-1728745200@www.lasalle.edu
SUMMARY:Cradles to crayons Clothing Distribution
DESCRIPTION:Cradles to crayons Clothing Distribution
URL:https://www.lasalle.edu/event/cradles-to-crayons-clothing-distribution/
LOCATION:La Salle Off-Campus Event
CATEGORIES:Service
END:VEVENT
BEGIN:VEVENT
DTSTART;TZID=America/New_York:20241011T140000
DTEND;TZID=America/New_York:20241011T160000
DTSTAMP:20260421T123954
CREATED:20241010T184245Z
LAST-MODIFIED:20241011T193900Z
UID:10003544-1728655200-1728662400@www.lasalle.edu
SUMMARY:Glencairn cathedral tour
DESCRIPTION:Glencairn cathedral tour
URL:https://www.lasalle.edu/event/glencairn-cathedral-tour/
LOCATION:La Salle Off-Campus Event
CATEGORIES:Religious
END:VEVENT
BEGIN:VEVENT
DTSTART;TZID=America/New_York:20241011T114500
DTEND;TZID=America/New_York:20241011T134500
DTSTAMP:20260421T123954
CREATED:20241006T004551Z
LAST-MODIFIED:20241011T173959Z
UID:10003528-1728647100-1728654300@www.lasalle.edu
SUMMARY:Pheed Philly
DESCRIPTION:Pheed Philly
URL:https://www.lasalle.edu/event/pheed-philly-13/
LOCATION:La Salle Off-Campus Event
CATEGORIES:Service
END:VEVENT
BEGIN:VEVENT
DTSTART;TZID=America/New_York:20241011T090000
DTEND;TZID=America/New_York:20241011T114500
DTSTAMP:20260421T123954
CREATED:20241010T144136Z
LAST-MODIFIED:20241011T153842Z
UID:10003541-1728637200-1728647100@www.lasalle.edu
SUMMARY:Share foods warehouse packaging
DESCRIPTION:Share foods warehouse packaging
URL:https://www.lasalle.edu/event/share-foods-warehouse-packaging/
LOCATION:La Salle Off-Campus Event
CATEGORIES:Service
END:VEVENT
BEGIN:VEVENT
DTSTART;TZID=America/New_York:20241009T100000
DTEND;TZID=America/New_York:20241009T120000
DTSTAMP:20260421T123954
CREATED:20241004T164721Z
LAST-MODIFIED:20241009T153856Z
UID:10003524-1728468000-1728475200@www.lasalle.edu
SUMMARY:Greater good
DESCRIPTION:Greater good
URL:https://www.lasalle.edu/event/greater-good/
LOCATION:La Salle Off-Campus Event
CATEGORIES:Service
END:VEVENT
BEGIN:VEVENT
DTSTART;TZID=America/New_York:20241007T114500
DTEND;TZID=America/New_York:20241007T134500
DTSTAMP:20260421T123954
CREATED:20241004T155214Z
LAST-MODIFIED:20241007T173558Z
UID:10003521-1728301500-1728308700@www.lasalle.edu
SUMMARY:Pheed Philly
DESCRIPTION:Pheed Philly
URL:https://www.lasalle.edu/event/pheed-philly-12/
LOCATION:La Salle Off-Campus Event
CATEGORIES:Service
END:VEVENT
BEGIN:VEVENT
DTSTART;TZID=America/New_York:20241006T090000
DTEND;TZID=America/New_York:20241006T140000
DTSTAMP:20260421T123954
CREATED:20241001T224641Z
LAST-MODIFIED:20241006T174735Z
UID:10003498-1728205200-1728223200@www.lasalle.edu
SUMMARY:Bus trip Linvilla Orchard
DESCRIPTION:Bus trip Linvilla Orchard
URL:https://www.lasalle.edu/event/bus-trip-linvilla-orchard/
LOCATION:La Salle Off-Campus Event
CATEGORIES:Entertainment
END:VEVENT
BEGIN:VEVENT
DTSTART;TZID=America/New_York:20241005T140000
DTEND;TZID=America/New_York:20241005T160000
DTSTAMP:20260421T123954
CREATED:20241001T224640Z
LAST-MODIFIED:20241005T193712Z
UID:10003496-1728136800-1728144000@www.lasalle.edu
SUMMARY:Bus trip Target shuttle
DESCRIPTION:Bus trip Target shuttle
URL:https://www.lasalle.edu/event/bus-trip-target-shuttle-4/
LOCATION:La Salle Off-Campus Event
CATEGORIES:Entertainment
END:VEVENT
BEGIN:VEVENT
DTSTART;TZID=America/New_York:20241004T114500
DTEND;TZID=America/New_York:20241004T134500
DTSTAMP:20260421T123954
CREATED:20241004T144229Z
LAST-MODIFIED:20241004T173511Z
UID:10003519-1728042300-1728049500@www.lasalle.edu
SUMMARY:Pheed Philly
DESCRIPTION:Pheed Philly
URL:https://www.lasalle.edu/event/pheed-philly-11/
LOCATION:La Salle Off-Campus Event
CATEGORIES:Service
END:VEVENT
BEGIN:VEVENT
DTSTART;TZID=America/New_York:20240930T114500
DTEND;TZID=America/New_York:20240930T134500
DTSTAMP:20260421T123954
CREATED:20240928T174733Z
LAST-MODIFIED:20240930T174148Z
UID:10003467-1727696700-1727703900@www.lasalle.edu
SUMMARY:Pheed Philly
DESCRIPTION:Pheed Philly
URL:https://www.lasalle.edu/event/pheed-philly-10/
LOCATION:La Salle Off-Campus Event
CATEGORIES:Service
END:VEVENT
BEGIN:VEVENT
DTSTART;TZID=America/New_York:20240928T190000
DTEND;TZID=America/New_York:20240928T220000
DTSTAMP:20260421T123954
CREATED:20240926T123119Z
LAST-MODIFIED:20240929T014747Z
UID:10003461-1727550000-1727560800@www.lasalle.edu
SUMMARY:Timeslot Option 3/Evening Activity Option 1: Spirit of Philadelphia Dinner Cruise
DESCRIPTION:Timeslot Option 3/Evening Activity Option 1: Spirit of Philadelphia Dinner Cruise
URL:https://www.lasalle.edu/event/timeslot-option-3-evening-activity-option-1-spirit-of-philadelphia-dinner-cruise/
LOCATION:La Salle Off-Campus Event
CATEGORIES:Dinning
END:VEVENT
BEGIN:VEVENT
DTSTART;TZID=America/New_York:20240928T140000
DTEND;TZID=America/New_York:20240928T170000
DTSTAMP:20260421T123954
CREATED:20240926T123118Z
LAST-MODIFIED:20240928T203948Z
UID:10003458-1727532000-1727542800@www.lasalle.edu
SUMMARY:City as a classroom tours
DESCRIPTION:City as a classroom tours
URL:https://www.lasalle.edu/event/city-as-a-classroom-tours/
LOCATION:La Salle Off-Campus Event
CATEGORIES:University Celebrations
END:VEVENT
BEGIN:VEVENT
DTSTART;TZID=America/New_York:20240927T234500
DTEND;TZID=America/New_York:20240928T134500
DTSTAMP:20260421T123954
CREATED:20240926T115530Z
LAST-MODIFIED:20240928T034720Z
UID:10003454-1727480700-1727531100@www.lasalle.edu
SUMMARY:Pheed Philly
DESCRIPTION:Pheed Philly
URL:https://www.lasalle.edu/event/pheed-philly-9/
LOCATION:La Salle Off-Campus Event
CATEGORIES:Service
END:VEVENT
BEGIN:VEVENT
DTSTART;TZID=America/New_York:20240924T150000
DTEND;TZID=America/New_York:20240924T160000
DTSTAMP:20260421T123954
CREATED:20240922T233141Z
LAST-MODIFIED:20240924T194709Z
UID:10003430-1727190000-1727193600@www.lasalle.edu
SUMMARY:Latina in Nursing Book Club ANA
DESCRIPTION:Latina in Nursing Book Club ANA
URL:https://www.lasalle.edu/event/latina-in-nursing-book-club-ana/
LOCATION:La Salle Off-Campus Event
CATEGORIES:Entertainment
END:VEVENT
BEGIN:VEVENT
DTSTART;TZID=America/New_York:20240923T113000
DTEND;TZID=America/New_York:20240923T133000
DTSTAMP:20260421T123954
CREATED:20240919T223905Z
LAST-MODIFIED:20240923T164817Z
UID:10003417-1727091000-1727098200@www.lasalle.edu
SUMMARY:Pheed Philly
DESCRIPTION:Pheed Philly
URL:https://www.lasalle.edu/event/pheed-philly-8/
LOCATION:La Salle Off-Campus Event
CATEGORIES:Service
END:VEVENT
BEGIN:VEVENT
DTSTART;TZID=America/New_York:20240922T090000
DTEND;TZID=America/New_York:20240922T140000
DTSTAMP:20260421T123954
CREATED:20240919T184130Z
LAST-MODIFIED:20240922T173840Z
UID:10003413-1726995600-1727013600@www.lasalle.edu
SUMMARY:Bus trip King of Prussia
DESCRIPTION:Bus trip King of Prussia
URL:https://www.lasalle.edu/event/bus-trip-king-of-prussia/
LOCATION:La Salle Off-Campus Event
CATEGORIES:Entertainment
END:VEVENT
BEGIN:VEVENT
DTSTART;TZID=America/New_York:20240920T113000
DTEND;TZID=America/New_York:20240920T133000
DTSTAMP:20260421T123954
CREATED:20240919T163711Z
LAST-MODIFIED:20240920T163947Z
UID:10003412-1726831800-1726839000@www.lasalle.edu
SUMMARY:Pheed Philly
DESCRIPTION:Pheed Philly
URL:https://www.lasalle.edu/event/pheed-philly-7/
LOCATION:La Salle Off-Campus Event
CATEGORIES:Service
END:VEVENT
BEGIN:VEVENT
DTSTART;TZID=America/New_York:20240919T140000
DTEND;TZID=America/New_York:20240919T163000
DTSTAMP:20260421T123954
CREATED:20240919T130231Z
LAST-MODIFIED:20240919T194757Z
UID:10003410-1726754400-1726763400@www.lasalle.edu
SUMMARY:AIDS Outreach
DESCRIPTION:AIDS Outreach
URL:https://www.lasalle.edu/event/aids-outreach/
LOCATION:La Salle Off-Campus Event
CATEGORIES:Service
END:VEVENT
BEGIN:VEVENT
DTSTART;TZID=America/New_York:20240914T140000
DTEND;TZID=America/New_York:20240914T160000
DTSTAMP:20260421T123954
CREATED:20240912T183949Z
LAST-MODIFIED:20240914T193641Z
UID:10003370-1726322400-1726329600@www.lasalle.edu
SUMMARY:Bus trip Target shuttle
DESCRIPTION:Bus trip Target shuttle
URL:https://www.lasalle.edu/event/bus-trip-target-shuttle-3/
LOCATION:La Salle Off-Campus Event
CATEGORIES:Entertainment
END:VEVENT
BEGIN:VEVENT
DTSTART;TZID=America/New_York:20240913T114500
DTEND;TZID=America/New_York:20240913T134500
DTSTAMP:20260421T123954
CREATED:20240911T124122Z
LAST-MODIFIED:20240913T164717Z
UID:10003362-1726227900-1726235100@www.lasalle.edu
SUMMARY:Pheed Philly
DESCRIPTION:2 service hours
URL:https://www.lasalle.edu/event/pheed-philly-6/
LOCATION:La Salle Off-Campus Event
CATEGORIES:Service
END:VEVENT
BEGIN:VEVENT
DTSTART;TZID=America/New_York:20240909T114500
DTEND;TZID=America/New_York:20240909T143000
DTSTAMP:20260421T123954
CREATED:20240905T185010Z
LAST-MODIFIED:20240909T173825Z
UID:10003324-1725882300-1725892200@www.lasalle.edu
SUMMARY:Pheed Philly
DESCRIPTION:Pheed Philly
URL:https://www.lasalle.edu/event/pheed-philly-5/
LOCATION:La Salle Off-Campus Event
CATEGORIES:Service
END:VEVENT
BEGIN:VEVENT
DTSTART;TZID=America/New_York:20240907T140000
DTEND;TZID=America/New_York:20240907T160000
DTSTAMP:20260421T123954
CREATED:20240905T024514Z
LAST-MODIFIED:20240907T194617Z
UID:10003319-1725717600-1725724800@www.lasalle.edu
SUMMARY:Bus trip Target
DESCRIPTION:Bus trip target
URL:https://www.lasalle.edu/event/bus-trip-target-2/
LOCATION:La Salle Off-Campus Event
CATEGORIES:Entertainment
END:VEVENT
BEGIN:VEVENT
DTSTART;TZID=America/New_York:20240907T090000
DTEND;TZID=America/New_York:20240907T140000
DTSTAMP:20260421T123954
CREATED:20240905T024513Z
LAST-MODIFIED:20240907T180424Z
UID:10003318-1725699600-1725717600@www.lasalle.edu
SUMMARY:Bus trip Italian market
DESCRIPTION:Bus trip Italian market
URL:https://www.lasalle.edu/event/bus-trip-italian-market-2/
LOCATION:La Salle Off-Campus Event
CATEGORIES:Entertainment
END:VEVENT
BEGIN:VEVENT
DTSTART;TZID=America/New_York:20240901T090000
DTEND;TZID=America/New_York:20240901T140000
DTSTAMP:20260421T123954
CREATED:20240826T163726Z
LAST-MODIFIED:20240901T174702Z
UID:10003293-1725181200-1725199200@www.lasalle.edu
SUMMARY:Bus Trip Penn's Landing
DESCRIPTION:Bus Trip Penn’s Landing
URL:https://www.lasalle.edu/event/bus-trip-penns-landing/
LOCATION:La Salle Off-Campus Event
CATEGORIES:Entertainment
END:VEVENT
BEGIN:VEVENT
DTSTART;TZID=America/New_York:20240831T140000
DTEND;TZID=America/New_York:20240831T160000
DTSTAMP:20260421T123954
CREATED:20240717T123535Z
LAST-MODIFIED:20240831T193759Z
UID:10002985-1725112800-1725120000@www.lasalle.edu
SUMMARY:Bus trip Target shuttle
DESCRIPTION:Bus trip Target shuttle
URL:https://www.lasalle.edu/event/bus-trip-target-shuttle/
LOCATION:La Salle Off-Campus Event
CATEGORIES:Entertainment
END:VEVENT
END:VCALENDAR