BEGIN:VCALENDAR
VERSION:2.0
PRODID:-//La Salle University - ECPv6.15.20//NONSGML v1.0//EN
CALSCALE:GREGORIAN
METHOD:PUBLISH
X-ORIGINAL-URL:https://www.lasalle.edu
X-WR-CALDESC:Events for La Salle University
REFRESH-INTERVAL;VALUE=DURATION:PT1H
X-Robots-Tag:noindex
X-PUBLISHED-TTL:PT1H
BEGIN:VTIMEZONE
TZID:America/New_York
BEGIN:DAYLIGHT
TZOFFSETFROM:-0500
TZOFFSETTO:-0400
TZNAME:EDT
DTSTART:20230312T070000
END:DAYLIGHT
BEGIN:STANDARD
TZOFFSETFROM:-0400
TZOFFSETTO:-0500
TZNAME:EST
DTSTART:20231105T060000
END:STANDARD
BEGIN:DAYLIGHT
TZOFFSETFROM:-0500
TZOFFSETTO:-0400
TZNAME:EDT
DTSTART:20240310T070000
END:DAYLIGHT
BEGIN:STANDARD
TZOFFSETFROM:-0400
TZOFFSETTO:-0500
TZNAME:EST
DTSTART:20241103T060000
END:STANDARD
BEGIN:DAYLIGHT
TZOFFSETFROM:-0500
TZOFFSETTO:-0400
TZNAME:EDT
DTSTART:20250309T070000
END:DAYLIGHT
BEGIN:STANDARD
TZOFFSETFROM:-0400
TZOFFSETTO:-0500
TZNAME:EST
DTSTART:20251102T060000
END:STANDARD
END:VTIMEZONE
BEGIN:VEVENT
DTSTART;TZID=America/New_York:20240426T134000
DTEND;TZID=America/New_York:20240426T154000
DTSTAMP:20260421T193218
CREATED:20240425T224244Z
LAST-MODIFIED:20240426T193944Z
UID:10002885-1714138800-1714146000@www.lasalle.edu
SUMMARY:Pheed Philly Volunteering
DESCRIPTION:Pheed Philadelphia is a student-led organization that focuses on hunger and food insecurity at La Salle through direct service\, education\, and advocacy. Students work in the kitchen prepping meals\, washing dishes\, and other tasks.   Please bring a *face mask* It is mandatory. Transportation is provided! Meet in front of Tom Gola Arena (Trumark) .If you have any questions\, contact pheedphiladelphia@gmail.com or one of the coordinators Itzel DeLeon (deleoni1@lasalle.edu)
URL:https://www.lasalle.edu/event/pheed-philly-volunteering-16/
LOCATION:La Salle Off-Campus Event
CATEGORIES:Service
END:VEVENT
BEGIN:VEVENT
DTSTART;TZID=America/New_York:20240422T134000
DTEND;TZID=America/New_York:20240422T154000
DTSTAMP:20260421T193218
CREATED:20240419T093621Z
LAST-MODIFIED:20240422T193908Z
UID:10002856-1713793200-1713800400@www.lasalle.edu
SUMMARY:Pheed Philly Volunteering
DESCRIPTION:Pheed Philadelphia is a student-led organization that focuses on hunger and food insecurity at La Salle through direct service\, education\, and advocacy. Students work in the kitchen prepping meals\, washing dishes\, and other tasks.   Please bring a *face mask* It is mandatory. Transportation is provided! Meet in front of Tom Gola Arena (Trumark) .If you have any questions\, contact pheedphiladelphia@gmail.com or one of the coordinators Itzel DeLeon (deleoni1@lasalle.edu)
URL:https://www.lasalle.edu/event/pheed-philly-volunteering-15/
LOCATION:La Salle Off-Campus Event
CATEGORIES:Service
END:VEVENT
BEGIN:VEVENT
DTSTART;TZID=America/New_York:20240421T100000
DTEND;TZID=America/New_York:20240421T150000
DTSTAMP:20260421T193218
CREATED:20240419T024843Z
LAST-MODIFIED:20240421T183752Z
UID:10002854-1713693600-1713711600@www.lasalle.edu
SUMMARY:Bus Trip - Linvilla Orchard & Farm
DESCRIPTION:Bus Trip to Linvilla Orchard & Farm
URL:https://www.lasalle.edu/event/bus-trip-linvilla-orchard-farm/
LOCATION:La Salle Off-Campus Event
CATEGORIES:Entertainment
END:VEVENT
BEGIN:VEVENT
DTSTART;TZID=America/New_York:20240419T134000
DTEND;TZID=America/New_York:20240419T154000
DTSTAMP:20260421T193218
CREATED:20240418T185138Z
LAST-MODIFIED:20240419T193832Z
UID:10002846-1713534000-1713541200@www.lasalle.edu
SUMMARY:Pheed Philly Volunteering
DESCRIPTION:Pheed Philadelphia is a student-led organization that focuses on hunger and food insecurity at La Salle through direct service\, education\, and advocacy. Students work in the kitchen prepping meals\, washing dishes\, and other tasks.   Please bring a *face mask* It is mandatory. Transportation is provided! Meet in front of Tom Gola Arena (Trumark) .If you have any questions\, contact pheedphiladelphia@gmail.com or one of the coordinators Itzel DeLeon (deleoni1@lasalle.edu)
URL:https://www.lasalle.edu/event/pheed-philly-volunteering-14/
LOCATION:La Salle Off-Campus Event
CATEGORIES:Service
END:VEVENT
BEGIN:VEVENT
DTSTART;TZID=America/New_York:20240415T133000
DTEND;TZID=America/New_York:20240415T154000
DTSTAMP:20260421T193218
CREATED:20240411T224517Z
LAST-MODIFIED:20240415T193747Z
UID:10002812-1713187800-1713195600@www.lasalle.edu
SUMMARY:Pheed Philly Volunteering
DESCRIPTION:Pheed Philadelphia is a student-led organization that focuses on hunger and food insecurity at La Salle through direct service\, education\, and advocacy. Students work in the kitchen prepping meals\, washing dishes\, and other tasks.   Please bring a *face mask* It is mandatory. Transportation is provided! Meet in front of Tom Gola Arena (Trumark) .If you have any questions\, contact pheedphiladelphia@gmail.com or one of the coordinators Itzel DeLeon (deleoni1@lasalle.edu)
URL:https://www.lasalle.edu/event/pheed-philly-volunteering-13/
LOCATION:La Salle Off-Campus Event
CATEGORIES:Service
END:VEVENT
BEGIN:VEVENT
DTSTART;TZID=America/New_York:20240413T140000
DTEND;TZID=America/New_York:20240413T160000
DTSTAMP:20260421T193218
CREATED:20240410T014611Z
LAST-MODIFIED:20240412T203934Z
UID:10002806-1713016800-1713024000@www.lasalle.edu
SUMMARY:La Salle Choir Concert
DESCRIPTION:I’m excited to share with you that our LaSalle Choir Concert is scheduled for Sat April 13 at 2pm at the Basilica Shrine of the Miraculous Medal. I hope that this event can be a celebration for our community and bring many of the students and staff together for something beautiful.
URL:https://www.lasalle.edu/event/la-salle-choir-concert/
LOCATION:La Salle Off-Campus Event
CATEGORIES:Religious
END:VEVENT
BEGIN:VEVENT
DTSTART;TZID=America/New_York:20240412T110000
DTEND;TZID=America/New_York:20240412T150000
DTSTAMP:20260421T193218
CREATED:20240409T215045Z
LAST-MODIFIED:20240412T183655Z
UID:10002803-1712919600-1712934000@www.lasalle.edu
SUMMARY:Bus Trip - Italian Market
DESCRIPTION:Bus Trip to the Italian Market!
URL:https://www.lasalle.edu/event/bus-trip-italian-market/
LOCATION:La Salle Off-Campus Event
CATEGORIES:Entertainment
END:VEVENT
BEGIN:VEVENT
DTSTART;TZID=America/New_York:20240408T134000
DTEND;TZID=America/New_York:20240408T154000
DTSTAMP:20260421T193218
CREATED:20240404T184757Z
LAST-MODIFIED:20240408T193947Z
UID:10002785-1712583600-1712590800@www.lasalle.edu
SUMMARY:Pheed Philly Volunteering
DESCRIPTION:Pheed Philadelphia is a student-led organization that focuses on hunger and food insecurity at La Salle through direct service\, education\, and advocacy. Students work in the kitchen prepping meals\, washing dishes\, and other tasks.   Please bring a *face mask* It is mandatory. Transportation is provided! Meet in front of Tom Gola Arena (Trumark) .If you have any questions\, contact pheedphiladelphia@gmail.com or one of the coordinators Itzel DeLeon (deleoni1@lasalle.edu)
URL:https://www.lasalle.edu/event/pheed-philly-volunteering-11/
LOCATION:La Salle Off-Campus Event
CATEGORIES:Service
END:VEVENT
BEGIN:VEVENT
DTSTART;TZID=America/New_York:20240406T110000
DTEND;TZID=America/New_York:20240406T163000
DTSTAMP:20260421T193218
CREATED:20240404T174733Z
LAST-MODIFIED:20240406T193827Z
UID:10002783-1712401200-1712421000@www.lasalle.edu
SUMMARY:Bus Trip - Philadelphia Zoo
DESCRIPTION:Bus Trip to the Philadelphia Zoo!
URL:https://www.lasalle.edu/event/bus-trip-philadelphia-zoo/
LOCATION:La Salle Off-Campus Event
CATEGORIES:Entertainment
END:VEVENT
BEGIN:VEVENT
DTSTART;TZID=America/New_York:20240405T134000
DTEND;TZID=America/New_York:20240405T154000
DTSTAMP:20260421T193218
CREATED:20240404T004857Z
LAST-MODIFIED:20240405T193919Z
UID:10002781-1712324400-1712331600@www.lasalle.edu
SUMMARY:Pheed Philly Volunteering
DESCRIPTION:Pheed Philadelphia is a student-led organization that focuses on hunger and food insecurity at La Salle through direct service\, education\, and advocacy. Students work in the kitchen prepping meals\, washing dishes\, and other tasks.   Please bring a *face mask* It is mandatory. Transportation is provided! Meet in front of Tom Gola Arena (Trumark) .If you have any questions\, contact pheedphiladelphia@gmail.com or one of the coordinators Itzel DeLeon (deleoni1@lasalle.edu)
URL:https://www.lasalle.edu/event/pheed-philly-volunteering-10/
LOCATION:La Salle Off-Campus Event
CATEGORIES:Service
END:VEVENT
BEGIN:VEVENT
DTSTART;TZID=America/New_York:20240401T134000
DTEND;TZID=America/New_York:20240401T154000
DTSTAMP:20260421T193218
CREATED:20240327T094117Z
LAST-MODIFIED:20240401T193650Z
UID:10002771-1711978800-1711986000@www.lasalle.edu
SUMMARY:Pheed Philly Volunteering
DESCRIPTION:Pheed Philadelphia is a student-led organization that focuses on hunger and food insecurity at La Salle through direct service\, education\, and advocacy. Students work in the kitchen prepping meals\, washing dishes\, and other tasks.   Please bring a *face mask* It is mandatory. Transportation is provided! Meet in front of Tom Gola Arena (Trumark) .If you have any questions\, contact pheedphiladelphia@gmail.com or one of the coordinators Itzel DeLeon (deleoni1@lasalle.edu)
URL:https://www.lasalle.edu/event/pheed-philly-volunteering-9/
LOCATION:La Salle Off-Campus Event
CATEGORIES:Service
END:VEVENT
BEGIN:VEVENT
DTSTART;TZID=America/New_York:20240329T134000
DTEND;TZID=America/New_York:20240329T154000
DTSTAMP:20260421T193218
CREATED:20240327T094115Z
LAST-MODIFIED:20240329T193735Z
UID:10002770-1711719600-1711726800@www.lasalle.edu
SUMMARY:Pheed Philly Volunteering
DESCRIPTION:Pheed Philadelphia is a student-led organization that focuses on hunger and food insecurity at La Salle through direct service\, education\, and advocacy. Students work in the kitchen prepping meals\, washing dishes\, and other tasks.   Please bring a *face mask* It is mandatory. Transportation is provided! Meet in front of Tom Gola Arena (Trumark) .If you have any questions\, contact pheedphiladelphia@gmail.com or one of the coordinators Itzel DeLeon (deleoni1@lasalle.edu)
URL:https://www.lasalle.edu/event/pheed-philly-volunteering-8/
LOCATION:La Salle Off-Campus Event
CATEGORIES:Service
END:VEVENT
BEGIN:VEVENT
DTSTART;TZID=America/New_York:20240325T134000
DTEND;TZID=America/New_York:20240325T154000
DTSTAMP:20260421T193218
CREATED:20240321T234208Z
LAST-MODIFIED:20240325T193838Z
UID:10002761-1711374000-1711381200@www.lasalle.edu
SUMMARY:Pheed Philly Volunteering
DESCRIPTION:Pheed Philadelphia is a student-led organization that focuses on hunger and food insecurity at La Salle through direct service\, education\, and advocacy. Students work in the kitchen prepping meals\, washing dishes\, and other tasks.   Please bring a *face mask* It is mandatory. Transportation is provided! Meet in front of Tom Gola Arena (Trumark) .If you have any questions\, contact pheedphiladelphia@gmail.com or one of the coordinators Itzel DeLeon (deleoni1@lasalle.edu)
URL:https://www.lasalle.edu/event/pheed-philly-volunteering-7/
LOCATION:La Salle Off-Campus Event
CATEGORIES:Service
END:VEVENT
BEGIN:VEVENT
DTSTART;TZID=America/New_York:20240324T120000
DTEND;TZID=America/New_York:20240324T160000
DTSTAMP:20260421T193218
CREATED:20240310T084049Z
LAST-MODIFIED:20240324T193956Z
UID:10002728-1711281600-1711296000@www.lasalle.edu
SUMMARY:Bus Trip - Camden Aquarium
DESCRIPTION:Bus Trip to the Camden Aquarium!
URL:https://www.lasalle.edu/event/bus-trip-camden-aquarium/
LOCATION:La Salle Off-Campus Event
CATEGORIES:Entertainment
END:VEVENT
BEGIN:VEVENT
DTSTART;TZID=America/New_York:20240322T134000
DTEND;TZID=America/New_York:20240322T154000
DTSTAMP:20260421T193218
CREATED:20240310T083925Z
LAST-MODIFIED:20240322T193629Z
UID:10002726-1711114800-1711122000@www.lasalle.edu
SUMMARY:Pheed Philly Volunteering
DESCRIPTION:Earn 2 points/opportunities by attending this events.
URL:https://www.lasalle.edu/event/pheed-philly-volunteering-5/
LOCATION:La Salle Off-Campus Event
CATEGORIES:Service
END:VEVENT
BEGIN:VEVENT
DTSTART;TZID=America/New_York:20240318T134000
DTEND;TZID=America/New_York:20240318T154000
DTSTAMP:20260421T193218
CREATED:20240307T213518Z
LAST-MODIFIED:20240318T193442Z
UID:10002711-1710769200-1710776400@www.lasalle.edu
SUMMARY:Pheed Philly Volunteering
DESCRIPTION:Pheed Philly Volunteering\, meet in front of Trumark for free transportation.
URL:https://www.lasalle.edu/event/pheed-philly-volunteering-4/
LOCATION:La Salle Off-Campus Event
CATEGORIES:Leadership Development
END:VEVENT
BEGIN:VEVENT
DTSTART;TZID=America/New_York:20240315T134000
DTEND;TZID=America/New_York:20240315T154000
DTSTAMP:20260421T193218
CREATED:20240314T173646Z
LAST-MODIFIED:20240315T193735Z
UID:10002751-1710510000-1710517200@www.lasalle.edu
SUMMARY:Pheed Philly Volunteering
DESCRIPTION:Pheed Philadelphia is a student-led organization that focuses on hunger and food insecurity at La Salle through direct service\, education\, and advocacy. Students work in the kitchen prepping meals\, washing dishes\, and other tasks.   Please bring a *face mask* It is mandatory. Transportation is provided! Meet in front of Tom Gola Arena (Trumark) .If you have any questions\, contact pheedphiladelphia@gmail.com or one of the coordinators Itzel DeLeon (deleoni1@lasalle.edu)
URL:https://www.lasalle.edu/event/pheed-philly-volunteering-6/
LOCATION:La Salle Off-Campus Event
CATEGORIES:Service
END:VEVENT
BEGIN:VEVENT
DTSTART;TZID=America/New_York:20240304T173000
DTEND;TZID=America/New_York:20240304T223000
DTSTAMP:20260421T193218
CREATED:20240301T014658Z
LAST-MODIFIED:20240305T013600Z
UID:10002691-1709573400-1709591400@www.lasalle.edu
SUMMARY:Flyer's Night at the Wells Fargo Center
DESCRIPTION:Flyer’s Night at the Wells Fargo Center!
URL:https://www.lasalle.edu/event/flyers-night-at-the-wells-fargo-center/
LOCATION:La Salle Off-Campus Event
CATEGORIES:Entertainment
END:VEVENT
BEGIN:VEVENT
DTSTART;TZID=America/New_York:20240302T153000
DTEND;TZID=America/New_York:20240302T203000
DTSTAMP:20260421T193218
CREATED:20240301T013952Z
LAST-MODIFIED:20240303T003723Z
UID:10002688-1709393400-1709411400@www.lasalle.edu
SUMMARY:Bus Trip - Flower Show
DESCRIPTION:Bus Trip Downtown to the Philadelphia Flower Show!
URL:https://www.lasalle.edu/event/bus-trip-flower-show/
LOCATION:La Salle Off-Campus Event
CATEGORIES:Entertainment
END:VEVENT
END:VCALENDAR