BEGIN:VCALENDAR
VERSION:2.0
PRODID:-//La Salle University - ECPv6.15.20//NONSGML v1.0//EN
CALSCALE:GREGORIAN
METHOD:PUBLISH
X-WR-CALNAME:La Salle University
X-ORIGINAL-URL:https://www.lasalle.edu
X-WR-CALDESC:Events for La Salle University
REFRESH-INTERVAL;VALUE=DURATION:PT1H
X-Robots-Tag:noindex
X-PUBLISHED-TTL:PT1H
BEGIN:VTIMEZONE
TZID:America/New_York
BEGIN:DAYLIGHT
TZOFFSETFROM:-0500
TZOFFSETTO:-0400
TZNAME:EDT
DTSTART:20230312T070000
END:DAYLIGHT
BEGIN:STANDARD
TZOFFSETFROM:-0400
TZOFFSETTO:-0500
TZNAME:EST
DTSTART:20231105T060000
END:STANDARD
BEGIN:DAYLIGHT
TZOFFSETFROM:-0500
TZOFFSETTO:-0400
TZNAME:EDT
DTSTART:20240310T070000
END:DAYLIGHT
BEGIN:STANDARD
TZOFFSETFROM:-0400
TZOFFSETTO:-0500
TZNAME:EST
DTSTART:20241103T060000
END:STANDARD
BEGIN:DAYLIGHT
TZOFFSETFROM:-0500
TZOFFSETTO:-0400
TZNAME:EDT
DTSTART:20250309T070000
END:DAYLIGHT
BEGIN:STANDARD
TZOFFSETFROM:-0400
TZOFFSETTO:-0500
TZNAME:EST
DTSTART:20251102T060000
END:STANDARD
END:VTIMEZONE
BEGIN:VEVENT
DTSTART;TZID=America/New_York:20240916T190000
DTEND;TZID=America/New_York:20240916T203000
DTSTAMP:20260425T075608
CREATED:20240912T203730Z
LAST-MODIFIED:20240916T234617Z
UID:10003375-1726513200-1726518600@www.lasalle.edu
SUMMARY:Self Defense
DESCRIPTION:Self defense.
URL:https://www.lasalle.edu/event/self-defense/
LOCATION:La Salle Union 301
CATEGORIES:Wellness/Recreation
END:VEVENT
BEGIN:VEVENT
DTSTART;TZID=America/New_York:20240915T203000
DTEND;TZID=America/New_York:20240915T223000
DTSTAMP:20260425T075608
CREATED:20240912T203728Z
LAST-MODIFIED:20240916T022334Z
UID:10003372-1726432200-1726439400@www.lasalle.edu
SUMMARY:Movie Night
DESCRIPTION:Movie Night
URL:https://www.lasalle.edu/event/movie-night/
LOCATION:La Salle Union 301
CATEGORIES:Wellness/Recreation
END:VEVENT
BEGIN:VEVENT
DTSTART;TZID=America/New_York:20240509T180000
DTEND;TZID=America/New_York:20240509T190000
DTSTAMP:20260425T075609
CREATED:20240504T194134Z
LAST-MODIFIED:20240509T223522Z
UID:10002921-1715277600-1715281200@www.lasalle.edu
SUMMARY:Dance Cardio
DESCRIPTION:Dance Cardio
URL:https://www.lasalle.edu/event/dance-cardio-21/
LOCATION:La Salle Union 301
CATEGORIES:Wellness/Recreation
END:VEVENT
BEGIN:VEVENT
DTSTART;TZID=America/New_York:20240509T160000
DTEND;TZID=America/New_York:20240509T170000
DTSTAMP:20260425T075609
CREATED:20240504T194133Z
LAST-MODIFIED:20240509T203909Z
UID:10002920-1715270400-1715274000@www.lasalle.edu
SUMMARY:Yoga
DESCRIPTION:Yoga
URL:https://www.lasalle.edu/event/yoga-29/
LOCATION:La Salle Union 301
CATEGORIES:Wellness/Recreation
END:VEVENT
BEGIN:VEVENT
DTSTART;TZID=America/New_York:20240509T123000
DTEND;TZID=America/New_York:20240509T133000
DTSTAMP:20260425T075609
CREATED:20240504T194133Z
LAST-MODIFIED:20240509T163605Z
UID:10002919-1715257800-1715261400@www.lasalle.edu
SUMMARY:Meditation
DESCRIPTION:meditation
URL:https://www.lasalle.edu/event/meditation-16/
LOCATION:La Salle Union 301
CATEGORIES:Wellness/Recreation
END:VEVENT
BEGIN:VEVENT
DTSTART;TZID=America/New_York:20240507T180000
DTEND;TZID=America/New_York:20240507T190000
DTSTAMP:20260425T075609
CREATED:20240501T221647Z
LAST-MODIFIED:20240507T223410Z
UID:10002911-1715104800-1715108400@www.lasalle.edu
SUMMARY:Yoga
DESCRIPTION:Yoga
URL:https://www.lasalle.edu/event/yoga-28/
LOCATION:La Salle Union 301
CATEGORIES:Wellness/Recreation
END:VEVENT
BEGIN:VEVENT
DTSTART;TZID=America/New_York:20240507T123000
DTEND;TZID=America/New_York:20240507T133000
DTSTAMP:20260425T075609
CREATED:20240501T221646Z
LAST-MODIFIED:20240507T163648Z
UID:10002910-1715085000-1715088600@www.lasalle.edu
SUMMARY:Meditation
DESCRIPTION:meditation
URL:https://www.lasalle.edu/event/meditation-15/
LOCATION:La Salle Union 301
CATEGORIES:Wellness/Recreation
END:VEVENT
BEGIN:VEVENT
DTSTART;TZID=America/New_York:20240506T180000
DTEND;TZID=America/New_York:20240506T190000
DTSTAMP:20260425T075609
CREATED:20240501T213959Z
LAST-MODIFIED:20240506T224231Z
UID:10002908-1715018400-1715022000@www.lasalle.edu
SUMMARY:Yoga
DESCRIPTION:Yoga
URL:https://www.lasalle.edu/event/yoga-27/
LOCATION:La Salle Union 301
CATEGORIES:Wellness/Recreation
END:VEVENT
BEGIN:VEVENT
DTSTART;TZID=America/New_York:20240506T160000
DTEND;TZID=America/New_York:20240506T170000
DTSTAMP:20260425T075609
CREATED:20240501T213957Z
LAST-MODIFIED:20240506T203725Z
UID:10002907-1715011200-1715014800@www.lasalle.edu
SUMMARY:Dance Cardio
DESCRIPTION:Dance Cardio
URL:https://www.lasalle.edu/event/dance-cardio-20/
LOCATION:La Salle Union 301
CATEGORIES:Wellness/Recreation
END:VEVENT
BEGIN:VEVENT
DTSTART;TZID=America/New_York:20240502T180000
DTEND;TZID=America/New_York:20240502T190000
DTSTAMP:20260425T075609
CREATED:20240429T214343Z
LAST-MODIFIED:20240502T223522Z
UID:10002901-1714672800-1714676400@www.lasalle.edu
SUMMARY:Dance Cardio
DESCRIPTION:Dance Cardio
URL:https://www.lasalle.edu/event/dance-cardio-19/
LOCATION:La Salle Union 301
CATEGORIES:Wellness/Recreation
END:VEVENT
BEGIN:VEVENT
DTSTART;TZID=America/New_York:20240502T170000
DTEND;TZID=America/New_York:20240502T180000
DTSTAMP:20260425T075609
CREATED:20240429T214343Z
LAST-MODIFIED:20240502T213737Z
UID:10002902-1714669200-1714672800@www.lasalle.edu
SUMMARY:Zumba
DESCRIPTION:Zumba
URL:https://www.lasalle.edu/event/zumba-9/
LOCATION:La Salle Union 301
CATEGORIES:Wellness/Recreation
END:VEVENT
BEGIN:VEVENT
DTSTART;TZID=America/New_York:20240502T160000
DTEND;TZID=America/New_York:20240502T170000
DTSTAMP:20260425T075609
CREATED:20240430T194735Z
LAST-MODIFIED:20240502T203842Z
UID:10002903-1714665600-1714669200@www.lasalle.edu
SUMMARY:Yoga
DESCRIPTION:Yoga
URL:https://www.lasalle.edu/event/yoga-26/
LOCATION:La Salle Union 301
CATEGORIES:Wellness/Recreation
END:VEVENT
BEGIN:VEVENT
DTSTART;TZID=America/New_York:20240502T123000
DTEND;TZID=America/New_York:20240502T133000
DTSTAMP:20260425T075609
CREATED:20240429T033348Z
LAST-MODIFIED:20240502T163803Z
UID:10002899-1714653000-1714656600@www.lasalle.edu
SUMMARY:Meditation
DESCRIPTION:meditation
URL:https://www.lasalle.edu/event/meditation-14/
LOCATION:La Salle Union 301
CATEGORIES:Wellness/Recreation
END:VEVENT
BEGIN:VEVENT
DTSTART;TZID=America/New_York:20240430T180000
DTEND;TZID=America/New_York:20240430T190000
DTSTAMP:20260425T075609
CREATED:20240427T014356Z
LAST-MODIFIED:20240430T223615Z
UID:10002898-1714500000-1714503600@www.lasalle.edu
SUMMARY:Yoga
DESCRIPTION:Yoga
URL:https://www.lasalle.edu/event/yoga-25/
LOCATION:La Salle Union 301
CATEGORIES:Wellness/Recreation
END:VEVENT
BEGIN:VEVENT
DTSTART;TZID=America/New_York:20240430T123000
DTEND;TZID=America/New_York:20240430T133000
DTSTAMP:20260425T075609
CREATED:20240427T004809Z
LAST-MODIFIED:20240430T164510Z
UID:10002895-1714480200-1714483800@www.lasalle.edu
SUMMARY:Meditation
DESCRIPTION:meditation
URL:https://www.lasalle.edu/event/meditation-13/
LOCATION:La Salle Union 301
CATEGORIES:Wellness/Recreation
END:VEVENT
BEGIN:VEVENT
DTSTART;TZID=America/New_York:20240429T180000
DTEND;TZID=America/New_York:20240429T190000
DTSTAMP:20260425T075609
CREATED:20240427T004807Z
LAST-MODIFIED:20240429T223834Z
UID:10002892-1714413600-1714417200@www.lasalle.edu
SUMMARY:Yoga
DESCRIPTION:Yoga
URL:https://www.lasalle.edu/event/yoga-24/
LOCATION:La Salle Union 301
CATEGORIES:Wellness/Recreation
END:VEVENT
BEGIN:VEVENT
DTSTART;TZID=America/New_York:20240429T160000
DTEND;TZID=America/New_York:20240429T170000
DTSTAMP:20260425T075609
CREATED:20240426T204241Z
LAST-MODIFIED:20240429T203611Z
UID:10002890-1714406400-1714410000@www.lasalle.edu
SUMMARY:Dance Cardio
DESCRIPTION:Dance Cardio
URL:https://www.lasalle.edu/event/dance-cardio-18/
LOCATION:La Salle Union 301
CATEGORIES:Wellness/Recreation
END:VEVENT
BEGIN:VEVENT
DTSTART;TZID=America/New_York:20240425T180000
DTEND;TZID=America/New_York:20240425T190000
DTSTAMP:20260425T075609
CREATED:20240423T224823Z
LAST-MODIFIED:20240425T223656Z
UID:10002871-1714068000-1714071600@www.lasalle.edu
SUMMARY:Dance Cardio
DESCRIPTION:Dance Cardio
URL:https://www.lasalle.edu/event/dance-cardio-17/
LOCATION:La Salle Union 301
CATEGORIES:Wellness/Recreation
END:VEVENT
BEGIN:VEVENT
DTSTART;TZID=America/New_York:20240425T170000
DTEND;TZID=America/New_York:20240425T180000
DTSTAMP:20260425T075609
CREATED:20240423T234419Z
LAST-MODIFIED:20240425T214557Z
UID:10002872-1714064400-1714068000@www.lasalle.edu
SUMMARY:Zumba
DESCRIPTION:Zumba
URL:https://www.lasalle.edu/event/zumba-8/
LOCATION:La Salle Union 301
CATEGORIES:Wellness/Recreation
END:VEVENT
BEGIN:VEVENT
DTSTART;TZID=America/New_York:20240425T160000
DTEND;TZID=America/New_York:20240425T170000
DTSTAMP:20260425T075609
CREATED:20240423T223307Z
LAST-MODIFIED:20240425T204406Z
UID:10002870-1714060800-1714064400@www.lasalle.edu
SUMMARY:Yoga
DESCRIPTION:Yoga
URL:https://www.lasalle.edu/event/yoga-23/
LOCATION:La Salle Union 301
CATEGORIES:Wellness/Recreation
END:VEVENT
BEGIN:VEVENT
DTSTART;TZID=America/New_York:20240425T123000
DTEND;TZID=America/New_York:20240425T133000
DTSTAMP:20260425T075609
CREATED:20240423T184317Z
LAST-MODIFIED:20240425T163842Z
UID:10002867-1714048200-1714051800@www.lasalle.edu
SUMMARY:Meditation
DESCRIPTION:meditation
URL:https://www.lasalle.edu/event/meditation-12/
LOCATION:La Salle Union 301
CATEGORIES:Wellness/Recreation
END:VEVENT
BEGIN:VEVENT
DTSTART;TZID=America/New_York:20240423T180000
DTEND;TZID=America/New_York:20240423T190000
DTSTAMP:20260425T075609
CREATED:20240421T113155Z
LAST-MODIFIED:20240423T223814Z
UID:10002862-1713895200-1713898800@www.lasalle.edu
SUMMARY:Yoga
DESCRIPTION:Yoga
URL:https://www.lasalle.edu/event/yoga-22/
LOCATION:La Salle Union 301
CATEGORIES:Wellness/Recreation
END:VEVENT
BEGIN:VEVENT
DTSTART;TZID=America/New_York:20240423T123000
DTEND;TZID=America/New_York:20240423T133000
DTSTAMP:20260425T075609
CREATED:20240420T204453Z
LAST-MODIFIED:20240423T163627Z
UID:10002861-1713875400-1713879000@www.lasalle.edu
SUMMARY:Meditation
DESCRIPTION:meditation
URL:https://www.lasalle.edu/event/meditation-11/
LOCATION:La Salle Union 301
CATEGORIES:Wellness/Recreation
END:VEVENT
BEGIN:VEVENT
DTSTART;TZID=America/New_York:20240422T180000
DTEND;TZID=America/New_York:20240422T190000
DTSTAMP:20260425T075609
CREATED:20240420T014734Z
LAST-MODIFIED:20240422T223700Z
UID:10002858-1713808800-1713812400@www.lasalle.edu
SUMMARY:Yoga
DESCRIPTION:Yoga
URL:https://www.lasalle.edu/event/yoga-21/
LOCATION:La Salle Union 301
CATEGORIES:Wellness/Recreation
END:VEVENT
BEGIN:VEVENT
DTSTART;TZID=America/New_York:20240422T160000
DTEND;TZID=America/New_York:20240422T170000
DTSTAMP:20260425T075609
CREATED:20240419T093622Z
LAST-MODIFIED:20240422T203745Z
UID:10002857-1713801600-1713805200@www.lasalle.edu
SUMMARY:Dance Cardio
DESCRIPTION:Dance Cardio
URL:https://www.lasalle.edu/event/dance-cardio-16/
LOCATION:La Salle Union 301
CATEGORIES:Wellness/Recreation
END:VEVENT
BEGIN:VEVENT
DTSTART;TZID=America/New_York:20240418T180000
DTEND;TZID=America/New_York:20240418T190000
DTSTAMP:20260425T075609
CREATED:20240417T194850Z
LAST-MODIFIED:20240418T223639Z
UID:10002835-1713463200-1713466800@www.lasalle.edu
SUMMARY:Dance Cardio
DESCRIPTION:Dance Cardio
URL:https://www.lasalle.edu/event/dance-cardio-15/
LOCATION:La Salle Union 301
CATEGORIES:Wellness/Recreation
END:VEVENT
BEGIN:VEVENT
DTSTART;TZID=America/New_York:20240418T170000
DTEND;TZID=America/New_York:20240418T180000
DTSTAMP:20260425T075609
CREATED:20240417T194850Z
LAST-MODIFIED:20240418T213634Z
UID:10002836-1713459600-1713463200@www.lasalle.edu
SUMMARY:Zumba
DESCRIPTION:Zumba
URL:https://www.lasalle.edu/event/zumba-7/
LOCATION:La Salle Union 301
CATEGORIES:Wellness/Recreation
END:VEVENT
BEGIN:VEVENT
DTSTART;TZID=America/New_York:20240418T160000
DTEND;TZID=America/New_York:20240418T170000
DTSTAMP:20260425T075609
CREATED:20240418T014937Z
LAST-MODIFIED:20240418T203816Z
UID:10002840-1713456000-1713459600@www.lasalle.edu
SUMMARY:Yoga
DESCRIPTION:Yoga
URL:https://www.lasalle.edu/event/yoga-20/
LOCATION:La Salle Union 301
CATEGORIES:Wellness/Recreation
END:VEVENT
BEGIN:VEVENT
DTSTART;TZID=America/New_York:20240418T123000
DTEND;TZID=America/New_York:20240418T133000
DTSTAMP:20260425T075609
CREATED:20240416T194155Z
LAST-MODIFIED:20240418T173422Z
UID:10002828-1713443400-1713447000@www.lasalle.edu
SUMMARY:Meditation
DESCRIPTION:meditation
URL:https://www.lasalle.edu/event/meditation-10/
LOCATION:La Salle Union 301
CATEGORIES:Wellness/Recreation
END:VEVENT
BEGIN:VEVENT
DTSTART;TZID=America/New_York:20240416T180000
DTEND;TZID=America/New_York:20240416T190000
DTSTAMP:20260425T075609
CREATED:20240413T034903Z
LAST-MODIFIED:20240416T223625Z
UID:10002821-1713290400-1713294000@www.lasalle.edu
SUMMARY:Yoga
DESCRIPTION:Yoga
URL:https://www.lasalle.edu/event/yoga-19/
LOCATION:La Salle Union 301
CATEGORIES:Wellness/Recreation
END:VEVENT
END:VCALENDAR