BEGIN:VCALENDAR
VERSION:2.0
PRODID:-//La Salle University - ECPv6.15.20//NONSGML v1.0//EN
CALSCALE:GREGORIAN
METHOD:PUBLISH
X-WR-CALNAME:La Salle University
X-ORIGINAL-URL:https://www.lasalle.edu
X-WR-CALDESC:Events for La Salle University
REFRESH-INTERVAL;VALUE=DURATION:PT1H
X-Robots-Tag:noindex
X-PUBLISHED-TTL:PT1H
BEGIN:VTIMEZONE
TZID:America/New_York
BEGIN:DAYLIGHT
TZOFFSETFROM:-0500
TZOFFSETTO:-0400
TZNAME:EDT
DTSTART:20230312T070000
END:DAYLIGHT
BEGIN:STANDARD
TZOFFSETFROM:-0400
TZOFFSETTO:-0500
TZNAME:EST
DTSTART:20231105T060000
END:STANDARD
BEGIN:DAYLIGHT
TZOFFSETFROM:-0500
TZOFFSETTO:-0400
TZNAME:EDT
DTSTART:20240310T070000
END:DAYLIGHT
BEGIN:STANDARD
TZOFFSETFROM:-0400
TZOFFSETTO:-0500
TZNAME:EST
DTSTART:20241103T060000
END:STANDARD
BEGIN:DAYLIGHT
TZOFFSETFROM:-0500
TZOFFSETTO:-0400
TZNAME:EDT
DTSTART:20250309T070000
END:DAYLIGHT
BEGIN:STANDARD
TZOFFSETFROM:-0400
TZOFFSETTO:-0500
TZNAME:EST
DTSTART:20251102T060000
END:STANDARD
END:VTIMEZONE
BEGIN:VEVENT
DTSTART;TZID=America/New_York:20240409T180000
DTEND;TZID=America/New_York:20240409T190000
DTSTAMP:20260425T113400
CREATED:20240407T025550Z
LAST-MODIFIED:20240409T223627Z
UID:10002794-1712685600-1712689200@www.lasalle.edu
SUMMARY:Yoga
DESCRIPTION:Yoga
URL:https://www.lasalle.edu/event/yoga-16/
LOCATION:La Salle Union 301
CATEGORIES:Wellness/Recreation
END:VEVENT
BEGIN:VEVENT
DTSTART;TZID=America/New_York:20240409T123000
DTEND;TZID=America/New_York:20240409T133000
DTSTAMP:20260425T113400
CREATED:20240405T124532Z
LAST-MODIFIED:20240409T165024Z
UID:10002792-1712665800-1712669400@www.lasalle.edu
SUMMARY:Meditation
DESCRIPTION:meditation
URL:https://www.lasalle.edu/event/meditation-7/
LOCATION:La Salle Union 301
CATEGORIES:Wellness/Recreation
END:VEVENT
BEGIN:VEVENT
DTSTART;TZID=America/New_York:20240408T180000
DTEND;TZID=America/New_York:20240408T190000
DTSTAMP:20260425T113400
CREATED:20240404T224812Z
LAST-MODIFIED:20240408T223501Z
UID:10002788-1712599200-1712602800@www.lasalle.edu
SUMMARY:Yoga
DESCRIPTION:Yoga
URL:https://www.lasalle.edu/event/yoga-15/
LOCATION:La Salle Union 301
CATEGORIES:Wellness/Recreation
END:VEVENT
BEGIN:VEVENT
DTSTART;TZID=America/New_York:20240408T160000
DTEND;TZID=America/New_York:20240408T170000
DTSTAMP:20260425T113400
CREATED:20240404T214858Z
LAST-MODIFIED:20240408T205054Z
UID:10002787-1712592000-1712595600@www.lasalle.edu
SUMMARY:Dance Cardio
DESCRIPTION:Dance Cardio
URL:https://www.lasalle.edu/event/dance-cardio-12/
LOCATION:La Salle Union 301
CATEGORIES:Wellness/Recreation
END:VEVENT
BEGIN:VEVENT
DTSTART;TZID=America/New_York:20240404T180000
DTEND;TZID=America/New_York:20240404T190000
DTSTAMP:20260425T113400
CREATED:20240403T204805Z
LAST-MODIFIED:20240404T223629Z
UID:10002779-1712253600-1712257200@www.lasalle.edu
SUMMARY:Dance Cardio
DESCRIPTION:Dance Cardio
URL:https://www.lasalle.edu/event/dance-cardio-11/
LOCATION:La Salle Union 301
CATEGORIES:Wellness/Recreation
END:VEVENT
BEGIN:VEVENT
DTSTART;TZID=America/New_York:20240404T170000
DTEND;TZID=America/New_York:20240404T180000
DTSTAMP:20260425T113400
CREATED:20240404T004856Z
LAST-MODIFIED:20240404T214013Z
UID:10002780-1712250000-1712253600@www.lasalle.edu
SUMMARY:Zumba
DESCRIPTION:Zumba
URL:https://www.lasalle.edu/event/zumba-6/
LOCATION:La Salle Union 301
CATEGORIES:Wellness/Recreation
END:VEVENT
BEGIN:VEVENT
DTSTART;TZID=America/New_York:20240404T160000
DTEND;TZID=America/New_York:20240404T170000
DTSTAMP:20260425T113400
CREATED:20240310T113333Z
LAST-MODIFIED:20240404T204039Z
UID:10002750-1712246400-1712250000@www.lasalle.edu
SUMMARY:Yoga
DESCRIPTION:Yoga
URL:https://www.lasalle.edu/event/yoga-14/
LOCATION:La Salle Union 301
CATEGORIES:Wellness/Recreation
END:VEVENT
BEGIN:VEVENT
DTSTART;TZID=America/New_York:20240404T123000
DTEND;TZID=America/New_York:20240404T133000
DTSTAMP:20260425T113400
CREATED:20240310T104428Z
LAST-MODIFIED:20240404T163317Z
UID:10002747-1712233800-1712237400@www.lasalle.edu
SUMMARY:Meditation
DESCRIPTION:meditation
URL:https://www.lasalle.edu/event/meditation-6/
LOCATION:La Salle Union 301
CATEGORIES:Wellness/Recreation
END:VEVENT
BEGIN:VEVENT
DTSTART;TZID=America/New_York:20240402T180000
DTEND;TZID=America/New_York:20240402T190000
DTSTAMP:20260425T113400
CREATED:20240310T103818Z
LAST-MODIFIED:20240402T223758Z
UID:10002744-1712080800-1712084400@www.lasalle.edu
SUMMARY:Yoga
DESCRIPTION:Yoga
URL:https://www.lasalle.edu/event/yoga-13/
LOCATION:La Salle Union 301
CATEGORIES:Wellness/Recreation
END:VEVENT
BEGIN:VEVENT
DTSTART;TZID=America/New_York:20240402T123000
DTEND;TZID=America/New_York:20240402T133000
DTSTAMP:20260425T113400
CREATED:20240310T103610Z
LAST-MODIFIED:20240402T163707Z
UID:10002743-1712061000-1712064600@www.lasalle.edu
SUMMARY:Meditation
DESCRIPTION:meditation
URL:https://www.lasalle.edu/event/meditation-5/
LOCATION:La Salle Union 301
CATEGORIES:Wellness/Recreation
END:VEVENT
BEGIN:VEVENT
DTSTART;TZID=America/New_York:20240401T160000
DTEND;TZID=America/New_York:20240401T170000
DTSTAMP:20260425T113400
CREATED:20240310T103609Z
LAST-MODIFIED:20240401T204249Z
UID:10002742-1711987200-1711990800@www.lasalle.edu
SUMMARY:Dance Cardio
DESCRIPTION:Dance Cardio
URL:https://www.lasalle.edu/event/dance-cardio-10/
LOCATION:La Salle Union 301
CATEGORIES:Wellness/Recreation
END:VEVENT
BEGIN:VEVENT
DTSTART;TZID=America/New_York:20240328T180000
DTEND;TZID=America/New_York:20240328T190000
DTSTAMP:20260425T113400
CREATED:20240310T103336Z
LAST-MODIFIED:20240328T224046Z
UID:10002739-1711648800-1711652400@www.lasalle.edu
SUMMARY:Dance Cardio
DESCRIPTION:Dance Cardio
URL:https://www.lasalle.edu/event/dance-cardio-9/
LOCATION:La Salle Union 301
CATEGORIES:Wellness/Recreation
END:VEVENT
BEGIN:VEVENT
DTSTART;TZID=America/New_York:20240328T170000
DTEND;TZID=America/New_York:20240328T180000
DTSTAMP:20260425T113400
CREATED:20240310T103337Z
LAST-MODIFIED:20240328T203721Z
UID:10002740-1711645200-1711648800@www.lasalle.edu
SUMMARY:Zumba
DESCRIPTION:Zumba
URL:https://www.lasalle.edu/event/zumba-5/
LOCATION:La Salle Union 301
CATEGORIES:Wellness/Recreation
END:VEVENT
BEGIN:VEVENT
DTSTART;TZID=America/New_York:20240328T160000
DTEND;TZID=America/New_York:20240328T170000
DTSTAMP:20260425T113400
CREATED:20240310T103338Z
LAST-MODIFIED:20240328T203722Z
UID:10002741-1711641600-1711645200@www.lasalle.edu
SUMMARY:Yoga
DESCRIPTION:Yoga
URL:https://www.lasalle.edu/event/yoga-12/
LOCATION:La Salle Union 301
CATEGORIES:Wellness/Recreation
END:VEVENT
BEGIN:VEVENT
DTSTART;TZID=America/New_York:20240328T123000
DTEND;TZID=America/New_York:20240328T133000
DTSTAMP:20260425T113400
CREATED:20240310T094256Z
LAST-MODIFIED:20240328T164736Z
UID:10002738-1711629000-1711632600@www.lasalle.edu
SUMMARY:Meditation
DESCRIPTION:meditation
URL:https://www.lasalle.edu/event/meditation-4/
LOCATION:La Salle Union 301
CATEGORIES:Wellness/Recreation
END:VEVENT
BEGIN:VEVENT
DTSTART;TZID=America/New_York:20240326T180000
DTEND;TZID=America/New_York:20240326T190000
DTSTAMP:20260425T113400
CREATED:20240310T094003Z
LAST-MODIFIED:20240326T223651Z
UID:10002734-1711476000-1711479600@www.lasalle.edu
SUMMARY:Yoga
DESCRIPTION:Yoga
URL:https://www.lasalle.edu/event/yoga-11/
LOCATION:La Salle Union 301
CATEGORIES:Wellness/Recreation
END:VEVENT
BEGIN:VEVENT
DTSTART;TZID=America/New_York:20240326T123000
DTEND;TZID=America/New_York:20240326T133000
DTSTAMP:20260425T113400
CREATED:20240310T093414Z
LAST-MODIFIED:20240326T164954Z
UID:10002732-1711456200-1711459800@www.lasalle.edu
SUMMARY:Meditation
DESCRIPTION:meditation
URL:https://www.lasalle.edu/event/meditation-3/
LOCATION:La Salle Union 301
CATEGORIES:Wellness/Recreation
END:VEVENT
BEGIN:VEVENT
DTSTART;TZID=America/New_York:20240325T180000
DTEND;TZID=America/New_York:20240325T190000
DTSTAMP:20260425T113400
CREATED:20240310T093413Z
LAST-MODIFIED:20240325T224633Z
UID:10002731-1711389600-1711393200@www.lasalle.edu
SUMMARY:Yoga
DESCRIPTION:Yoga
URL:https://www.lasalle.edu/event/yoga-10/
LOCATION:La Salle Union 301
CATEGORIES:Wellness/Recreation
END:VEVENT
BEGIN:VEVENT
DTSTART;TZID=America/New_York:20240325T160000
DTEND;TZID=America/New_York:20240325T170000
DTSTAMP:20260425T113400
CREATED:20240310T093412Z
LAST-MODIFIED:20240325T204734Z
UID:10002729-1711382400-1711386000@www.lasalle.edu
SUMMARY:Dance Cardio
DESCRIPTION:Dance Cardio
URL:https://www.lasalle.edu/event/dance-cardio-8/
LOCATION:La Salle Union 301
CATEGORIES:Wellness/Recreation
END:VEVENT
BEGIN:VEVENT
DTSTART;TZID=America/New_York:20240321T180000
DTEND;TZID=America/New_York:20240321T190000
DTSTAMP:20260425T113400
CREATED:20240310T083923Z
LAST-MODIFIED:20240321T224816Z
UID:10002723-1711044000-1711047600@www.lasalle.edu
SUMMARY:Dance Cardio
DESCRIPTION:Dance Cardio
URL:https://www.lasalle.edu/event/dance-cardio-7/
LOCATION:La Salle Union 301
CATEGORIES:Wellness/Recreation
END:VEVENT
BEGIN:VEVENT
DTSTART;TZID=America/New_York:20240321T170000
DTEND;TZID=America/New_York:20240321T180000
DTSTAMP:20260425T113400
CREATED:20240310T083823Z
LAST-MODIFIED:20240321T213615Z
UID:10002721-1711040400-1711044000@www.lasalle.edu
SUMMARY:Zumba
DESCRIPTION:Zumba
URL:https://www.lasalle.edu/event/zumba-4/
LOCATION:La Salle Union 301
CATEGORIES:Wellness/Recreation
END:VEVENT
BEGIN:VEVENT
DTSTART;TZID=America/New_York:20240321T160000
DTEND;TZID=America/New_York:20240321T170000
DTSTAMP:20260425T113400
CREATED:20240310T083822Z
LAST-MODIFIED:20240321T203756Z
UID:10002720-1711036800-1711040400@www.lasalle.edu
SUMMARY:Yoga
DESCRIPTION:Yoga
URL:https://www.lasalle.edu/event/yoga-9/
LOCATION:La Salle Union 301
CATEGORIES:Wellness/Recreation
END:VEVENT
BEGIN:VEVENT
DTSTART;TZID=America/New_York:20240321T123000
DTEND;TZID=America/New_York:20240321T133000
DTSTAMP:20260425T113400
CREATED:20240308T083235Z
LAST-MODIFIED:20240321T163940Z
UID:10002716-1711024200-1711027800@www.lasalle.edu
SUMMARY:Meditation
DESCRIPTION:meditation
URL:https://www.lasalle.edu/event/meditation-2/
LOCATION:La Salle Union 301
CATEGORIES:Wellness/Recreation
END:VEVENT
BEGIN:VEVENT
DTSTART;TZID=America/New_York:20240319T180000
DTEND;TZID=America/New_York:20240319T190000
DTSTAMP:20260425T113400
CREATED:20240307T233514Z
LAST-MODIFIED:20240319T223718Z
UID:10002714-1710871200-1710874800@www.lasalle.edu
SUMMARY:Yoga
DESCRIPTION:Yoga
URL:https://www.lasalle.edu/event/yoga-8/
LOCATION:La Salle Union 301
CATEGORIES:Wellness/Recreation
END:VEVENT
BEGIN:VEVENT
DTSTART;TZID=America/New_York:20240319T123000
DTEND;TZID=America/New_York:20240319T133000
DTSTAMP:20260425T113400
CREATED:20240307T044500Z
LAST-MODIFIED:20240319T163935Z
UID:10002709-1710851400-1710855000@www.lasalle.edu
SUMMARY:Meditation
DESCRIPTION:meditation
URL:https://www.lasalle.edu/event/meditation/
LOCATION:La Salle Union 301
CATEGORIES:Wellness/Recreation
END:VEVENT
BEGIN:VEVENT
DTSTART;TZID=America/New_York:20240318T180000
DTEND;TZID=America/New_York:20240318T190000
DTSTAMP:20260425T113400
CREATED:20240306T104843Z
LAST-MODIFIED:20240318T224338Z
UID:10002707-1710784800-1710788400@www.lasalle.edu
SUMMARY:Yoga
DESCRIPTION:Yoga
URL:https://www.lasalle.edu/event/yoga-7/
LOCATION:La Salle Union 301
CATEGORIES:Wellness/Recreation
END:VEVENT
BEGIN:VEVENT
DTSTART;TZID=America/New_York:20240318T160000
DTEND;TZID=America/New_York:20240318T170000
DTSTAMP:20260425T113400
CREATED:20240306T104842Z
LAST-MODIFIED:20240318T203949Z
UID:10002706-1710777600-1710781200@www.lasalle.edu
SUMMARY:Dance Cardio
DESCRIPTION:Dance Cardio
URL:https://www.lasalle.edu/event/dance-cardio-6/
LOCATION:La Salle Union 301
CATEGORIES:Wellness/Recreation
END:VEVENT
BEGIN:VEVENT
DTSTART;TZID=America/New_York:20240314T180000
DTEND;TZID=America/New_York:20240314T190000
DTSTAMP:20260425T113400
CREATED:20240304T064502Z
LAST-MODIFIED:20240313T193653Z
UID:10002701-1710439200-1710442800@www.lasalle.edu
SUMMARY:Dance Cardio
DESCRIPTION:Dance Cardio
URL:https://www.lasalle.edu/event/dance-cardio-5/
LOCATION:La Salle Union 301
CATEGORIES:Wellness/Recreation
END:VEVENT
BEGIN:VEVENT
DTSTART;TZID=America/New_York:20240314T170000
DTEND;TZID=America/New_York:20240314T180000
DTSTAMP:20260425T113400
CREATED:20240304T064502Z
LAST-MODIFIED:20240313T193653Z
UID:10002700-1710435600-1710439200@www.lasalle.edu
SUMMARY:Zumba
DESCRIPTION:Zumba
URL:https://www.lasalle.edu/event/zumba-3/
LOCATION:La Salle Union 301
CATEGORIES:Wellness/Recreation
END:VEVENT
BEGIN:VEVENT
DTSTART;TZID=America/New_York:20240307T180000
DTEND;TZID=America/New_York:20240307T190000
DTSTAMP:20260425T113400
CREATED:20240302T003539Z
LAST-MODIFIED:20240307T233523Z
UID:10002698-1709834400-1709838000@www.lasalle.edu
SUMMARY:Dance Cardio
DESCRIPTION:Dance Cardio
URL:https://www.lasalle.edu/event/dance-cardio-4/
LOCATION:La Salle Union 301
CATEGORIES:Wellness/Recreation
END:VEVENT
END:VCALENDAR