BEGIN:VCALENDAR
VERSION:2.0
PRODID:-//La Salle University - ECPv6.15.20//NONSGML v1.0//EN
CALSCALE:GREGORIAN
METHOD:PUBLISH
X-WR-CALNAME:La Salle University
X-ORIGINAL-URL:https://www.lasalle.edu
X-WR-CALDESC:Events for La Salle University
REFRESH-INTERVAL;VALUE=DURATION:PT1H
X-Robots-Tag:noindex
X-PUBLISHED-TTL:PT1H
BEGIN:VTIMEZONE
TZID:America/New_York
BEGIN:DAYLIGHT
TZOFFSETFROM:-0500
TZOFFSETTO:-0400
TZNAME:EDT
DTSTART:20230312T070000
END:DAYLIGHT
BEGIN:STANDARD
TZOFFSETFROM:-0400
TZOFFSETTO:-0500
TZNAME:EST
DTSTART:20231105T060000
END:STANDARD
BEGIN:DAYLIGHT
TZOFFSETFROM:-0500
TZOFFSETTO:-0400
TZNAME:EDT
DTSTART:20240310T070000
END:DAYLIGHT
BEGIN:STANDARD
TZOFFSETFROM:-0400
TZOFFSETTO:-0500
TZNAME:EST
DTSTART:20241103T060000
END:STANDARD
BEGIN:DAYLIGHT
TZOFFSETFROM:-0500
TZOFFSETTO:-0400
TZNAME:EDT
DTSTART:20250309T070000
END:DAYLIGHT
BEGIN:STANDARD
TZOFFSETFROM:-0400
TZOFFSETTO:-0500
TZNAME:EST
DTSTART:20251102T060000
END:STANDARD
END:VTIMEZONE
BEGIN:VEVENT
DTSTART;TZID=America/New_York:20240229T170000
DTEND;TZID=America/New_York:20240229T180000
DTSTAMP:20260425T214424
CREATED:20240226T203725Z
LAST-MODIFIED:20240229T223556Z
UID:10002681-1709226000-1709229600@www.lasalle.edu
SUMMARY:Zumba
DESCRIPTION:Zumba
URL:https://www.lasalle.edu/event/zumba/
LOCATION:La Salle Union 301
CATEGORIES:Wellness/Recreation
END:VEVENT
BEGIN:VEVENT
DTSTART;TZID=America/New_York:20240229T160000
DTEND;TZID=America/New_York:20240229T170000
DTSTAMP:20260425T214424
CREATED:20240226T203724Z
LAST-MODIFIED:20240229T213619Z
UID:10002680-1709222400-1709226000@www.lasalle.edu
SUMMARY:Yoga
DESCRIPTION:Yoga
URL:https://www.lasalle.edu/event/yoga-3/
LOCATION:La Salle Union 301
CATEGORIES:Wellness/Recreation
END:VEVENT
BEGIN:VEVENT
DTSTART;TZID=America/New_York:20240227T180000
DTEND;TZID=America/New_York:20240227T190000
DTSTAMP:20260425T214424
CREATED:20240226T194335Z
LAST-MODIFIED:20240227T234100Z
UID:10002679-1709056800-1709060400@www.lasalle.edu
SUMMARY:Yoga
DESCRIPTION:Yoga
URL:https://www.lasalle.edu/event/yoga-2/
LOCATION:La Salle Union 301
CATEGORIES:Wellness/Recreation
END:VEVENT
BEGIN:VEVENT
DTSTART;TZID=America/New_York:20240226T180000
DTEND;TZID=America/New_York:20240226T190000
DTSTAMP:20260425T214424
CREATED:20240226T194057Z
LAST-MODIFIED:20240226T233953Z
UID:10002678-1708970400-1708974000@www.lasalle.edu
SUMMARY:Yoga
DESCRIPTION:Yoga
URL:https://www.lasalle.edu/event/yoga/
LOCATION:La Salle Union 301
CATEGORIES:Wellness/Recreation
END:VEVENT
BEGIN:VEVENT
DTSTART;TZID=America/New_York:20240226T160000
DTEND;TZID=America/New_York:20240226T170000
DTSTAMP:20260425T214424
CREATED:20240226T204119Z
LAST-MODIFIED:20240226T214105Z
UID:10002682-1708963200-1708966800@www.lasalle.edu
SUMMARY:Dance Cardio
DESCRIPTION:Dance Cardio
URL:https://www.lasalle.edu/event/dance-cardio/
LOCATION:La Salle Union 301
CATEGORIES:Wellness/Recreation
END:VEVENT
END:VCALENDAR