BEGIN:VCALENDAR
VERSION:2.0
PRODID:-//La Salle University - ECPv6.15.20//NONSGML v1.0//EN
CALSCALE:GREGORIAN
METHOD:PUBLISH
X-WR-CALNAME:La Salle University
X-ORIGINAL-URL:https://www.lasalle.edu
X-WR-CALDESC:Events for La Salle University
REFRESH-INTERVAL;VALUE=DURATION:PT1H
X-Robots-Tag:noindex
X-PUBLISHED-TTL:PT1H
BEGIN:VTIMEZONE
TZID:America/New_York
BEGIN:DAYLIGHT
TZOFFSETFROM:-0500
TZOFFSETTO:-0400
TZNAME:EDT
DTSTART:20250309T070000
END:DAYLIGHT
BEGIN:STANDARD
TZOFFSETFROM:-0400
TZOFFSETTO:-0500
TZNAME:EST
DTSTART:20251102T060000
END:STANDARD
BEGIN:DAYLIGHT
TZOFFSETFROM:-0500
TZOFFSETTO:-0400
TZNAME:EDT
DTSTART:20260308T070000
END:DAYLIGHT
BEGIN:STANDARD
TZOFFSETFROM:-0400
TZOFFSETTO:-0500
TZNAME:EST
DTSTART:20261101T060000
END:STANDARD
BEGIN:DAYLIGHT
TZOFFSETFROM:-0500
TZOFFSETTO:-0400
TZNAME:EDT
DTSTART:20270314T070000
END:DAYLIGHT
BEGIN:STANDARD
TZOFFSETFROM:-0400
TZOFFSETTO:-0500
TZNAME:EST
DTSTART:20271107T060000
END:STANDARD
END:VTIMEZONE
BEGIN:VEVENT
DTSTART;TZID=America/New_York:20260323T180000
DTEND;TZID=America/New_York:20260323T190000
DTSTAMP:20260423T180348
CREATED:20260308T083555Z
LAST-MODIFIED:20260323T225038Z
UID:10005620-1774288800-1774292400@www.lasalle.edu
SUMMARY:Yoga
DESCRIPTION:Yoga
URL:https://www.lasalle.edu/event/yoga-71/
LOCATION:La Salle Union 301
CATEGORIES:Wellness/Recreation
END:VEVENT
BEGIN:VEVENT
DTSTART;TZID=America/New_York:20260319T181500
DTEND;TZID=America/New_York:20260319T191500
DTSTAMP:20260423T180348
CREATED:20260307T115018Z
LAST-MODIFIED:20260313T155551Z
UID:10005619-1773944100-1773947700@www.lasalle.edu
SUMMARY:Stretching
DESCRIPTION:stretching
URL:https://www.lasalle.edu/event/stretching-2/
LOCATION:La Salle Union 301
CATEGORIES:Wellness/Recreation
END:VEVENT
BEGIN:VEVENT
DTSTART;TZID=America/New_York:20260317T180000
DTEND;TZID=America/New_York:20260317T190000
DTSTAMP:20260423T180348
CREATED:20260307T115017Z
LAST-MODIFIED:20260313T153758Z
UID:10005618-1773770400-1773774000@www.lasalle.edu
SUMMARY:yoga
DESCRIPTION:Yoga
URL:https://www.lasalle.edu/event/yoga-70/
LOCATION:La Salle Union 301
CATEGORIES:Wellness/Recreation
END:VEVENT
BEGIN:VEVENT
DTSTART;TZID=America/New_York:20260317T170000
DTEND;TZID=America/New_York:20260317T180000
DTSTAMP:20260423T180348
CREATED:20260306T114805Z
LAST-MODIFIED:20260313T153757Z
UID:10005617-1773766800-1773770400@www.lasalle.edu
SUMMARY:Pilates
DESCRIPTION:Pilates
URL:https://www.lasalle.edu/event/pilates-2/
LOCATION:La Salle Union 301
CATEGORIES:Wellness/Recreation
END:VEVENT
BEGIN:VEVENT
DTSTART;TZID=America/New_York:20260317T120000
DTEND;TZID=America/New_York:20260317T130000
DTSTAMP:20260423T180348
CREATED:20260306T114804Z
LAST-MODIFIED:20260313T153756Z
UID:10005616-1773748800-1773752400@www.lasalle.edu
SUMMARY:chair fitness
DESCRIPTION:chair fitness
URL:https://www.lasalle.edu/event/chair-fitness-22/
LOCATION:La Salle Union 301
CATEGORIES:Wellness/Recreation
END:VEVENT
BEGIN:VEVENT
DTSTART;TZID=America/New_York:20260316T203000
DTEND;TZID=America/New_York:20260316T213000
DTSTAMP:20260423T180348
CREATED:20260302T145552Z
LAST-MODIFIED:20260313T153505Z
UID:10005596-1773693000-1773696600@www.lasalle.edu
SUMMARY:Athlete Yoga
DESCRIPTION:Athlete Yoga
URL:https://www.lasalle.edu/event/athlete-yoga-10/
LOCATION:La Salle Union 301
CATEGORIES:Entertainment
END:VEVENT
BEGIN:VEVENT
DTSTART;TZID=America/New_York:20260316T180000
DTEND;TZID=America/New_York:20260316T190000
DTSTAMP:20260423T180348
CREATED:20260306T114319Z
LAST-MODIFIED:20260313T153505Z
UID:10005615-1773684000-1773687600@www.lasalle.edu
SUMMARY:Yoga
DESCRIPTION:Yoga
URL:https://www.lasalle.edu/event/yoga-69/
LOCATION:La Salle Union 301
CATEGORIES:Wellness/Recreation
END:VEVENT
BEGIN:VEVENT
DTSTART;TZID=America/New_York:20260313T170000
DTEND;TZID=America/New_York:20260313T190000
DTSTAMP:20260423T180348
CREATED:20260228T053934Z
LAST-MODIFIED:20260313T223336Z
UID:10005594-1773421200-1773428400@www.lasalle.edu
SUMMARY:Praise dance
DESCRIPTION:Praise dance
URL:https://www.lasalle.edu/event/praise-dance-10/
LOCATION:La Salle Union 301
CATEGORIES:Meeting - General
END:VEVENT
BEGIN:VEVENT
DTSTART;TZID=America/New_York:20260312T181500
DTEND;TZID=America/New_York:20260312T191500
DTSTAMP:20260423T180348
CREATED:20260306T113233Z
LAST-MODIFIED:20260312T223642Z
UID:10005614-1773339300-1773342900@www.lasalle.edu
SUMMARY:Stretching
DESCRIPTION:stretching
URL:https://www.lasalle.edu/event/stretching/
LOCATION:La Salle Union 301
CATEGORIES:Wellness/Recreation
END:VEVENT
BEGIN:VEVENT
DTSTART;TZID=America/New_York:20260311T160000
DTEND;TZID=America/New_York:20260311T190000
DTSTAMP:20260423T180348
CREATED:20260310T203520Z
LAST-MODIFIED:20260311T223853Z
UID:10005681-1773244800-1773255600@www.lasalle.edu
SUMMARY:Praise dance
DESCRIPTION:Praise dance
URL:https://www.lasalle.edu/event/praise-dance-14/
LOCATION:La Salle Union 301
CATEGORIES:Meeting - General
END:VEVENT
BEGIN:VEVENT
DTSTART;TZID=America/New_York:20260310T180000
DTEND;TZID=America/New_York:20260310T190000
DTSTAMP:20260423T180348
CREATED:20260306T053322Z
LAST-MODIFIED:20260310T223821Z
UID:10005613-1773165600-1773169200@www.lasalle.edu
SUMMARY:yoga
DESCRIPTION:Yoga
URL:https://www.lasalle.edu/event/yoga-68/
LOCATION:La Salle Union 301
CATEGORIES:Wellness/Recreation
END:VEVENT
BEGIN:VEVENT
DTSTART;TZID=America/New_York:20260310T170000
DTEND;TZID=America/New_York:20260310T180000
DTSTAMP:20260423T180348
CREATED:20260306T025130Z
LAST-MODIFIED:20260310T213624Z
UID:10005612-1773162000-1773165600@www.lasalle.edu
SUMMARY:Pilates
DESCRIPTION:Pilates
URL:https://www.lasalle.edu/event/pilates/
LOCATION:La Salle Union 301
CATEGORIES:Wellness/Recreation
END:VEVENT
BEGIN:VEVENT
DTSTART;TZID=America/New_York:20260310T120000
DTEND;TZID=America/New_York:20260310T130000
DTSTAMP:20260423T180348
CREATED:20260306T025129Z
LAST-MODIFIED:20260310T164304Z
UID:10005611-1773144000-1773147600@www.lasalle.edu
SUMMARY:chair fitness
DESCRIPTION:chair fitness
URL:https://www.lasalle.edu/event/chair-fitness-21/
LOCATION:La Salle Union 301
CATEGORIES:Wellness/Recreation
END:VEVENT
BEGIN:VEVENT
DTSTART;TZID=America/New_York:20260309T193000
DTEND;TZID=America/New_York:20260309T203000
DTSTAMP:20260423T180348
CREATED:20260224T154546Z
LAST-MODIFIED:20260309T234955Z
UID:10005579-1773084600-1773088200@www.lasalle.edu
SUMMARY:Athlete Yoga
DESCRIPTION:Athlete Yoga
URL:https://www.lasalle.edu/event/athlete-yoga-9/
LOCATION:La Salle Union 301
CATEGORIES:Entertainment
END:VEVENT
BEGIN:VEVENT
DTSTART;TZID=America/New_York:20260309T180000
DTEND;TZID=America/New_York:20260309T190000
DTSTAMP:20260423T180348
CREATED:20260306T024435Z
LAST-MODIFIED:20260309T223806Z
UID:10005610-1773079200-1773082800@www.lasalle.edu
SUMMARY:Yoga
DESCRIPTION:Yoga
URL:https://www.lasalle.edu/event/yoga-67/
LOCATION:La Salle Union 301
CATEGORIES:Wellness/Recreation
END:VEVENT
BEGIN:VEVENT
DTSTART;TZID=America/New_York:20260306T170000
DTEND;TZID=America/New_York:20260306T190000
DTSTAMP:20260423T180348
CREATED:20260224T154543Z
LAST-MODIFIED:20260306T233411Z
UID:10005575-1772816400-1772823600@www.lasalle.edu
SUMMARY:Praise dance
DESCRIPTION:Praise dance
URL:https://www.lasalle.edu/event/praise-dance-9/
LOCATION:La Salle Union 301
CATEGORIES:Meeting - General
END:VEVENT
BEGIN:VEVENT
DTSTART;TZID=America/New_York:20260227T170000
DTEND;TZID=America/New_York:20260227T190000
DTSTAMP:20260423T180348
CREATED:20260218T073725Z
LAST-MODIFIED:20260227T234626Z
UID:10005548-1772211600-1772218800@www.lasalle.edu
SUMMARY:Praise dance
DESCRIPTION:Praise dance
URL:https://www.lasalle.edu/event/praise-dance-8/
LOCATION:La Salle Union 301
CATEGORIES:Meeting - General
END:VEVENT
BEGIN:VEVENT
DTSTART;TZID=America/New_York:20260223T193000
DTEND;TZID=America/New_York:20260223T203000
DTSTAMP:20260423T180348
CREATED:20260213T074718Z
LAST-MODIFIED:20260223T234636Z
UID:10005530-1771875000-1771878600@www.lasalle.edu
SUMMARY:Athlete Yoga
DESCRIPTION:Athlete Yoga
URL:https://www.lasalle.edu/event/athlete-yoga-7/
LOCATION:La Salle Union 301
CATEGORIES:Entertainment
END:VEVENT
BEGIN:VEVENT
DTSTART;TZID=America/New_York:20260220T170000
DTEND;TZID=America/New_York:20260220T190000
DTSTAMP:20260423T180348
CREATED:20260211T174554Z
LAST-MODIFIED:20260220T224733Z
UID:10005525-1771606800-1771614000@www.lasalle.edu
SUMMARY:Praise dance
DESCRIPTION:Praise dance
URL:https://www.lasalle.edu/event/praise-dance-7/
LOCATION:La Salle Union 301
CATEGORIES:Meeting - General
END:VEVENT
BEGIN:VEVENT
DTSTART;TZID=America/New_York:20260216T193000
DTEND;TZID=America/New_York:20260216T203000
DTSTAMP:20260423T180348
CREATED:20260107T093358Z
LAST-MODIFIED:20260217T004214Z
UID:10005413-1771270200-1771273800@www.lasalle.edu
SUMMARY:Athlete Yoga
DESCRIPTION:Athlete Yoga
URL:https://www.lasalle.edu/event/athlete-yoga-6/
LOCATION:La Salle Union 301
CATEGORIES:Entertainment
END:VEVENT
BEGIN:VEVENT
DTSTART;TZID=America/New_York:20260213T170000
DTEND;TZID=America/New_York:20260213T190000
DTSTAMP:20260423T180348
CREATED:20260206T123632Z
LAST-MODIFIED:20260213T233900Z
UID:10005507-1771002000-1771009200@www.lasalle.edu
SUMMARY:Praise dance
DESCRIPTION:Praise dance
URL:https://www.lasalle.edu/event/praise-dance-6/
LOCATION:La Salle Union 301
CATEGORIES:Meeting - General
END:VEVENT
BEGIN:VEVENT
DTSTART;TZID=America/New_York:20260209T193000
DTEND;TZID=America/New_York:20260209T203000
DTSTAMP:20260423T180348
CREATED:20251224T204219Z
LAST-MODIFIED:20260210T003753Z
UID:10005411-1770665400-1770669000@www.lasalle.edu
SUMMARY:Athlete Yoga
DESCRIPTION:Athlete Yoga
URL:https://www.lasalle.edu/event/athlete-yoga-5/
LOCATION:La Salle Union 301
CATEGORIES:Entertainment
END:VEVENT
BEGIN:VEVENT
DTSTART;TZID=America/New_York:20260206T170000
DTEND;TZID=America/New_York:20260206T190000
DTSTAMP:20260423T180348
CREATED:20260130T203403Z
LAST-MODIFIED:20260206T235033Z
UID:10005484-1770397200-1770404400@www.lasalle.edu
SUMMARY:Praise dance
DESCRIPTION:Praise dance
URL:https://www.lasalle.edu/event/praise-dance-5/
LOCATION:La Salle Union 301
CATEGORIES:Meeting - General
END:VEVENT
BEGIN:VEVENT
DTSTART;TZID=America/New_York:20260202T193000
DTEND;TZID=America/New_York:20260202T203000
DTSTAMP:20260423T180348
CREATED:20251224T204217Z
LAST-MODIFIED:20260203T004249Z
UID:10005408-1770060600-1770064200@www.lasalle.edu
SUMMARY:Athlete Yoga
DESCRIPTION:Athlete Yoga
URL:https://www.lasalle.edu/event/athlete-yoga-4/
LOCATION:La Salle Union 301
CATEGORIES:Entertainment
END:VEVENT
BEGIN:VEVENT
DTSTART;TZID=America/New_York:20260130T170000
DTEND;TZID=America/New_York:20260130T190000
DTSTAMP:20260423T180348
CREATED:20260121T134338Z
LAST-MODIFIED:20260130T233550Z
UID:10005450-1769792400-1769799600@www.lasalle.edu
SUMMARY:Praise dance
DESCRIPTION:Praise dance
URL:https://www.lasalle.edu/event/praise-dance-4/
LOCATION:La Salle Union 301
CATEGORIES:Meeting - General
END:VEVENT
BEGIN:VEVENT
DTSTART;TZID=America/New_York:20260126T193000
DTEND;TZID=America/New_York:20260126T203000
DTSTAMP:20260423T180348
CREATED:20251216T133657Z
LAST-MODIFIED:20260127T003447Z
UID:10005395-1769455800-1769459400@www.lasalle.edu
SUMMARY:Athlete Yoga
DESCRIPTION:Athlete Yoga
URL:https://www.lasalle.edu/event/athlete-yoga-3/
LOCATION:La Salle Union 301
CATEGORIES:Entertainment
END:VEVENT
BEGIN:VEVENT
DTSTART;TZID=America/New_York:20260123T170000
DTEND;TZID=America/New_York:20260123T190000
DTSTAMP:20260423T180348
CREATED:20260109T023759Z
LAST-MODIFIED:20260123T233649Z
UID:10005428-1769187600-1769194800@www.lasalle.edu
SUMMARY:Praise dance
DESCRIPTION:Praise dance
URL:https://www.lasalle.edu/event/praise-dance-3/
LOCATION:La Salle Union 301
CATEGORIES:Meeting - General
END:VEVENT
BEGIN:VEVENT
DTSTART;TZID=America/New_York:20260121T170000
DTEND;TZID=America/New_York:20260121T190000
DTSTAMP:20260423T180348
CREATED:20260108T173318Z
LAST-MODIFIED:20260121T233807Z
UID:10005420-1769014800-1769022000@www.lasalle.edu
SUMMARY:Praise dance
DESCRIPTION:Praise dance
URL:https://www.lasalle.edu/event/praise-dance/
LOCATION:La Salle Union 301
CATEGORIES:Meeting - General
END:VEVENT
BEGIN:VEVENT
DTSTART;TZID=America/New_York:20260119T193000
DTEND;TZID=America/New_York:20260119T203000
DTSTAMP:20260423T180348
CREATED:20251212T003941Z
LAST-MODIFIED:20260120T003833Z
UID:10005394-1768851000-1768854600@www.lasalle.edu
SUMMARY:Athlete Yoga
DESCRIPTION:Athlete Yoga
URL:https://www.lasalle.edu/event/athlete-yoga-2/
LOCATION:La Salle Union 301
CATEGORIES:Entertainment
END:VEVENT
BEGIN:VEVENT
DTSTART;TZID=America/New_York:20260116T170000
DTEND;TZID=America/New_York:20260116T190000
DTSTAMP:20260423T180348
CREATED:20260108T173931Z
LAST-MODIFIED:20260116T233310Z
UID:10005421-1768582800-1768590000@www.lasalle.edu
SUMMARY:Praise dance
DESCRIPTION:Praise dance
URL:https://www.lasalle.edu/event/praise-dance-2/
LOCATION:La Salle Union 301
CATEGORIES:Meeting - General
END:VEVENT
END:VCALENDAR