BEGIN:VCALENDAR
VERSION:2.0
PRODID:-//La Salle University - ECPv6.15.20//NONSGML v1.0//EN
CALSCALE:GREGORIAN
METHOD:PUBLISH
X-WR-CALNAME:La Salle University
X-ORIGINAL-URL:https://www.lasalle.edu
X-WR-CALDESC:Events for La Salle University
REFRESH-INTERVAL;VALUE=DURATION:PT1H
X-Robots-Tag:noindex
X-PUBLISHED-TTL:PT1H
BEGIN:VTIMEZONE
TZID:America/New_York
BEGIN:DAYLIGHT
TZOFFSETFROM:-0500
TZOFFSETTO:-0400
TZNAME:EDT
DTSTART:20230312T070000
END:DAYLIGHT
BEGIN:STANDARD
TZOFFSETFROM:-0400
TZOFFSETTO:-0500
TZNAME:EST
DTSTART:20231105T060000
END:STANDARD
BEGIN:DAYLIGHT
TZOFFSETFROM:-0500
TZOFFSETTO:-0400
TZNAME:EDT
DTSTART:20240310T070000
END:DAYLIGHT
BEGIN:STANDARD
TZOFFSETFROM:-0400
TZOFFSETTO:-0500
TZNAME:EST
DTSTART:20241103T060000
END:STANDARD
BEGIN:DAYLIGHT
TZOFFSETFROM:-0500
TZOFFSETTO:-0400
TZNAME:EDT
DTSTART:20250309T070000
END:DAYLIGHT
BEGIN:STANDARD
TZOFFSETFROM:-0400
TZOFFSETTO:-0500
TZNAME:EST
DTSTART:20251102T060000
END:STANDARD
BEGIN:DAYLIGHT
TZOFFSETFROM:-0500
TZOFFSETTO:-0400
TZNAME:EDT
DTSTART:20260308T070000
END:DAYLIGHT
BEGIN:STANDARD
TZOFFSETFROM:-0400
TZOFFSETTO:-0500
TZNAME:EST
DTSTART:20261101T060000
END:STANDARD
BEGIN:DAYLIGHT
TZOFFSETFROM:-0500
TZOFFSETTO:-0400
TZNAME:EDT
DTSTART:20270314T070000
END:DAYLIGHT
BEGIN:STANDARD
TZOFFSETFROM:-0400
TZOFFSETTO:-0500
TZNAME:EST
DTSTART:20271107T060000
END:STANDARD
END:VTIMEZONE
BEGIN:VEVENT
DTSTART;TZID=America/New_York:20260302T193000
DTEND;TZID=America/New_York:20260302T203000
DTSTAMP:20260420T212817
CREATED:20260220T075508Z
LAST-MODIFIED:20260302T235351Z
UID:10005556-1772479800-1772483400@www.lasalle.edu
SUMMARY:Athlete Yoga
DESCRIPTION:Athlete Yoga
URL:https://www.lasalle.edu/event/athlete-yoga-8/
LOCATION:La Salle Union 308
CATEGORIES:Entertainment
END:VEVENT
BEGIN:VEVENT
DTSTART;TZID=America/New_York:20240918T190000
DTEND;TZID=America/New_York:20240918T210000
DTSTAMP:20260420T212817
CREATED:20240916T044725Z
LAST-MODIFIED:20240919T004022Z
UID:10003391-1726686000-1726693200@www.lasalle.edu
SUMMARY:Smash Brothers Tournament
DESCRIPTION:Smash brothers Tournament
URL:https://www.lasalle.edu/event/smash-brothers-tournament/
LOCATION:La Salle Union 308
CATEGORIES:Wellness/Recreation
END:VEVENT
BEGIN:VEVENT
DTSTART;TZID=America/New_York:20240917T190000
DTEND;TZID=America/New_York:20240917T203000
DTSTAMP:20260420T212817
CREATED:20240915T064740Z
LAST-MODIFIED:20240918T003815Z
UID:10003385-1726599600-1726605000@www.lasalle.edu
SUMMARY:Self Defense
DESCRIPTION:Self Defense
URL:https://www.lasalle.edu/event/self-defense-2/
LOCATION:La Salle Union 308
CATEGORIES:Wellness/Recreation
END:VEVENT
BEGIN:VEVENT
DTSTART;TZID=America/New_York:20240123T123000
DTEND;TZID=America/New_York:20240123T133000
DTSTAMP:20260420T212817
CREATED:20240111T124452Z
LAST-MODIFIED:20240121T184025Z
UID:10002183-1706013000-1706016600@www.lasalle.edu
SUMMARY:LIVE Trips Information Session
DESCRIPTION:Come learn more about the 2024 Spring Break Lasallian Immersion and Volunteer Experience Trips!
URL:https://www.lasalle.edu/event/live-trips-information-session/
LOCATION:La Salle Union 308
CATEGORIES:Academic-DAY,Service
END:VEVENT
END:VCALENDAR