BEGIN:VCALENDAR
VERSION:2.0
PRODID:-//La Salle University - ECPv6.15.20//NONSGML v1.0//EN
CALSCALE:GREGORIAN
METHOD:PUBLISH
X-WR-CALNAME:La Salle University
X-ORIGINAL-URL:https://www.lasalle.edu
X-WR-CALDESC:Events for La Salle University
REFRESH-INTERVAL;VALUE=DURATION:PT1H
X-Robots-Tag:noindex
X-PUBLISHED-TTL:PT1H
BEGIN:VTIMEZONE
TZID:America/New_York
BEGIN:DAYLIGHT
TZOFFSETFROM:-0500
TZOFFSETTO:-0400
TZNAME:EDT
DTSTART:20240310T070000
END:DAYLIGHT
BEGIN:STANDARD
TZOFFSETFROM:-0400
TZOFFSETTO:-0500
TZNAME:EST
DTSTART:20241103T060000
END:STANDARD
BEGIN:DAYLIGHT
TZOFFSETFROM:-0500
TZOFFSETTO:-0400
TZNAME:EDT
DTSTART:20250309T070000
END:DAYLIGHT
BEGIN:STANDARD
TZOFFSETFROM:-0400
TZOFFSETTO:-0500
TZNAME:EST
DTSTART:20251102T060000
END:STANDARD
BEGIN:DAYLIGHT
TZOFFSETFROM:-0500
TZOFFSETTO:-0400
TZNAME:EDT
DTSTART:20260308T070000
END:DAYLIGHT
BEGIN:STANDARD
TZOFFSETFROM:-0400
TZOFFSETTO:-0500
TZNAME:EST
DTSTART:20261101T060000
END:STANDARD
BEGIN:DAYLIGHT
TZOFFSETFROM:-0500
TZOFFSETTO:-0400
TZNAME:EDT
DTSTART:20270314T070000
END:DAYLIGHT
BEGIN:STANDARD
TZOFFSETFROM:-0400
TZOFFSETTO:-0500
TZNAME:EST
DTSTART:20271107T060000
END:STANDARD
END:VTIMEZONE
BEGIN:VEVENT
DTSTART;TZID=America/New_York:20260417T090000
DTEND;TZID=America/New_York:20260417T100000
DTSTAMP:20260420T212818
CREATED:20260417T014746Z
LAST-MODIFIED:20260417T134953Z
UID:10005730-1776416400-1776420000@www.lasalle.edu
SUMMARY:Panhellenic and IFC meeting. 
DESCRIPTION:Panhellenic and IFC meeting. 
URL:https://www.lasalle.edu/event/panhellenic-and-ifc-meeting/
LOCATION:La Salle Union 310
CATEGORIES:Meeting - General
END:VEVENT
BEGIN:VEVENT
DTSTART;TZID=America/New_York:20251218T123000
DTEND;TZID=America/New_York:20251218T140000
DTSTAMP:20260420T212818
CREATED:20251205T103707Z
LAST-MODIFIED:20251218T183601Z
UID:10005357-1766061000-1766066400@www.lasalle.edu
SUMMARY:OLAS
DESCRIPTION:OLAS
URL:https://www.lasalle.edu/event/olas-8/
LOCATION:La Salle Union 310
CATEGORIES:Meeting - General
END:VEVENT
BEGIN:VEVENT
DTSTART;TZID=America/New_York:20251204T123000
DTEND;TZID=America/New_York:20251204T140000
DTSTAMP:20260420T212818
CREATED:20251121T085125Z
LAST-MODIFIED:20251204T184653Z
UID:10005319-1764851400-1764856800@www.lasalle.edu
SUMMARY:OLAS
DESCRIPTION:OLAS
URL:https://www.lasalle.edu/event/olas-7/
LOCATION:La Salle Union 310
CATEGORIES:Meeting - General
END:VEVENT
BEGIN:VEVENT
DTSTART;TZID=America/New_York:20251121T130000
DTEND;TZID=America/New_York:20251121T140000
DTSTAMP:20260420T212818
CREATED:20251112T064432Z
LAST-MODIFIED:20251121T183244Z
UID:10005284-1763730000-1763733600@www.lasalle.edu
SUMMARY:Student Engagement Council Mtg (SEC)
DESCRIPTION:Student Engagement Council Mtg (SEC)
URL:https://www.lasalle.edu/event/student-engagement-council-mtg-sec-11/
LOCATION:La Salle Union 310
CATEGORIES:Meeting - General
END:VEVENT
BEGIN:VEVENT
DTSTART;TZID=America/New_York:20251120T123000
DTEND;TZID=America/New_York:20251120T140000
DTSTAMP:20260420T212818
CREATED:20251109T203604Z
LAST-MODIFIED:20251120T183417Z
UID:10005278-1763641800-1763647200@www.lasalle.edu
SUMMARY:OLAS
DESCRIPTION:OLAS
URL:https://www.lasalle.edu/event/olas-6/
LOCATION:La Salle Union 310
CATEGORIES:Meeting - General
END:VEVENT
BEGIN:VEVENT
DTSTART;TZID=America/New_York:20251106T123000
DTEND;TZID=America/New_York:20251106T140000
DTSTAMP:20260420T212818
CREATED:20251102T163232Z
LAST-MODIFIED:20251106T183130Z
UID:10005222-1762432200-1762437600@www.lasalle.edu
SUMMARY:OLAS
DESCRIPTION:OLAS
URL:https://www.lasalle.edu/event/olas-5/
LOCATION:La Salle Union 310
CATEGORIES:Meeting - General
END:VEVENT
BEGIN:VEVENT
DTSTART;TZID=America/New_York:20251031T131500
DTEND;TZID=America/New_York:20251031T141500
DTSTAMP:20260420T212818
CREATED:20251029T005014Z
LAST-MODIFIED:20251031T173447Z
UID:10005194-1761916500-1761920100@www.lasalle.edu
SUMMARY:Director of Conduct and Community Affairs Search
DESCRIPTION:Director of Conduct and Community Affairs Search
URL:https://www.lasalle.edu/event/director-of-conduct-and-community-affairs-search-2/
LOCATION:La Salle Union 310
CATEGORIES:Job/Career
END:VEVENT
BEGIN:VEVENT
DTSTART;TZID=America/New_York:20251031T100000
DTEND;TZID=America/New_York:20251031T120000
DTSTAMP:20260420T212818
CREATED:20251028T205203Z
LAST-MODIFIED:20251031T153216Z
UID:10005192-1761904800-1761912000@www.lasalle.edu
SUMMARY:Director of Conduct and Community Affairs Search
DESCRIPTION:Director of Conduct and Community Affairs Search
URL:https://www.lasalle.edu/event/director-of-conduct-and-community-affairs-search/
LOCATION:La Salle Union 310
CATEGORIES:Job/Career
END:VEVENT
BEGIN:VEVENT
DTSTART;TZID=America/New_York:20251023T123000
DTEND;TZID=America/New_York:20251023T140000
DTSTAMP:20260420T212818
CREATED:20251019T004129Z
LAST-MODIFIED:20251023T173248Z
UID:10005154-1761222600-1761228000@www.lasalle.edu
SUMMARY:OLAS
DESCRIPTION:OLAS
URL:https://www.lasalle.edu/event/olas-4/
LOCATION:La Salle Union 310
CATEGORIES:Meeting - General
END:VEVENT
BEGIN:VEVENT
DTSTART;TZID=America/New_York:20251015T170000
DTEND;TZID=America/New_York:20251015T180000
DTSTAMP:20260420T212818
CREATED:20251014T163304Z
LAST-MODIFIED:20251015T213724Z
UID:10005127-1760547600-1760551200@www.lasalle.edu
SUMMARY:General Meeting
DESCRIPTION:General Meeting
URL:https://www.lasalle.edu/event/general-meeting/
LOCATION:La Salle Union 310
CATEGORIES:Meeting - General
END:VEVENT
BEGIN:VEVENT
DTSTART;TZID=America/New_York:20251002T123000
DTEND;TZID=America/New_York:20251002T140000
DTSTAMP:20260420T212818
CREATED:20251001T003932Z
LAST-MODIFIED:20251002T173207Z
UID:10005072-1759408200-1759413600@www.lasalle.edu
SUMMARY:OLAS
DESCRIPTION:OLAS
URL:https://www.lasalle.edu/event/olas-2/
LOCATION:La Salle Union 310
CATEGORIES:Meeting - General
END:VEVENT
BEGIN:VEVENT
DTSTART;TZID=America/New_York:20250512T211500
DTEND;TZID=America/New_York:20250512T223000
DTSTAMP:20260420T212818
CREATED:20250511T113106Z
LAST-MODIFIED:20250513T015148Z
UID:10004624-1747084500-1747089000@www.lasalle.edu
SUMMARY:Phi Mu Chapter Meeting
DESCRIPTION:Phi Mu Chapter Meeting
URL:https://www.lasalle.edu/event/phi-mu-chapter-meeting-37/
LOCATION:La Salle Union 310
CATEGORIES:Meeting - General
END:VEVENT
BEGIN:VEVENT
DTSTART;TZID=America/New_York:20250505T211500
DTEND;TZID=America/New_York:20250505T223000
DTSTAMP:20260420T212818
CREATED:20250428T223744Z
LAST-MODIFIED:20250506T023210Z
UID:10004577-1746479700-1746484200@www.lasalle.edu
SUMMARY:Phi Mu Chapter Meeting
DESCRIPTION:Phi Mu Chapter Meeting
URL:https://www.lasalle.edu/event/phi-mu-chapter-meeting-36/
LOCATION:La Salle Union 310
CATEGORIES:Meeting - General
END:VEVENT
BEGIN:VEVENT
DTSTART;TZID=America/New_York:20250428T211500
DTEND;TZID=America/New_York:20250428T223000
DTSTAMP:20260420T212818
CREATED:20250422T204356Z
LAST-MODIFIED:20250429T013639Z
UID:10004555-1745874900-1745879400@www.lasalle.edu
SUMMARY:Phi Mu Chapter Meeting
DESCRIPTION:Phi Mu Chapter Meeting
URL:https://www.lasalle.edu/event/phi-mu-chapter-meeting-35/
LOCATION:La Salle Union 310
CATEGORIES:Meeting - General
END:VEVENT
BEGIN:VEVENT
DTSTART;TZID=America/New_York:20250421T211500
DTEND;TZID=America/New_York:20250421T223000
DTSTAMP:20260420T212818
CREATED:20250415T093753Z
LAST-MODIFIED:20250422T014052Z
UID:10004531-1745270100-1745274600@www.lasalle.edu
SUMMARY:Phi Mu Chapter Meeting
DESCRIPTION:Phi Mu Chapter Meeting
URL:https://www.lasalle.edu/event/phi-mu-chapter-meeting-34/
LOCATION:La Salle Union 310
CATEGORIES:Meeting - General
END:VEVENT
BEGIN:VEVENT
DTSTART;TZID=America/New_York:20250414T211500
DTEND;TZID=America/New_York:20250414T223000
DTSTAMP:20260420T212818
CREATED:20250412T103812Z
LAST-MODIFIED:20250415T014902Z
UID:10004512-1744665300-1744669800@www.lasalle.edu
SUMMARY:Phi Mu Chapter Meeting
DESCRIPTION:Phi Mu Chapter Meeting
URL:https://www.lasalle.edu/event/phi-mu-chapter-meeting-33/
LOCATION:La Salle Union 310
CATEGORIES:Meeting - General
END:VEVENT
BEGIN:VEVENT
DTSTART;TZID=America/New_York:20250407T211500
DTEND;TZID=America/New_York:20250407T223000
DTSTAMP:20260420T212818
CREATED:20250405T043648Z
LAST-MODIFIED:20250408T014706Z
UID:10004457-1744060500-1744065000@www.lasalle.edu
SUMMARY:Phi Mu Chapter Meeting
DESCRIPTION:Phi Mu Chapter Meeting
URL:https://www.lasalle.edu/event/phi-mu-chapter-meeting-31/
LOCATION:La Salle Union 310
CATEGORIES:Meeting - General
END:VEVENT
BEGIN:VEVENT
DTSTART;TZID=America/New_York:20250331T200000
DTEND;TZID=America/New_York:20250331T223000
DTSTAMP:20260420T212818
CREATED:20250309T094531Z
LAST-MODIFIED:20250401T014848Z
UID:10004400-1743451200-1743460200@www.lasalle.edu
SUMMARY:Phi Mu Chapter Meeting
DESCRIPTION:Phi Mu Chapter Meeting
URL:https://www.lasalle.edu/event/phi-mu-chapter-meeting-30/
LOCATION:La Salle Union 310
CATEGORIES:Meeting - General
END:VEVENT
BEGIN:VEVENT
DTSTART;TZID=America/New_York:20250324T211500
DTEND;TZID=America/New_York:20250324T223000
DTSTAMP:20260420T212818
CREATED:20250309T084257Z
LAST-MODIFIED:20250325T013825Z
UID:10004368-1742850900-1742855400@www.lasalle.edu
SUMMARY:Phi Mu Chapter Meeting
DESCRIPTION:Phi Mu Chapter Meeting
URL:https://www.lasalle.edu/event/phi-mu-chapter-meeting-29/
LOCATION:La Salle Union 310
CATEGORIES:Meeting - General
END:VEVENT
BEGIN:VEVENT
DTSTART;TZID=America/New_York:20250317T211500
DTEND;TZID=America/New_York:20250317T223000
DTSTAMP:20260420T212818
CREATED:20250304T173248Z
LAST-MODIFIED:20250318T013428Z
UID:10004352-1742246100-1742250600@www.lasalle.edu
SUMMARY:Phi Mu Chapter Meeting
DESCRIPTION:Phi Mu Chapter Meeting
URL:https://www.lasalle.edu/event/phi-mu-chapter-meeting-28/
LOCATION:La Salle Union 310
CATEGORIES:Meeting - General
END:VEVENT
BEGIN:VEVENT
DTSTART;TZID=America/New_York:20250303T211500
DTEND;TZID=America/New_York:20250303T223000
DTSTAMP:20260420T212818
CREATED:20250223T044539Z
LAST-MODIFIED:20250304T023738Z
UID:10004291-1741036500-1741041000@www.lasalle.edu
SUMMARY:Phi Mu Chapter Meeting
DESCRIPTION:Phi Mu Chapter Meeting
URL:https://www.lasalle.edu/event/phi-mu-chapter-meeting-26/
LOCATION:La Salle Union 310
CATEGORIES:Meeting - General
END:VEVENT
BEGIN:VEVENT
DTSTART;TZID=America/New_York:20250226T180000
DTEND;TZID=America/New_York:20250226T200000
DTSTAMP:20260420T212819
CREATED:20250225T223043Z
LAST-MODIFIED:20250227T004547Z
UID:10004302-1740592800-1740600000@www.lasalle.edu
SUMMARY:Zeta Phi Beta
DESCRIPTION:“Glowing the Finer Way” – Zeta Phi Beta
URL:https://www.lasalle.edu/event/zeta-phi-beta-2/
LOCATION:La Salle Union 310
CATEGORIES:Leadership Development
END:VEVENT
BEGIN:VEVENT
DTSTART;TZID=America/New_York:20250224T211500
DTEND;TZID=America/New_York:20250224T223000
DTSTAMP:20260420T212819
CREATED:20250220T083542Z
LAST-MODIFIED:20250225T023836Z
UID:10004260-1740431700-1740436200@www.lasalle.edu
SUMMARY:Phi Mu Chapter Meeting
DESCRIPTION:Phi Mu Chapter Meeting
URL:https://www.lasalle.edu/event/phi-mu-chapter-meeting-25/
LOCATION:La Salle Union 310
CATEGORIES:Meeting - General
END:VEVENT
BEGIN:VEVENT
DTSTART;TZID=America/New_York:20250222T200000
DTEND;TZID=America/New_York:20250222T220000
DTSTAMP:20260420T212819
CREATED:20250218T224512Z
LAST-MODIFIED:20250223T014841Z
UID:10004255-1740254400-1740261600@www.lasalle.edu
SUMMARY:Late Night La Salle - Escape Room
DESCRIPTION:Late Night La Salle – Escape Room
URL:https://www.lasalle.edu/event/late-night-la-salle-escape-room/
LOCATION:La Salle Union 310
CATEGORIES:Entertainment
END:VEVENT
BEGIN:VEVENT
DTSTART;TZID=America/New_York:20250217T211500
DTEND;TZID=America/New_York:20250217T223000
DTSTAMP:20260420T212819
CREATED:20250204T143627Z
LAST-MODIFIED:20250218T025000Z
UID:10004199-1739826900-1739831400@www.lasalle.edu
SUMMARY:Phi Mu Chapter Meeting
DESCRIPTION:Phi Mu Chapter Meeting
URL:https://www.lasalle.edu/event/phi-mu-chapter-meeting-24/
LOCATION:La Salle Union 310
CATEGORIES:Meeting - General
END:VEVENT
BEGIN:VEVENT
DTSTART;TZID=America/New_York:20250210T211500
DTEND;TZID=America/New_York:20250210T223000
DTSTAMP:20260420T212819
CREATED:20250203T064036Z
LAST-MODIFIED:20250211T023912Z
UID:10004164-1739222100-1739226600@www.lasalle.edu
SUMMARY:Phi Mu Chapter Meeting
DESCRIPTION:Phi Mu Chapter Meeting
URL:https://www.lasalle.edu/event/phi-mu-chapter-meeting-23/
LOCATION:La Salle Union 310
CATEGORIES:Meeting - General
END:VEVENT
BEGIN:VEVENT
DTSTART;TZID=America/New_York:20250205T180000
DTEND;TZID=America/New_York:20250205T210000
DTSTAMP:20260420T212819
CREATED:20250203T213332Z
LAST-MODIFIED:20250206T015136Z
UID:10004178-1738778400-1738789200@www.lasalle.edu
SUMMARY:Meet the Sigmas
DESCRIPTION:Meet the Sigmas
URL:https://www.lasalle.edu/event/meet-the-sigmas/
LOCATION:La Salle Union 310
CATEGORIES:Leadership Development
END:VEVENT
BEGIN:VEVENT
DTSTART;TZID=America/New_York:20250203T211500
DTEND;TZID=America/New_York:20250203T223000
DTSTAMP:20260420T212819
CREATED:20250202T044101Z
LAST-MODIFIED:20250204T025321Z
UID:10004141-1738617300-1738621800@www.lasalle.edu
SUMMARY:Phi Mu Chapter Meeting
DESCRIPTION:Phi Mu Chapter Meeting
URL:https://www.lasalle.edu/event/phi-mu-chapter-meeting-21/
LOCATION:La Salle Union 310
CATEGORIES:Meeting - General
END:VEVENT
BEGIN:VEVENT
DTSTART;TZID=America/New_York:20250127T211500
DTEND;TZID=America/New_York:20250127T223000
DTSTAMP:20260420T212819
CREATED:20250116T073857Z
LAST-MODIFIED:20250128T023506Z
UID:10004072-1738012500-1738017000@www.lasalle.edu
SUMMARY:Phi Mu Chapter Meeting
DESCRIPTION:Phi Mu Chapter Meeting
URL:https://www.lasalle.edu/event/phi-mu-chapter-meeting-20/
LOCATION:La Salle Union 310
CATEGORIES:Meeting - General
END:VEVENT
BEGIN:VEVENT
DTSTART;TZID=America/New_York:20250123T123000
DTEND;TZID=America/New_York:20250123T140000
DTSTAMP:20260420T212819
CREATED:20250118T013532Z
LAST-MODIFIED:20250123T183441Z
UID:10004080-1737635400-1737640800@www.lasalle.edu
SUMMARY:CADEO Interest Meeting
DESCRIPTION:CADEO Interest Meeting
URL:https://www.lasalle.edu/event/cadeo-interest-meeting/
LOCATION:La Salle Union 310
CATEGORIES:Entertainment
END:VEVENT
END:VCALENDAR