BEGIN:VCALENDAR
VERSION:2.0
PRODID:-//La Salle University - ECPv6.15.20//NONSGML v1.0//EN
CALSCALE:GREGORIAN
METHOD:PUBLISH
X-WR-CALNAME:La Salle University
X-ORIGINAL-URL:https://www.lasalle.edu
X-WR-CALDESC:Events for La Salle University
REFRESH-INTERVAL;VALUE=DURATION:PT1H
X-Robots-Tag:noindex
X-PUBLISHED-TTL:PT1H
BEGIN:VTIMEZONE
TZID:America/New_York
BEGIN:DAYLIGHT
TZOFFSETFROM:-0500
TZOFFSETTO:-0400
TZNAME:EDT
DTSTART:20220313T070000
END:DAYLIGHT
BEGIN:STANDARD
TZOFFSETFROM:-0400
TZOFFSETTO:-0500
TZNAME:EST
DTSTART:20221106T060000
END:STANDARD
BEGIN:DAYLIGHT
TZOFFSETFROM:-0500
TZOFFSETTO:-0400
TZNAME:EDT
DTSTART:20230312T070000
END:DAYLIGHT
BEGIN:STANDARD
TZOFFSETFROM:-0400
TZOFFSETTO:-0500
TZNAME:EST
DTSTART:20231105T060000
END:STANDARD
BEGIN:DAYLIGHT
TZOFFSETFROM:-0500
TZOFFSETTO:-0400
TZNAME:EDT
DTSTART:20240310T070000
END:DAYLIGHT
BEGIN:STANDARD
TZOFFSETFROM:-0400
TZOFFSETTO:-0500
TZNAME:EST
DTSTART:20241103T060000
END:STANDARD
BEGIN:DAYLIGHT
TZOFFSETFROM:-0500
TZOFFSETTO:-0400
TZNAME:EDT
DTSTART:20250309T070000
END:DAYLIGHT
BEGIN:STANDARD
TZOFFSETFROM:-0400
TZOFFSETTO:-0500
TZNAME:EST
DTSTART:20251102T060000
END:STANDARD
BEGIN:DAYLIGHT
TZOFFSETFROM:-0500
TZOFFSETTO:-0400
TZNAME:EDT
DTSTART:20260308T070000
END:DAYLIGHT
BEGIN:STANDARD
TZOFFSETFROM:-0400
TZOFFSETTO:-0500
TZNAME:EST
DTSTART:20261101T060000
END:STANDARD
END:VTIMEZONE
BEGIN:VEVENT
DTSTART;TZID=America/New_York:20250217T211500
DTEND;TZID=America/New_York:20250217T223000
DTSTAMP:20260424T183658
CREATED:20250204T143627Z
LAST-MODIFIED:20250218T025000Z
UID:10004199-1739826900-1739831400@www.lasalle.edu
SUMMARY:Phi Mu Chapter Meeting
DESCRIPTION:Phi Mu Chapter Meeting
URL:https://www.lasalle.edu/event/phi-mu-chapter-meeting-24/
LOCATION:La Salle Union 310
CATEGORIES:Meeting - General
END:VEVENT
BEGIN:VEVENT
DTSTART;TZID=America/New_York:20250210T211500
DTEND;TZID=America/New_York:20250210T223000
DTSTAMP:20260424T183658
CREATED:20250203T064036Z
LAST-MODIFIED:20250211T023912Z
UID:10004164-1739222100-1739226600@www.lasalle.edu
SUMMARY:Phi Mu Chapter Meeting
DESCRIPTION:Phi Mu Chapter Meeting
URL:https://www.lasalle.edu/event/phi-mu-chapter-meeting-23/
LOCATION:La Salle Union 310
CATEGORIES:Meeting - General
END:VEVENT
BEGIN:VEVENT
DTSTART;TZID=America/New_York:20250205T180000
DTEND;TZID=America/New_York:20250205T210000
DTSTAMP:20260424T183658
CREATED:20250203T213332Z
LAST-MODIFIED:20250206T015136Z
UID:10004178-1738778400-1738789200@www.lasalle.edu
SUMMARY:Meet the Sigmas
DESCRIPTION:Meet the Sigmas
URL:https://www.lasalle.edu/event/meet-the-sigmas/
LOCATION:La Salle Union 310
CATEGORIES:Leadership Development
END:VEVENT
BEGIN:VEVENT
DTSTART;TZID=America/New_York:20250203T211500
DTEND;TZID=America/New_York:20250203T223000
DTSTAMP:20260424T183658
CREATED:20250202T044101Z
LAST-MODIFIED:20250204T025321Z
UID:10004141-1738617300-1738621800@www.lasalle.edu
SUMMARY:Phi Mu Chapter Meeting
DESCRIPTION:Phi Mu Chapter Meeting
URL:https://www.lasalle.edu/event/phi-mu-chapter-meeting-21/
LOCATION:La Salle Union 310
CATEGORIES:Meeting - General
END:VEVENT
BEGIN:VEVENT
DTSTART;TZID=America/New_York:20250127T211500
DTEND;TZID=America/New_York:20250127T223000
DTSTAMP:20260424T183658
CREATED:20250116T073857Z
LAST-MODIFIED:20250128T023506Z
UID:10004072-1738012500-1738017000@www.lasalle.edu
SUMMARY:Phi Mu Chapter Meeting
DESCRIPTION:Phi Mu Chapter Meeting
URL:https://www.lasalle.edu/event/phi-mu-chapter-meeting-20/
LOCATION:La Salle Union 310
CATEGORIES:Meeting - General
END:VEVENT
BEGIN:VEVENT
DTSTART;TZID=America/New_York:20250123T123000
DTEND;TZID=America/New_York:20250123T140000
DTSTAMP:20260424T183658
CREATED:20250118T013532Z
LAST-MODIFIED:20250123T183441Z
UID:10004080-1737635400-1737640800@www.lasalle.edu
SUMMARY:CADEO Interest Meeting
DESCRIPTION:CADEO Interest Meeting
URL:https://www.lasalle.edu/event/cadeo-interest-meeting/
LOCATION:La Salle Union 310
CATEGORIES:Entertainment
END:VEVENT
BEGIN:VEVENT
DTSTART;TZID=America/New_York:20250120T211500
DTEND;TZID=America/New_York:20250120T223000
DTSTAMP:20260424T183658
CREATED:20241212T224207Z
LAST-MODIFIED:20250121T023410Z
UID:10004022-1737407700-1737412200@www.lasalle.edu
SUMMARY:Phi Mu Chapter Meeting
DESCRIPTION:Phi Mu Chapter Meeting
URL:https://www.lasalle.edu/event/phi-mu-chapter-meeting-18/
LOCATION:La Salle Union 310
CATEGORIES:Meeting - General
END:VEVENT
BEGIN:VEVENT
DTSTART;TZID=America/New_York:20250113T200000
DTEND;TZID=America/New_York:20250113T211500
DTSTAMP:20260424T183658
CREATED:20241212T223815Z
LAST-MODIFIED:20250114T013543Z
UID:10004010-1736798400-1736802900@www.lasalle.edu
SUMMARY:Phi Mu Chapter Meeting
DESCRIPTION:Phi Mu Chapter Meeting
URL:https://www.lasalle.edu/event/phi-mu-chapter-meeting-17/
LOCATION:La Salle Union 310
CATEGORIES:Meeting - General
END:VEVENT
BEGIN:VEVENT
DTSTART;TZID=America/New_York:20241209T211500
DTEND;TZID=America/New_York:20241209T223000
DTSTAMP:20260424T183658
CREATED:20241126T133632Z
LAST-MODIFIED:20241209T174751Z
UID:10003941-1733778900-1733783400@www.lasalle.edu
SUMMARY:Phi Mu Chapter Meeting
DESCRIPTION:Phi Mu Chapter Meeting
URL:https://www.lasalle.edu/event/phi-mu-chapter-meeting-16/
LOCATION:La Salle Union 310
CATEGORIES:Meeting - General
END:VEVENT
BEGIN:VEVENT
DTSTART;TZID=America/New_York:20241202T211500
DTEND;TZID=America/New_York:20241202T223000
DTSTAMP:20260424T183658
CREATED:20241105T023253Z
LAST-MODIFIED:20241203T024602Z
UID:10003888-1733174100-1733178600@www.lasalle.edu
SUMMARY:Phi Mu Chapter Meeting
DESCRIPTION:Phi Mu Chapter Meeting
URL:https://www.lasalle.edu/event/phi-mu-chapter-meeting-15/
LOCATION:La Salle Union 310
CATEGORIES:Meeting - General
END:VEVENT
BEGIN:VEVENT
DTSTART;TZID=America/New_York:20241125T211500
DTEND;TZID=America/New_York:20241125T223000
DTSTAMP:20260424T183658
CREATED:20241105T013619Z
LAST-MODIFIED:20241126T023543Z
UID:10003870-1732569300-1732573800@www.lasalle.edu
SUMMARY:Phi Mu Chapter Meeting
DESCRIPTION:Phi Mu Chapter Meeting
URL:https://www.lasalle.edu/event/phi-mu-chapter-meeting-14/
LOCATION:La Salle Union 310
CATEGORIES:Meeting - General
END:VEVENT
BEGIN:VEVENT
DTSTART;TZID=America/New_York:20241118T211500
DTEND;TZID=America/New_York:20241118T223000
DTSTAMP:20260424T183658
CREATED:20241104T094032Z
LAST-MODIFIED:20241119T013703Z
UID:10003843-1731964500-1731969000@www.lasalle.edu
SUMMARY:Phi Mu Chapter Meeting
DESCRIPTION:Phi Mu Chapter Meeting
URL:https://www.lasalle.edu/event/phi-mu-chapter-meeting-13/
LOCATION:La Salle Union 310
CATEGORIES:Meeting - General
END:VEVENT
BEGIN:VEVENT
DTSTART;TZID=America/New_York:20241111T211500
DTEND;TZID=America/New_York:20241111T223000
DTSTAMP:20260424T183658
CREATED:20241104T073656Z
LAST-MODIFIED:20241112T023444Z
UID:10003809-1731359700-1731364200@www.lasalle.edu
SUMMARY:Phi Mu Chapter Meeting
DESCRIPTION:Phi Mu Chapter Meeting
URL:https://www.lasalle.edu/event/phi-mu-chapter-meeting-12/
LOCATION:La Salle Union 310
CATEGORIES:Meeting - General
END:VEVENT
BEGIN:VEVENT
DTSTART;TZID=America/New_York:20241104T211500
DTEND;TZID=America/New_York:20241104T223000
DTSTAMP:20260424T183658
CREATED:20241102T015354Z
LAST-MODIFIED:20241104T194313Z
UID:10003750-1730754900-1730759400@www.lasalle.edu
SUMMARY:Phi Mu Chapter Meeting
DESCRIPTION:Phi Mu Chapter Meeting
URL:https://www.lasalle.edu/event/phi-mu-chapter-meeting-11/
LOCATION:La Salle Union 310
CATEGORIES:Meeting - General
END:VEVENT
BEGIN:VEVENT
DTSTART;TZID=America/New_York:20241028T211500
DTEND;TZID=America/New_York:20241028T223000
DTSTAMP:20260424T183658
CREATED:20241026T194508Z
LAST-MODIFIED:20241029T013523Z
UID:10003700-1730150100-1730154600@www.lasalle.edu
SUMMARY:Phi Mu Chapter Meeting
DESCRIPTION:Phi Mu Chapter Meeting
URL:https://www.lasalle.edu/event/phi-mu-chapter-meeting-10/
LOCATION:La Salle Union 310
CATEGORIES:Meeting - General
END:VEVENT
BEGIN:VEVENT
DTSTART;TZID=America/New_York:20241026T130000
DTEND;TZID=America/New_York:20241026T220000
DTSTAMP:20260424T183658
CREATED:20241025T024120Z
LAST-MODIFIED:20241027T014559Z
UID:10003689-1729947600-1729980000@www.lasalle.edu
SUMMARY:Panhellenic Leadership Retreat
DESCRIPTION:Panhellenic Leadership Retreat
URL:https://www.lasalle.edu/event/panhellenic-leadership-retreat-2/
LOCATION:La Salle Union 310
CATEGORIES:Leadership Development
END:VEVENT
BEGIN:VEVENT
DTSTART;TZID=America/New_York:20241021T211500
DTEND;TZID=America/New_York:20241021T223000
DTSTAMP:20260424T183658
CREATED:20241021T003704Z
LAST-MODIFIED:20241022T014515Z
UID:10003640-1729545300-1729549800@www.lasalle.edu
SUMMARY:Phi Mu Chapter Meeting
DESCRIPTION:Phi Mu Chapter Meeting
URL:https://www.lasalle.edu/event/phi-mu-chapter-meeting-9/
LOCATION:La Salle Union 310
CATEGORIES:Meeting - General
END:VEVENT
BEGIN:VEVENT
DTSTART;TZID=America/New_York:20241014T211500
DTEND;TZID=America/New_York:20241014T223000
DTSTAMP:20260424T183658
CREATED:20241008T184159Z
LAST-MODIFIED:20241015T014023Z
UID:10003534-1728940500-1728945000@www.lasalle.edu
SUMMARY:Phi Mu Chapter Meeting
DESCRIPTION:Phi Mu Chapter Meeting
URL:https://www.lasalle.edu/event/phi-mu-chapter-meeting-8/
LOCATION:La Salle Union 310
CATEGORIES:Meeting - General
END:VEVENT
BEGIN:VEVENT
DTSTART;TZID=America/New_York:20241007T211500
DTEND;TZID=America/New_York:20241007T223000
DTSTAMP:20260424T183658
CREATED:20241003T184450Z
LAST-MODIFIED:20241008T015327Z
UID:10003505-1728335700-1728340200@www.lasalle.edu
SUMMARY:Phi Mu Chapter Meeting
DESCRIPTION:Phi Mu Chapter Meeting
URL:https://www.lasalle.edu/event/phi-mu-chapter-meeting-7/
LOCATION:La Salle Union 310
CATEGORIES:Meeting - General
END:VEVENT
BEGIN:VEVENT
DTSTART;TZID=America/New_York:20240930T211500
DTEND;TZID=America/New_York:20240930T223000
DTSTAMP:20260424T183658
CREATED:20240928T214242Z
LAST-MODIFIED:20241001T013757Z
UID:10003470-1727730900-1727735400@www.lasalle.edu
SUMMARY:Phi Mu Chapter Meeting
DESCRIPTION:Phi Mu Chapter Meeting
URL:https://www.lasalle.edu/event/phi-mu-chapter-meeting-6/
LOCATION:La Salle Union 310
CATEGORIES:Meeting - General
END:VEVENT
BEGIN:VEVENT
DTSTART;TZID=America/New_York:20240923T211500
DTEND;TZID=America/New_York:20240923T223000
DTSTAMP:20260424T183658
CREATED:20240919T224034Z
LAST-MODIFIED:20240924T022509Z
UID:10003420-1727126100-1727130600@www.lasalle.edu
SUMMARY:Phi Mu Chapter Meeting
DESCRIPTION:Phi Mu Chapter Meeting
URL:https://www.lasalle.edu/event/phi-mu-chapter-meeting-5/
LOCATION:La Salle Union 310
CATEGORIES:Meeting - General
END:VEVENT
BEGIN:VEVENT
DTSTART;TZID=America/New_York:20240916T211500
DTEND;TZID=America/New_York:20240916T223000
DTSTAMP:20260424T183658
CREATED:20240912T233553Z
LAST-MODIFIED:20240917T013845Z
UID:10003377-1726521300-1726525800@www.lasalle.edu
SUMMARY:Phi Mu Chapter Meeting
DESCRIPTION:Phi Mu Chapter Meeting
URL:https://www.lasalle.edu/event/phi-mu-chapter-meeting-4/
LOCATION:La Salle Union 310
CATEGORIES:Meeting - General
END:VEVENT
BEGIN:VEVENT
DTSTART;TZID=America/New_York:20240909T211500
DTEND;TZID=America/New_York:20240909T223000
DTSTAMP:20260424T183658
CREATED:20240905T193948Z
LAST-MODIFIED:20240910T023627Z
UID:10003326-1725916500-1725921000@www.lasalle.edu
SUMMARY:Phi Mu Chapter Meeting
DESCRIPTION:Phi Mu Chapter Meeting
URL:https://www.lasalle.edu/event/phi-mu-chapter-meeting-3/
LOCATION:La Salle Union 310
CATEGORIES:Meeting - General
END:VEVENT
BEGIN:VEVENT
DTSTART;TZID=America/New_York:20240829T193000
DTEND;TZID=America/New_York:20240829T213000
DTSTAMP:20260424T183658
CREATED:20240826T185348Z
LAST-MODIFIED:20240829T234354Z
UID:10003298-1724959800-1724967000@www.lasalle.edu
SUMMARY:Phi Mu Chapter Meeting
DESCRIPTION:Phi Mu Chapter Meeting
URL:https://www.lasalle.edu/event/phi-mu-chapter-meeting-2/
LOCATION:La Salle Union 310
CATEGORIES:Meeting - General
END:VEVENT
BEGIN:VEVENT
DTSTART;TZID=America/New_York:20240826T211500
DTEND;TZID=America/New_York:20240826T223000
DTSTAMP:20260424T183658
CREATED:20240826T184751Z
LAST-MODIFIED:20240827T014836Z
UID:10003297-1724706900-1724711400@www.lasalle.edu
SUMMARY:Phi Mu Chapter Meeting
DESCRIPTION:Phi Mu Chapter Meeting
URL:https://www.lasalle.edu/event/phi-mu-chapter-meeting/
LOCATION:La Salle Union 310
CATEGORIES:Meeting - General
END:VEVENT
BEGIN:VEVENT
DTSTART;TZID=America/New_York:20240621T090000
DTEND;TZID=America/New_York:20240621T160000
DTSTAMP:20260424T183658
CREATED:20240611T173906Z
LAST-MODIFIED:20240620T153816Z
UID:10002953-1718960400-1718985600@www.lasalle.edu
SUMMARY:Interview
DESCRIPTION:Interview
URL:https://www.lasalle.edu/event/interview-3/
LOCATION:La Salle Union 310
CATEGORIES:Meeting - General
END:VEVENT
BEGIN:VEVENT
DTSTART;TZID=America/New_York:20240618T081500
DTEND;TZID=America/New_York:20240618T151500
DTSTAMP:20260424T183658
CREATED:20240611T173403Z
LAST-MODIFIED:20240618T183803Z
UID:10002951-1718698500-1718723700@www.lasalle.edu
SUMMARY:Interview
DESCRIPTION:Interview
URL:https://www.lasalle.edu/event/interview/
LOCATION:La Salle Union 310
CATEGORIES:Meeting - General
END:VEVENT
BEGIN:VEVENT
DTSTART;TZID=America/New_York:20240405T200000
DTEND;TZID=America/New_York:20240405T220000
DTSTAMP:20260424T183658
CREATED:20240404T174732Z
LAST-MODIFIED:20240406T013427Z
UID:10002782-1712347200-1712354400@www.lasalle.edu
SUMMARY:Paint Rave
DESCRIPTION:This is going to be awesome! Come throw paint at each other and listen to awesome music with friends and to meet new people! Union building room 310!
URL:https://www.lasalle.edu/event/paint-rave/
LOCATION:La Salle Union 310
CATEGORIES:Entertainment
END:VEVENT
BEGIN:VEVENT
DTSTART;TZID=America/New_York:20240327T160000
DTEND;TZID=America/New_York:20240327T170000
DTSTAMP:20260424T183658
CREATED:20240310T094254Z
LAST-MODIFIED:20240327T204109Z
UID:10002736-1711555200-1711558800@www.lasalle.edu
SUMMARY:Off Campus Orientation
DESCRIPTION:Session for students moving off campus
URL:https://www.lasalle.edu/event/off-campus-orientation/
LOCATION:La Salle Union 310
CATEGORIES:Meeting - General
END:VEVENT
BEGIN:VEVENT
DTSTART;TZID=America/New_York:20231215T100000
DTEND;TZID=America/New_York:20231215T110000
DTSTAMP:20260424T183658
CREATED:20231014T144006Z
LAST-MODIFIED:20231213T014000Z
UID:10001823-1702634400-1702638000@www.lasalle.edu
SUMMARY:Campus Engagement Council
DESCRIPTION:Campus Engagemen Council
URL:https://www.lasalle.edu/event/campus-engagement-council-8/
LOCATION:La Salle Union 310
CATEGORIES:Leadership Development
END:VEVENT
END:VCALENDAR