BEGIN:VCALENDAR
VERSION:2.0
PRODID:-//La Salle University - ECPv6.15.20//NONSGML v1.0//EN
CALSCALE:GREGORIAN
METHOD:PUBLISH
X-WR-CALNAME:La Salle University
X-ORIGINAL-URL:https://www.lasalle.edu
X-WR-CALDESC:Events for La Salle University
REFRESH-INTERVAL;VALUE=DURATION:PT1H
X-Robots-Tag:noindex
X-PUBLISHED-TTL:PT1H
BEGIN:VTIMEZONE
TZID:America/New_York
BEGIN:DAYLIGHT
TZOFFSETFROM:-0500
TZOFFSETTO:-0400
TZNAME:EDT
DTSTART:20230312T070000
END:DAYLIGHT
BEGIN:STANDARD
TZOFFSETFROM:-0400
TZOFFSETTO:-0500
TZNAME:EST
DTSTART:20231105T060000
END:STANDARD
BEGIN:DAYLIGHT
TZOFFSETFROM:-0500
TZOFFSETTO:-0400
TZNAME:EDT
DTSTART:20240310T070000
END:DAYLIGHT
BEGIN:STANDARD
TZOFFSETFROM:-0400
TZOFFSETTO:-0500
TZNAME:EST
DTSTART:20241103T060000
END:STANDARD
BEGIN:DAYLIGHT
TZOFFSETFROM:-0500
TZOFFSETTO:-0400
TZNAME:EDT
DTSTART:20250309T070000
END:DAYLIGHT
BEGIN:STANDARD
TZOFFSETFROM:-0400
TZOFFSETTO:-0500
TZNAME:EST
DTSTART:20251102T060000
END:STANDARD
END:VTIMEZONE
BEGIN:VEVENT
DTSTART;TZID=America/New_York:20241107T123000
DTEND;TZID=America/New_York:20241107T140000
DTSTAMP:20260423T040541
CREATED:20241103T123636Z
LAST-MODIFIED:20241107T184943Z
UID:10003768-1730982600-1730988000@www.lasalle.edu
SUMMARY:La Salle Union Basket Pop-up
DESCRIPTION:La Salle Union Basket Pop-up
URL:https://www.lasalle.edu/event/la-salle-union-basket-pop-up/
LOCATION:La Salle Union Lobby Table
CATEGORIES:Leadership Development
END:VEVENT
BEGIN:VEVENT
DTSTART;TZID=America/New_York:20241106T123000
DTEND;TZID=America/New_York:20241106T140000
DTSTAMP:20260423T040541
CREATED:20241105T163849Z
LAST-MODIFIED:20241106T184734Z
UID:10003890-1730896200-1730901600@www.lasalle.edu
SUMMARY:Alpha Kappa Alpha Sorority - Breast Cancer Awareness Ribbon Sales
DESCRIPTION:Alpha Kappa Alpha Sorority – Breast Cancer
URL:https://www.lasalle.edu/event/alpha-kappa-alpha-sorority-breast-cancer-awareness-ribbon-sales/
LOCATION:La Salle Union Lobby Table
CATEGORIES:Leadership Development
END:VEVENT
BEGIN:VEVENT
DTSTART;TZID=America/New_York:20241105T123000
DTEND;TZID=America/New_York:20241105T140000
DTSTAMP:20260423T040541
CREATED:20241102T203443Z
LAST-MODIFIED:20241105T183720Z
UID:10003754-1730809800-1730815200@www.lasalle.edu
SUMMARY:Wellness services Table
DESCRIPTION:Wellness services Table
URL:https://www.lasalle.edu/event/wellness-services-table/
LOCATION:La Salle Union Lobby Table
CATEGORIES:Multicultural/Diversity
END:VEVENT
BEGIN:VEVENT
DTSTART;TZID=America/New_York:20241105T123000
DTEND;TZID=America/New_York:20241105T140000
DTSTAMP:20260423T040541
CREATED:20241102T203443Z
LAST-MODIFIED:20241105T174835Z
UID:10003755-1730809800-1730815200@www.lasalle.edu
SUMMARY:Deepher Dude Fundraising Table
DESCRIPTION:Fundraising Table
URL:https://www.lasalle.edu/event/deepher-dude-fundraising-table-17/
LOCATION:La Salle Union Lobby Table
CATEGORIES:Entertainment
END:VEVENT
BEGIN:VEVENT
DTSTART;TZID=America/New_York:20241105T120000
DTEND;TZID=America/New_York:20241105T140000
DTSTAMP:20260423T040541
CREATED:20241102T203445Z
LAST-MODIFIED:20241105T174834Z
UID:10003757-1730808000-1730815200@www.lasalle.edu
SUMMARY:Employer Tabling: Northwestern Mutual
DESCRIPTION:Come stop by the Union Lobby during free period to meet with the recruiters and representatives from Northwestern Mutual!
URL:https://www.lasalle.edu/event/employer-tabling-northwestern-mutual/
LOCATION:La Salle Union Lobby Table
CATEGORIES:Job/Career
END:VEVENT
BEGIN:VEVENT
DTSTART;TZID=America/New_York:20241105T120000
DTEND;TZID=America/New_York:20241105T140000
DTSTAMP:20260423T040541
CREATED:20241102T203444Z
LAST-MODIFIED:20241105T174834Z
UID:10003756-1730808000-1730815200@www.lasalle.edu
SUMMARY:Employer Tabling: US Army
DESCRIPTION:Employer Tabling
URL:https://www.lasalle.edu/event/employer-tabling-us-army/
LOCATION:La Salle Union Lobby Table
CATEGORIES:Job/Career
END:VEVENT
BEGIN:VEVENT
DTSTART;TZID=America/New_York:20241102T080000
DTEND;TZID=America/New_York:20241102T200000
DTSTAMP:20260423T040541
CREATED:20241031T194624Z
LAST-MODIFIED:20241102T234747Z
UID:10003739-1730534400-1730577600@www.lasalle.edu
SUMMARY:Dia de Los Muertos.
DESCRIPTION:Dia de Los Muertos
URL:https://www.lasalle.edu/event/dia-de-los-muertos-6/
LOCATION:La Salle Union Lobby Table
CATEGORIES:Multicultural/Diversity
END:VEVENT
BEGIN:VEVENT
DTSTART;TZID=America/New_York:20241101T080000
DTEND;TZID=America/New_York:20241101T200000
DTSTAMP:20260423T040541
CREATED:20241030T023529Z
LAST-MODIFIED:20241101T234351Z
UID:10003731-1730448000-1730491200@www.lasalle.edu
SUMMARY:Dia de Los Muertos.
DESCRIPTION:Dia de Los Muertos
URL:https://www.lasalle.edu/event/dia-de-los-muertos-5/
LOCATION:La Salle Union Lobby Table
CATEGORIES:Multicultural/Diversity
END:VEVENT
BEGIN:VEVENT
DTSTART;TZID=America/New_York:20241031T123000
DTEND;TZID=America/New_York:20241031T140000
DTSTAMP:20260423T040541
CREATED:20241029T234551Z
LAST-MODIFIED:20241031T174003Z
UID:10003723-1730377800-1730383200@www.lasalle.edu
SUMMARY:Sig Phik
DESCRIPTION:Sig Phi K information
URL:https://www.lasalle.edu/event/sig-phik-3/
LOCATION:La Salle Union Lobby Table
CATEGORIES:Leadership Development
END:VEVENT
BEGIN:VEVENT
DTSTART;TZID=America/New_York:20241031T123000
DTEND;TZID=America/New_York:20241031T140000
DTSTAMP:20260423T040541
CREATED:20241029T224301Z
LAST-MODIFIED:20241031T174002Z
UID:10003721-1730377800-1730383200@www.lasalle.edu
SUMMARY:Halloween Table - Stitching Witches
DESCRIPTION:Halloween Table – Stitching Witches
URL:https://www.lasalle.edu/event/halloween-table-stitching-witches/
LOCATION:La Salle Union Lobby Table
CATEGORIES:Leadership Development
END:VEVENT
BEGIN:VEVENT
DTSTART;TZID=America/New_York:20241031T123000
DTEND;TZID=America/New_York:20241031T140000
DTSTAMP:20260423T040541
CREATED:20241029T224259Z
LAST-MODIFIED:20241031T173756Z
UID:10003720-1730377800-1730383200@www.lasalle.edu
SUMMARY:Deepher Dude Fundraising Table
DESCRIPTION:Fundraising Table
URL:https://www.lasalle.edu/event/deepher-dude-fundraising-table-16/
LOCATION:La Salle Union Lobby Table
CATEGORIES:Entertainment
END:VEVENT
BEGIN:VEVENT
DTSTART;TZID=America/New_York:20241031T120000
DTEND;TZID=America/New_York:20241031T140000
DTSTAMP:20260423T040541
CREATED:20241030T014030Z
LAST-MODIFIED:20241031T173755Z
UID:10003726-1730376000-1730383200@www.lasalle.edu
SUMMARY:La Salle Votes
DESCRIPTION:La Salle Votes
URL:https://www.lasalle.edu/event/la-salle-votes-5/
LOCATION:La Salle Union Lobby Table
CATEGORIES:Leadership Development
END:VEVENT
BEGIN:VEVENT
DTSTART;TZID=America/New_York:20241031T120000
DTEND;TZID=America/New_York:20241031T140000
DTSTAMP:20260423T040541
CREATED:20241029T234551Z
LAST-MODIFIED:20241031T173755Z
UID:10003724-1730376000-1730383200@www.lasalle.edu
SUMMARY:Employer Table: Phila Police
DESCRIPTION:Employer Table
URL:https://www.lasalle.edu/event/employer-table-phila-police/
LOCATION:La Salle Union Lobby Table
CATEGORIES:Job/Career
END:VEVENT
BEGIN:VEVENT
DTSTART;TZID=America/New_York:20241031T080000
DTEND;TZID=America/New_York:20241031T200000
DTSTAMP:20260423T040541
CREATED:20241030T014030Z
LAST-MODIFIED:20241031T234449Z
UID:10003727-1730361600-1730404800@www.lasalle.edu
SUMMARY:Dia de Los Muertos.
DESCRIPTION:Dia de Los Muertos
URL:https://www.lasalle.edu/event/dia-de-los-muertos-4/
LOCATION:La Salle Union Lobby Table
CATEGORIES:Multicultural/Diversity
END:VEVENT
BEGIN:VEVENT
DTSTART;TZID=America/New_York:20241030T080000
DTEND;TZID=America/New_York:20241030T200000
DTSTAMP:20260423T040541
CREATED:20241027T133518Z
LAST-MODIFIED:20241030T234417Z
UID:10003715-1730275200-1730318400@www.lasalle.edu
SUMMARY:Dia de Los Muertos.
DESCRIPTION:Dia de Los Muertos
URL:https://www.lasalle.edu/event/dia-de-los-muertos-3/
LOCATION:La Salle Union Lobby Table
CATEGORIES:Multicultural/Diversity
END:VEVENT
BEGIN:VEVENT
DTSTART;TZID=America/New_York:20241029T123000
DTEND;TZID=America/New_York:20241029T140000
DTSTAMP:20260423T040541
CREATED:20241026T224551Z
LAST-MODIFIED:20241029T174455Z
UID:10003705-1730205000-1730210400@www.lasalle.edu
SUMMARY:Deepher Dude Fundraising Table
DESCRIPTION:Fundraising Table
URL:https://www.lasalle.edu/event/deepher-dude-fundraising-table-15/
LOCATION:La Salle Union Lobby Table
CATEGORIES:Entertainment
END:VEVENT
BEGIN:VEVENT
DTSTART;TZID=America/New_York:20241029T123000
DTEND;TZID=America/New_York:20241029T140000
DTSTAMP:20260423T040541
CREATED:20241026T194510Z
LAST-MODIFIED:20241029T174601Z
UID:10003704-1730205000-1730210400@www.lasalle.edu
SUMMARY:Know your Boo! Alcohol safety and drunk goggles with public safety
DESCRIPTION:Know your Boo! Alcohol safety and drunk goggles with public safety
URL:https://www.lasalle.edu/event/know-your-boo-alcohol-safety-and-drunk-goggles-with-public-safety/
LOCATION:La Salle Union Lobby Table
CATEGORIES:Entertainment
END:VEVENT
BEGIN:VEVENT
DTSTART;TZID=America/New_York:20241029T123000
DTEND;TZID=America/New_York:20241029T140000
DTSTAMP:20260423T040541
CREATED:20241026T194509Z
LAST-MODIFIED:20241029T174602Z
UID:10003703-1730205000-1730210400@www.lasalle.edu
SUMMARY:Sig Phik
DESCRIPTION:Sig Phi K information
URL:https://www.lasalle.edu/event/sig-phik-2/
LOCATION:La Salle Union Lobby Table
CATEGORIES:Leadership Development
END:VEVENT
BEGIN:VEVENT
DTSTART;TZID=America/New_York:20241029T120000
DTEND;TZID=America/New_York:20241029T140000
DTSTAMP:20260423T040541
CREATED:20241027T024009Z
LAST-MODIFIED:20241029T174603Z
UID:10003709-1730203200-1730210400@www.lasalle.edu
SUMMARY:Esperanza Charter Academy
DESCRIPTION:Esperanza Charter Academy
URL:https://www.lasalle.edu/event/esperanza-charter-academy/
LOCATION:La Salle Union Lobby Table
CATEGORIES:Job/Career
END:VEVENT
BEGIN:VEVENT
DTSTART;TZID=America/New_York:20241029T120000
DTEND;TZID=America/New_York:20241029T140000
DTSTAMP:20260423T040541
CREATED:20241027T024007Z
LAST-MODIFIED:20241029T174455Z
UID:10003707-1730203200-1730210400@www.lasalle.edu
SUMMARY:La Salle Votes
DESCRIPTION:La Salle Votes
URL:https://www.lasalle.edu/event/la-salle-votes-4/
LOCATION:La Salle Union Lobby Table
CATEGORIES:Leadership Development
END:VEVENT
BEGIN:VEVENT
DTSTART;TZID=America/New_York:20241029T080000
DTEND;TZID=America/New_York:20241029T200000
DTSTAMP:20260423T040541
CREATED:20241027T024008Z
LAST-MODIFIED:20241029T233856Z
UID:10003708-1730188800-1730232000@www.lasalle.edu
SUMMARY:Dia de Los Muertos.
DESCRIPTION:Dia de Los Muertos
URL:https://www.lasalle.edu/event/dia-de-los-muertos-2/
LOCATION:La Salle Union Lobby Table
CATEGORIES:Multicultural/Diversity
END:VEVENT
BEGIN:VEVENT
DTSTART;TZID=America/New_York:20241028T080000
DTEND;TZID=America/New_York:20241028T200000
DTSTAMP:20260423T040541
CREATED:20241026T034600Z
LAST-MODIFIED:20241028T234318Z
UID:10003697-1730102400-1730145600@www.lasalle.edu
SUMMARY:Dia de Los Muertos.
DESCRIPTION:Dia de Los Muertos
URL:https://www.lasalle.edu/event/dia-de-los-muertos/
LOCATION:La Salle Union Lobby Table
CATEGORIES:Multicultural/Diversity
END:VEVENT
BEGIN:VEVENT
DTSTART;TZID=America/New_York:20241026T200000
DTEND;TZID=America/New_York:20241026T220000
DTSTAMP:20260423T040541
CREATED:20241025T024119Z
LAST-MODIFIED:20241027T014559Z
UID:10003687-1729972800-1729980000@www.lasalle.edu
SUMMARY:LNL-Crystal Jewelry & tea making
DESCRIPTION:LNL-Crystal Jewelry & tea making
URL:https://www.lasalle.edu/event/lnl-crystal-jewelry-tea-making/
LOCATION:La Salle Union Lobby Table
CATEGORIES:Entertainment
END:VEVENT
BEGIN:VEVENT
DTSTART;TZID=America/New_York:20241025T190000
DTEND;TZID=America/New_York:20241025T220000
DTSTAMP:20260423T040541
CREATED:20241024T185048Z
LAST-MODIFIED:20241026T013549Z
UID:10003681-1729882800-1729893600@www.lasalle.edu
SUMMARY:Halloween fest
DESCRIPTION:Halloween fest
URL:https://www.lasalle.edu/event/halloween-fest/
LOCATION:La Salle Union Lobby Table
CATEGORIES:Entertainment
END:VEVENT
BEGIN:VEVENT
DTSTART;TZID=America/New_York:20241025T123000
DTEND;TZID=America/New_York:20241025T140000
DTSTAMP:20260423T040541
CREATED:20241024T184059Z
LAST-MODIFIED:20241025T183910Z
UID:10003676-1729859400-1729864800@www.lasalle.edu
SUMMARY:Clothesline Project
DESCRIPTION:Clothesline Project
URL:https://www.lasalle.edu/event/clothesline-project-5/
LOCATION:La Salle Union Lobby Table
CATEGORIES:Wellness/Recreation
END:VEVENT
BEGIN:VEVENT
DTSTART;TZID=America/New_York:20241024T123000
DTEND;TZID=America/New_York:20241024T140000
DTSTAMP:20260423T040541
CREATED:20241022T234342Z
LAST-MODIFIED:20241024T183531Z
UID:10003661-1729773000-1729778400@www.lasalle.edu
SUMMARY:Honors Council
DESCRIPTION:Honors Council Information Table
URL:https://www.lasalle.edu/event/honors-council/
LOCATION:La Salle Union Lobby Table
CATEGORIES:Leadership Development
END:VEVENT
BEGIN:VEVENT
DTSTART;TZID=America/New_York:20241024T123000
DTEND;TZID=America/New_York:20241024T140000
DTSTAMP:20260423T040541
CREATED:20241022T234342Z
LAST-MODIFIED:20241024T183530Z
UID:10003662-1729773000-1729778400@www.lasalle.edu
SUMMARY:Clothesline Project
DESCRIPTION:Clothesline Project
URL:https://www.lasalle.edu/event/clothesline-project-4/
LOCATION:La Salle Union Lobby Table
CATEGORIES:Wellness/Recreation
END:VEVENT
BEGIN:VEVENT
DTSTART;TZID=America/New_York:20241024T123000
DTEND;TZID=America/New_York:20241024T140000
DTSTAMP:20260423T040541
CREATED:20241022T234341Z
LAST-MODIFIED:20241024T183530Z
UID:10003660-1729773000-1729778400@www.lasalle.edu
SUMMARY:Deepher Dude Fundraising Table
DESCRIPTION:Fundraising Table
URL:https://www.lasalle.edu/event/deepher-dude-fundraising-table-14/
LOCATION:La Salle Union Lobby Table
CATEGORIES:Entertainment
END:VEVENT
BEGIN:VEVENT
DTSTART;TZID=America/New_York:20241024T123000
DTEND;TZID=America/New_York:20241024T140000
DTSTAMP:20260423T040541
CREATED:20241022T234340Z
LAST-MODIFIED:20241024T144231Z
UID:10003658-1729773000-1729778400@www.lasalle.edu
SUMMARY:Sig Phik
DESCRIPTION:Sig Phi K information
URL:https://www.lasalle.edu/event/sig-phik/
LOCATION:La Salle Union Lobby Table
CATEGORIES:Leadership Development
END:VEVENT
BEGIN:VEVENT
DTSTART;TZID=America/New_York:20241024T123000
DTEND;TZID=America/New_York:20241024T140000
DTSTAMP:20260423T040541
CREATED:20241022T024532Z
LAST-MODIFIED:20241024T183530Z
UID:10003654-1729773000-1729778400@www.lasalle.edu
SUMMARY:Cybersecurity Awareness Month Information Table
DESCRIPTION:Cybersecurity Awareness Month Information Table
URL:https://www.lasalle.edu/event/cybersecurity-awareness-month-information-table/
LOCATION:La Salle Union Lobby Table
CATEGORIES:Leadership Development
END:VEVENT
END:VCALENDAR