BEGIN:VCALENDAR
VERSION:2.0
PRODID:-//La Salle University - ECPv6.15.20//NONSGML v1.0//EN
CALSCALE:GREGORIAN
METHOD:PUBLISH
X-WR-CALNAME:La Salle University
X-ORIGINAL-URL:https://www.lasalle.edu
X-WR-CALDESC:Events for La Salle University
REFRESH-INTERVAL;VALUE=DURATION:PT1H
X-Robots-Tag:noindex
X-PUBLISHED-TTL:PT1H
BEGIN:VTIMEZONE
TZID:America/New_York
BEGIN:DAYLIGHT
TZOFFSETFROM:-0500
TZOFFSETTO:-0400
TZNAME:EDT
DTSTART:20230312T070000
END:DAYLIGHT
BEGIN:STANDARD
TZOFFSETFROM:-0400
TZOFFSETTO:-0500
TZNAME:EST
DTSTART:20231105T060000
END:STANDARD
BEGIN:DAYLIGHT
TZOFFSETFROM:-0500
TZOFFSETTO:-0400
TZNAME:EDT
DTSTART:20240310T070000
END:DAYLIGHT
BEGIN:STANDARD
TZOFFSETFROM:-0400
TZOFFSETTO:-0500
TZNAME:EST
DTSTART:20241103T060000
END:STANDARD
BEGIN:DAYLIGHT
TZOFFSETFROM:-0500
TZOFFSETTO:-0400
TZNAME:EDT
DTSTART:20250309T070000
END:DAYLIGHT
BEGIN:STANDARD
TZOFFSETFROM:-0400
TZOFFSETTO:-0500
TZNAME:EST
DTSTART:20251102T060000
END:STANDARD
END:VTIMEZONE
BEGIN:VEVENT
DTSTART;TZID=America/New_York:20241022T123000
DTEND;TZID=America/New_York:20241022T133000
DTSTAMP:20260423T075636
CREATED:20241021T003733Z
LAST-MODIFIED:20241022T164716Z
UID:10003644-1729600200-1729603800@www.lasalle.edu
SUMMARY:On the Quad Breast Cancer Event tabling
DESCRIPTION:On the Quad Breast Cancer Event
URL:https://www.lasalle.edu/event/on-the-quad-breast-cancer-event-tabling/
LOCATION:La Salle Union Lobby Table
CATEGORIES:Leadership Development
END:VEVENT
BEGIN:VEVENT
DTSTART;TZID=America/New_York:20241021T123000
DTEND;TZID=America/New_York:20241021T140000
DTSTAMP:20260423T075636
CREATED:20241021T003703Z
LAST-MODIFIED:20241021T173554Z
UID:10003638-1729513800-1729519200@www.lasalle.edu
SUMMARY:Clothesline Project
DESCRIPTION:Clothesline Project
URL:https://www.lasalle.edu/event/clothesline-project/
LOCATION:La Salle Union Lobby Table
CATEGORIES:Wellness/Recreation
END:VEVENT
BEGIN:VEVENT
DTSTART;TZID=America/New_York:20241017T123000
DTEND;TZID=America/New_York:20241017T140000
DTSTAMP:20260423T075636
CREATED:20241014T174836Z
LAST-MODIFIED:20241017T174418Z
UID:10003566-1729168200-1729173600@www.lasalle.edu
SUMMARY:Deepher Dude Fundraising Table
DESCRIPTION:Fundraising Table
URL:https://www.lasalle.edu/event/deepher-dude-fundraising-table-12/
LOCATION:La Salle Union Lobby Table
CATEGORIES:Entertainment
END:VEVENT
BEGIN:VEVENT
DTSTART;TZID=America/New_York:20241017T123000
DTEND;TZID=America/New_York:20241017T140000
DTSTAMP:20260423T075636
CREATED:20241014T174835Z
LAST-MODIFIED:20241017T174417Z
UID:10003564-1729168200-1729173600@www.lasalle.edu
SUMMARY:ESA Table
DESCRIPTION:ESA Table
URL:https://www.lasalle.edu/event/esa-table/
LOCATION:La Salle Union Lobby Table
CATEGORIES:Entertainment
END:VEVENT
BEGIN:VEVENT
DTSTART;TZID=America/New_York:20241017T123000
DTEND;TZID=America/New_York:20241017T140000
DTSTAMP:20260423T075636
CREATED:20241014T174834Z
LAST-MODIFIED:20241017T174343Z
UID:10003563-1729168200-1729173600@www.lasalle.edu
SUMMARY:Sig PhiveK
DESCRIPTION:Sig PhiveK
URL:https://www.lasalle.edu/event/sig-phivek/
LOCATION:La Salle Union Lobby Table
CATEGORIES:Leadership Development
END:VEVENT
BEGIN:VEVENT
DTSTART;TZID=America/New_York:20241015T123000
DTEND;TZID=America/New_York:20241015T140000
DTSTAMP:20260423T075636
CREATED:20241010T224753Z
LAST-MODIFIED:20241015T175030Z
UID:10003552-1728995400-1729000800@www.lasalle.edu
SUMMARY:ATA Philabundance Fundraiser
DESCRIPTION:Philabundance Fundraiser
URL:https://www.lasalle.edu/event/ata-philabundance-fundraiser/
LOCATION:La Salle Union Lobby Table
CATEGORIES:Leadership Development
END:VEVENT
BEGIN:VEVENT
DTSTART;TZID=America/New_York:20241015T123000
DTEND;TZID=America/New_York:20241015T140000
DTSTAMP:20260423T075636
CREATED:20241009T184448Z
LAST-MODIFIED:20241015T183415Z
UID:10003539-1728995400-1729000800@www.lasalle.edu
SUMMARY:Deepher Dude Fundraising Table
DESCRIPTION:Fundraising Table
URL:https://www.lasalle.edu/event/deepher-dude-fundraising-table-11/
LOCATION:La Salle Union Lobby Table
CATEGORIES:Entertainment
END:VEVENT
BEGIN:VEVENT
DTSTART;TZID=America/New_York:20241010T123000
DTEND;TZID=America/New_York:20241010T140000
DTSTAMP:20260423T075636
CREATED:20241004T094546Z
LAST-MODIFIED:20241010T183910Z
UID:10003518-1728563400-1728568800@www.lasalle.edu
SUMMARY:Deepher Dude Fundraising Table
DESCRIPTION:Fundraising Table
URL:https://www.lasalle.edu/event/deepher-dude-fundraising-table-10/
LOCATION:La Salle Union Lobby Table
CATEGORIES:Entertainment
END:VEVENT
BEGIN:VEVENT
DTSTART;TZID=America/New_York:20241010T123000
DTEND;TZID=America/New_York:20241010T140000
DTSTAMP:20260423T075637
CREATED:20241004T094545Z
LAST-MODIFIED:20241010T174746Z
UID:10003515-1728563400-1728568800@www.lasalle.edu
SUMMARY:ROTC Tabling
DESCRIPTION:ROTC Tabling
URL:https://www.lasalle.edu/event/rotc-tabling/
LOCATION:La Salle Union Lobby Table
CATEGORIES:Leadership Development
END:VEVENT
BEGIN:VEVENT
DTSTART;TZID=America/New_York:20241010T120000
DTEND;TZID=America/New_York:20241010T140000
DTSTAMP:20260423T075637
CREATED:20241010T153849Z
LAST-MODIFIED:20241010T174747Z
UID:10003542-1728561600-1728568800@www.lasalle.edu
SUMMARY:SEC - Pop-Up Gratitude Journal Giveaway
DESCRIPTION:SEC – Pop-Up Gratitude Journal Giveaway
URL:https://www.lasalle.edu/event/sec-pop-up-gratitude-journal-giveaway/
LOCATION:La Salle Union Lobby Table
CATEGORIES:Entertainment
END:VEVENT
BEGIN:VEVENT
DTSTART;TZID=America/New_York:20241008T123000
DTEND;TZID=America/New_York:20241008T140000
DTSTAMP:20260423T075637
CREATED:20241004T155356Z
LAST-MODIFIED:20241008T174644Z
UID:10003523-1728390600-1728396000@www.lasalle.edu
SUMMARY:Build a flu season knit
DESCRIPTION:Build a flu season knit
URL:https://www.lasalle.edu/event/build-a-flu-season-knit/
LOCATION:La Salle Union Lobby Table
CATEGORIES:Wellness/Recreation
END:VEVENT
BEGIN:VEVENT
DTSTART;TZID=America/New_York:20241008T123000
DTEND;TZID=America/New_York:20241008T140000
DTSTAMP:20260423T075637
CREATED:20241003T184452Z
LAST-MODIFIED:20241008T174644Z
UID:10003509-1728390600-1728396000@www.lasalle.edu
SUMMARY:Deepher Dude Fundraising Table
DESCRIPTION:Fundraising Table
URL:https://www.lasalle.edu/event/deepher-dude-fundraising-table-9/
LOCATION:La Salle Union Lobby Table
CATEGORIES:Entertainment
END:VEVENT
BEGIN:VEVENT
DTSTART;TZID=America/New_York:20241003T123000
DTEND;TZID=America/New_York:20241003T140000
DTSTAMP:20260423T075637
CREATED:20241001T035027Z
LAST-MODIFIED:20241003T175112Z
UID:10003487-1727958600-1727964000@www.lasalle.edu
SUMMARY:Deepher Dude Fundraising Table
DESCRIPTION:Fundraising Table
URL:https://www.lasalle.edu/event/deepher-dude-fundraising-table-8/
LOCATION:La Salle Union Lobby Table
CATEGORIES:Entertainment
END:VEVENT
BEGIN:VEVENT
DTSTART;TZID=America/New_York:20241003T120000
DTEND;TZID=America/New_York:20241003T140000
DTSTAMP:20260423T075637
CREATED:20241001T043722Z
LAST-MODIFIED:20241003T180248Z
UID:10003489-1727956800-1727964000@www.lasalle.edu
SUMMARY:Employer Tabling: University of St. Augustine for Health Sciences
DESCRIPTION:Come by the Union Lobby from 12:00-2:00 PM to learn more about what the University of St. Augustine for Health Sciences has to offer!
URL:https://www.lasalle.edu/event/employer-tabling-university-of-st-augustine-for-health-sciences/
LOCATION:La Salle Union Lobby Table
CATEGORIES:Job/Career
END:VEVENT
BEGIN:VEVENT
DTSTART;TZID=America/New_York:20241001T123000
DTEND;TZID=America/New_York:20241001T140000
DTSTAMP:20260423T075637
CREATED:20240929T174342Z
LAST-MODIFIED:20241001T183517Z
UID:10003474-1727785800-1727791200@www.lasalle.edu
SUMMARY:Deepher Dude Fundraising Table
DESCRIPTION:Fundraising Table
URL:https://www.lasalle.edu/event/deepher-dude-fundraising-table-7/
LOCATION:La Salle Union Lobby Table
CATEGORIES:Entertainment
END:VEVENT
BEGIN:VEVENT
DTSTART;TZID=America/New_York:20241001T120000
DTEND;TZID=America/New_York:20241001T140000
DTSTAMP:20260423T075637
CREATED:20240929T014523Z
LAST-MODIFIED:20241001T183516Z
UID:10003471-1727784000-1727791200@www.lasalle.edu
SUMMARY:Employer Tabling: Philadelphia Police
DESCRIPTION:Come stop by the Union Lobby during free period to meet with the recruiters and representatives from Philadelphia Police!
URL:https://www.lasalle.edu/event/employer-tabling-philadelphia-police-6/
LOCATION:La Salle Union Lobby Table
CATEGORIES:Job/Career
END:VEVENT
BEGIN:VEVENT
DTSTART;TZID=America/New_York:20240926T170000
DTEND;TZID=America/New_York:20240926T183000
DTSTAMP:20260423T075637
CREATED:20240924T204453Z
LAST-MODIFIED:20240926T222453Z
UID:10003443-1727370000-1727375400@www.lasalle.edu
SUMMARY:"Sunset Social & Sip." Hosted By On the Quad
DESCRIPTION:“Sunset Social & Sip.” Hosted By On the Quad
URL:https://www.lasalle.edu/event/sunset-social-sip-hosted-by-on-the-quad/
LOCATION:La Salle Union Lobby Table
CATEGORIES:Entertainment
END:VEVENT
BEGIN:VEVENT
DTSTART;TZID=America/New_York:20240926T123000
DTEND;TZID=America/New_York:20240926T140000
DTSTAMP:20260423T075637
CREATED:20240924T184211Z
LAST-MODIFIED:20240926T174921Z
UID:10003439-1727353800-1727359200@www.lasalle.edu
SUMMARY:Deepher Dude Fundraising Table
DESCRIPTION:Fundraising Table
URL:https://www.lasalle.edu/event/deepher-dude-fundraising-table-6/
LOCATION:La Salle Union Lobby Table
CATEGORIES:Entertainment
END:VEVENT
BEGIN:VEVENT
DTSTART;TZID=America/New_York:20240924T123000
DTEND;TZID=America/New_York:20240924T140000
DTSTAMP:20260423T075637
CREATED:20240919T233540Z
LAST-MODIFIED:20240924T174015Z
UID:10003426-1727181000-1727186400@www.lasalle.edu
SUMMARY:Ice Cream Social/Voter Registration Drive
DESCRIPTION:Ice Cream Social/Voter Registration Drive -Enjoy a treat and register to vote in Union Lobby/Dan Rodden Theatre. Sponsored by Psi Sigma Alpha (Political Science Honor Society) and Democracy Matters.
URL:https://www.lasalle.edu/event/ice-cream-social-voter-registration-drive/
LOCATION:La Salle Union Lobby Table
CATEGORIES:Leadership Development
END:VEVENT
BEGIN:VEVENT
DTSTART;TZID=America/New_York:20240924T123000
DTEND;TZID=America/New_York:20240924T140000
DTSTAMP:20260423T075637
CREATED:20240919T233539Z
LAST-MODIFIED:20240924T174015Z
UID:10003425-1727181000-1727186400@www.lasalle.edu
SUMMARY:Deepher Dude Fundraising Table
DESCRIPTION:Fundraising Table
URL:https://www.lasalle.edu/event/deepher-dude-fundraising-table-5/
LOCATION:La Salle Union Lobby Table
CATEGORIES:Entertainment
END:VEVENT
BEGIN:VEVENT
DTSTART;TZID=America/New_York:20240924T120000
DTEND;TZID=America/New_York:20240924T140000
DTSTAMP:20260423T075637
CREATED:20240919T224035Z
LAST-MODIFIED:20240924T173918Z
UID:10003422-1727179200-1727186400@www.lasalle.edu
SUMMARY:Employer Tabling: Students For Life of America
DESCRIPTION:Come stop by the Union lobby during free period from 12:00-2:00 PM to chat with the representatives from Students For Life of America!
URL:https://www.lasalle.edu/event/employer-tabling-students-for-life-of-america/
LOCATION:La Salle Union Lobby Table
CATEGORIES:Job/Career
END:VEVENT
BEGIN:VEVENT
DTSTART;TZID=America/New_York:20240919T123000
DTEND;TZID=America/New_York:20240919T140000
DTSTAMP:20260423T075637
CREATED:20240918T234311Z
LAST-MODIFIED:20240919T174404Z
UID:10003409-1726749000-1726754400@www.lasalle.edu
SUMMARY:La Salle Birding Club Information Table
DESCRIPTION:La Salle Birding Club Information Table
URL:https://www.lasalle.edu/event/la-salle-birding-club-information-table/
LOCATION:La Salle Union Lobby Table
CATEGORIES:Entertainment
END:VEVENT
BEGIN:VEVENT
DTSTART;TZID=America/New_York:20240919T123000
DTEND;TZID=America/New_York:20240919T140000
DTSTAMP:20260423T075637
CREATED:20240917T144807Z
LAST-MODIFIED:20240919T180313Z
UID:10003394-1726749000-1726754400@www.lasalle.edu
SUMMARY:Deepher Dude Fundraising Table
DESCRIPTION:Fundraising Table
URL:https://www.lasalle.edu/event/deepher-dude-fundraising-table-4/
LOCATION:La Salle Union Lobby Table
CATEGORIES:Entertainment
END:VEVENT
BEGIN:VEVENT
DTSTART;TZID=America/New_York:20240917T123000
DTEND;TZID=America/New_York:20240917T140000
DTSTAMP:20260423T075637
CREATED:20240914T024624Z
LAST-MODIFIED:20240917T173939Z
UID:10003381-1726576200-1726581600@www.lasalle.edu
SUMMARY:Hispanic Heritage Event - On the Quad
DESCRIPTION:Hispanic Heritage Event – On the Quad
URL:https://www.lasalle.edu/event/hispanic-heritage-event-on-the-quad/
LOCATION:La Salle Union Lobby Table
CATEGORIES:Multicultural/Diversity
END:VEVENT
BEGIN:VEVENT
DTSTART;TZID=America/New_York:20240917T123000
DTEND;TZID=America/New_York:20240917T140000
DTSTAMP:20260423T075637
CREATED:20240913T004330Z
LAST-MODIFIED:20240917T173939Z
UID:10003378-1726576200-1726581600@www.lasalle.edu
SUMMARY:Deepher Dude Fundraising Table
DESCRIPTION:Fundraising Table
URL:https://www.lasalle.edu/event/deepher-dude-fundraising-table-3/
LOCATION:La Salle Union Lobby Table
CATEGORIES:Entertainment
END:VEVENT
BEGIN:VEVENT
DTSTART;TZID=America/New_York:20240912T123000
DTEND;TZID=America/New_York:20240912T140000
DTSTAMP:20260423T075637
CREATED:20240911T063834Z
LAST-MODIFIED:20240912T174501Z
UID:10003354-1726144200-1726149600@www.lasalle.edu
SUMMARY:Deepher Dude Fundraising Table
DESCRIPTION:Fundraising Table
URL:https://www.lasalle.edu/event/deepher-dude-fundraising-table-2/
LOCATION:La Salle Union Lobby Table
CATEGORIES:Entertainment
END:VEVENT
BEGIN:VEVENT
DTSTART;TZID=America/New_York:20240912T120000
DTEND;TZID=America/New_York:20240912T140000
DTSTAMP:20260423T075637
CREATED:20240911T114623Z
LAST-MODIFIED:20240912T174503Z
UID:10003357-1726142400-1726149600@www.lasalle.edu
SUMMARY:Democracy Matters
DESCRIPTION:Democracy Matters Voter Information Table
URL:https://www.lasalle.edu/event/democracy-matters-2/
LOCATION:La Salle Union Lobby Table
CATEGORIES:Leadership Development
END:VEVENT
BEGIN:VEVENT
DTSTART;TZID=America/New_York:20240912T120000
DTEND;TZID=America/New_York:20240912T140000
DTSTAMP:20260423T075637
CREATED:20240911T114623Z
LAST-MODIFIED:20240912T174403Z
UID:10003358-1726142400-1726149600@www.lasalle.edu
SUMMARY:Delta Sigma Pi
DESCRIPTION:Delta Sigma Pi Information Table
URL:https://www.lasalle.edu/event/delta-sigma-pi-2/
LOCATION:La Salle Union Lobby Table
CATEGORIES:Leadership Development
END:VEVENT
BEGIN:VEVENT
DTSTART;TZID=America/New_York:20240912T120000
DTEND;TZID=America/New_York:20240912T140000
DTSTAMP:20260423T075637
CREATED:20240911T114622Z
LAST-MODIFIED:20240912T174502Z
UID:10003355-1726142400-1726149600@www.lasalle.edu
SUMMARY:PB&Jelly making
DESCRIPTION:PB&Jelly making
URL:https://www.lasalle.edu/event/pbjelly-making/
LOCATION:La Salle Union Lobby Table
CATEGORIES:Leadership Development
END:VEVENT
BEGIN:VEVENT
DTSTART;TZID=America/New_York:20240911T120000
DTEND;TZID=America/New_York:20240911T140000
DTSTAMP:20260423T075637
CREATED:20240910T123707Z
LAST-MODIFIED:20240911T174609Z
UID:10003346-1726056000-1726063200@www.lasalle.edu
SUMMARY:Delta Sigma Pi
DESCRIPTION:Delta Sigma Pi Information Table
URL:https://www.lasalle.edu/event/delta-sigma-pi/
LOCATION:La Salle Union Lobby Table
CATEGORIES:Leadership Development
END:VEVENT
END:VCALENDAR