BEGIN:VCALENDAR
VERSION:2.0
PRODID:-//La Salle University - ECPv6.15.20//NONSGML v1.0//EN
CALSCALE:GREGORIAN
METHOD:PUBLISH
X-WR-CALNAME:La Salle University
X-ORIGINAL-URL:https://www.lasalle.edu
X-WR-CALDESC:Events for La Salle University
REFRESH-INTERVAL;VALUE=DURATION:PT1H
X-Robots-Tag:noindex
X-PUBLISHED-TTL:PT1H
BEGIN:VTIMEZONE
TZID:America/New_York
BEGIN:DAYLIGHT
TZOFFSETFROM:-0500
TZOFFSETTO:-0400
TZNAME:EDT
DTSTART:20230312T070000
END:DAYLIGHT
BEGIN:STANDARD
TZOFFSETFROM:-0400
TZOFFSETTO:-0500
TZNAME:EST
DTSTART:20231105T060000
END:STANDARD
BEGIN:DAYLIGHT
TZOFFSETFROM:-0500
TZOFFSETTO:-0400
TZNAME:EDT
DTSTART:20240310T070000
END:DAYLIGHT
BEGIN:STANDARD
TZOFFSETFROM:-0400
TZOFFSETTO:-0500
TZNAME:EST
DTSTART:20241103T060000
END:STANDARD
BEGIN:DAYLIGHT
TZOFFSETFROM:-0500
TZOFFSETTO:-0400
TZNAME:EDT
DTSTART:20250309T070000
END:DAYLIGHT
BEGIN:STANDARD
TZOFFSETFROM:-0400
TZOFFSETTO:-0500
TZNAME:EST
DTSTART:20251102T060000
END:STANDARD
END:VTIMEZONE
BEGIN:VEVENT
DTSTART;TZID=America/New_York:20240827T123000
DTEND;TZID=America/New_York:20240827T140000
DTSTAMP:20260423T192649
CREATED:20240813T183920Z
LAST-MODIFIED:20240827T174353Z
UID:10002998-1724761800-1724767200@www.lasalle.edu
SUMMARY:Wellness Pop Up\, Build a Wellness Kit
DESCRIPTION:Wellness Pop Up\, Build a Wellness Kit
URL:https://www.lasalle.edu/event/wellness-pop-up-build-a-wellness-kit/
LOCATION:La Salle Union Lobby Table
CATEGORIES:Wellness/Recreation
END:VEVENT
BEGIN:VEVENT
DTSTART;TZID=America/New_York:20240502T120000
DTEND;TZID=America/New_York:20240502T140000
DTSTAMP:20260423T192649
CREATED:20240429T214342Z
LAST-MODIFIED:20240502T173532Z
UID:10002900-1714651200-1714658400@www.lasalle.edu
SUMMARY:Employer Tabling: Esperanza Academy Charter School
DESCRIPTION:Stop by the Union Lobby to meet the representatives of Esperanza Charter School and learn about what opportunities they have to offer!
URL:https://www.lasalle.edu/event/employer-tabling-esperanza-academy-charter-school-2/
LOCATION:La Salle Union Lobby Table
CATEGORIES:Job/Career
END:VEVENT
BEGIN:VEVENT
DTSTART;TZID=America/New_York:20240430T123000
DTEND;TZID=America/New_York:20240430T140000
DTSTAMP:20260423T192649
CREATED:20240427T014355Z
LAST-MODIFIED:20240430T183644Z
UID:10002897-1714480200-1714485600@www.lasalle.edu
SUMMARY:Study Abroad Information Tabling
DESCRIPTION:Study Abroad Information Tabling
URL:https://www.lasalle.edu/event/study-abroad-information-tabling/
LOCATION:La Salle Union Lobby Table
CATEGORIES:Multicultural/Diversity
END:VEVENT
BEGIN:VEVENT
DTSTART;TZID=America/New_York:20240425T123000
DTEND;TZID=America/New_York:20240425T140000
DTSTAMP:20260423T192649
CREATED:20240221T221859Z
LAST-MODIFIED:20240425T173756Z
UID:10002665-1714048200-1714053600@www.lasalle.edu
SUMMARY:Commuter Appreciation Week: Spin a Wheel Trivia and Prizes
DESCRIPTION:our Commuter Appreciation Week
URL:https://www.lasalle.edu/event/our-commuter-appreciation-week-4/
LOCATION:La Salle Union Lobby Table
CATEGORIES:Leadership Development
END:VEVENT
BEGIN:VEVENT
DTSTART;TZID=America/New_York:20240425T120000
DTEND;TZID=America/New_York:20240425T140000
DTSTAMP:20260423T192649
CREATED:20240423T184317Z
LAST-MODIFIED:20240425T173755Z
UID:10002868-1714046400-1714053600@www.lasalle.edu
SUMMARY:Employer Tabling: Resurrection Regional Catholic School
DESCRIPTION:Come stop by the Union Lobby during free period to meet with the recruiters from   Resurrection Regional Catholic School and learn more about any potential opportunities!
URL:https://www.lasalle.edu/event/employer-tabling-resurrection-regional-catholic-school/
LOCATION:La Salle Union Lobby Table
CATEGORIES:Job/Career
END:VEVENT
BEGIN:VEVENT
DTSTART;TZID=America/New_York:20240424T130000
DTEND;TZID=America/New_York:20240424T140000
DTSTAMP:20260423T192649
CREATED:20240209T044025Z
LAST-MODIFIED:20240424T173919Z
UID:10002624-1713963600-1713967200@www.lasalle.edu
SUMMARY:Denim Day
DESCRIPTION:We invite the La Salle community to take part in Denim Day this year by wearing denim to express solidarity with surviors. Stop by our table in the Union Building to take pictures with our mascot and make a commitment to one thing you can do to end sexual violence on campus.
URL:https://www.lasalle.edu/event/denim-day/
LOCATION:La Salle Union Lobby Table
CATEGORIES:Wellness/Recreation
END:VEVENT
BEGIN:VEVENT
DTSTART;TZID=America/New_York:20240424T123000
DTEND;TZID=America/New_York:20240424T140000
DTSTAMP:20260423T192649
CREATED:20240221T221858Z
LAST-MODIFIED:20240424T173918Z
UID:10002664-1713961800-1713967200@www.lasalle.edu
SUMMARY:Commuter Appreciation Week: Pop up Shop
DESCRIPTION:our Commuter Appreciation Week
URL:https://www.lasalle.edu/event/our-commuter-appreciation-week-3/
LOCATION:La Salle Union Lobby Table
CATEGORIES:Leadership Development
END:VEVENT
BEGIN:VEVENT
DTSTART;TZID=America/New_York:20240423T120000
DTEND;TZID=America/New_York:20240423T140000
DTSTAMP:20260423T192649
CREATED:20240420T204452Z
LAST-MODIFIED:20240423T175147Z
UID:10002860-1713873600-1713880800@www.lasalle.edu
SUMMARY:Employer Tabling: Move Language Ahead
DESCRIPTION:Stop by the union lobby to meet with the recruiters from Moving Language Ahead and see career what opportunities they have for students!
URL:https://www.lasalle.edu/event/employer-tabling-move-language-ahead/
LOCATION:La Salle Union Lobby Table
CATEGORIES:Job/Career
END:VEVENT
BEGIN:VEVENT
DTSTART;TZID=America/New_York:20240422T123000
DTEND;TZID=America/New_York:20240422T140000
DTSTAMP:20260423T192649
CREATED:20240221T221852Z
LAST-MODIFIED:20240422T174033Z
UID:10002662-1713789000-1713794400@www.lasalle.edu
SUMMARY:Commuter Appreciation Week: Decorate a Tote
DESCRIPTION:our Commuter Appreciation Week
URL:https://www.lasalle.edu/event/our-commuter-appreciation-week/
LOCATION:La Salle Union Lobby Table
CATEGORIES:Leadership Development
END:VEVENT
BEGIN:VEVENT
DTSTART;TZID=America/New_York:20240418T123000
DTEND;TZID=America/New_York:20240418T140000
DTSTAMP:20260423T192649
CREATED:20240416T233946Z
LAST-MODIFIED:20240418T173621Z
UID:10002829-1713443400-1713448800@www.lasalle.edu
SUMMARY:OLAS Gala Promotion
DESCRIPTION:OLAS Gala Promotion
URL:https://www.lasalle.edu/event/olas-gala-promotion-3/
LOCATION:La Salle Union Lobby Table
CATEGORIES:Leadership Development
END:VEVENT
BEGIN:VEVENT
DTSTART;TZID=America/New_York:20240418T120000
DTEND;TZID=America/New_York:20240418T140000
DTSTAMP:20260423T192649
CREATED:20240416T234244Z
LAST-MODIFIED:20240418T174054Z
UID:10002831-1713441600-1713448800@www.lasalle.edu
SUMMARY:Employer Tabling: The How Group
DESCRIPTION:Come stop by the Union Lobby during free period to meet with the recruiters from  The How Group and learn more about any potential opportunities!
URL:https://www.lasalle.edu/event/employer-tabling-the-how-group/
LOCATION:La Salle Union Lobby Table
CATEGORIES:Job/Career
END:VEVENT
BEGIN:VEVENT
DTSTART;TZID=America/New_York:20240417T130000
DTEND;TZID=America/New_York:20240417T140000
DTSTAMP:20260423T192649
CREATED:20240416T165138Z
LAST-MODIFIED:20240417T173621Z
UID:10002826-1713358800-1713362400@www.lasalle.edu
SUMMARY:Fun in the Sun
DESCRIPTION:With summer just around the corner\, test your sun safety knowledge!
URL:https://www.lasalle.edu/event/fun-in-the-sun/
LOCATION:La Salle Union Lobby Table
CATEGORIES:Entertainment
END:VEVENT
BEGIN:VEVENT
DTSTART;TZID=America/New_York:20240416T120000
DTEND;TZID=America/New_York:20240416T140000
DTSTAMP:20260423T192649
CREATED:20240413T023749Z
LAST-MODIFIED:20240416T175217Z
UID:10002818-1713268800-1713276000@www.lasalle.edu
SUMMARY:Employer Tabling: Philadelphia Police
DESCRIPTION:Come visit the Philadelphia Police Department recruiters in the union lobby during free period to learn more about what opportunities they have to offer!
URL:https://www.lasalle.edu/event/employer-tabling-philadelphia-police-5/
LOCATION:La Salle Union Lobby Table
CATEGORIES:Job/Career
END:VEVENT
BEGIN:VEVENT
DTSTART;TZID=America/New_York:20240411T123000
DTEND;TZID=America/New_York:20240411T140000
DTSTAMP:20260423T192649
CREATED:20240407T034231Z
LAST-MODIFIED:20240411T173432Z
UID:10002795-1712838600-1712844000@www.lasalle.edu
SUMMARY:OLAS Gala Promotion
DESCRIPTION:OLAS Gala Promotion
URL:https://www.lasalle.edu/event/olas-gala-promotion-2/
LOCATION:La Salle Union Lobby Table
CATEGORIES:Leadership Development
END:VEVENT
BEGIN:VEVENT
DTSTART;TZID=America/New_York:20240411T120000
DTEND;TZID=America/New_York:20240411T140000
DTSTAMP:20260423T192649
CREATED:20240410T143210Z
LAST-MODIFIED:20240411T173431Z
UID:10002808-1712836800-1712844000@www.lasalle.edu
SUMMARY:Commuter Connector - CRASH
DESCRIPTION:Commuter Connector – CRASH promotion
URL:https://www.lasalle.edu/event/commuter-connector-crash/
LOCATION:La Salle Union Lobby Table
CATEGORIES:Leadership Development
END:VEVENT
BEGIN:VEVENT
DTSTART;TZID=America/New_York:20240411T120000
DTEND;TZID=America/New_York:20240411T140000
DTSTAMP:20260423T192649
CREATED:20240408T214822Z
LAST-MODIFIED:20240411T173432Z
UID:10002797-1712836800-1712844000@www.lasalle.edu
SUMMARY:Employer Tabling: Grays Ferry Early Learning Academy
DESCRIPTION:Stop by the Union lobby to meet with the employer recruiters from Grays Ferry Early Learning Academy!
URL:https://www.lasalle.edu/event/employer-tabling-grays-ferry-early-learning-academy/
LOCATION:La Salle Union Lobby Table
CATEGORIES:Job/Career
END:VEVENT
BEGIN:VEVENT
DTSTART;TZID=America/New_York:20240409T120000
DTEND;TZID=America/New_York:20240409T140000
DTSTAMP:20260423T192649
CREATED:20240404T234432Z
LAST-MODIFIED:20240409T173449Z
UID:10002790-1712664000-1712671200@www.lasalle.edu
SUMMARY:Employer Tabling: Esperanza Academy Charter School
DESCRIPTION:Stop by the union lobby to meet with the recruiters from Esperanza Academy Charter School and see career what opportunities they have for students!
URL:https://www.lasalle.edu/event/employer-tabling-esperanza-academy-charter-school/
LOCATION:La Salle Union Lobby Table
CATEGORIES:Job/Career
END:VEVENT
BEGIN:VEVENT
DTSTART;TZID=America/New_York:20240404T123000
DTEND;TZID=America/New_York:20240404T140000
DTSTAMP:20260423T192650
CREATED:20240402T003539Z
LAST-MODIFIED:20240404T173623Z
UID:10002777-1712233800-1712239200@www.lasalle.edu
SUMMARY:OLAS Gala Promotion
DESCRIPTION:OLAS Gala Promotion
URL:https://www.lasalle.edu/event/olas-gala-promotion/
LOCATION:La Salle Union Lobby Table
CATEGORIES:Leadership Development
END:VEVENT
BEGIN:VEVENT
DTSTART;TZID=America/New_York:20240404T123000
DTEND;TZID=America/New_York:20240404T133000
DTSTAMP:20260423T192650
CREATED:20240402T003540Z
LAST-MODIFIED:20240404T164026Z
UID:10002778-1712233800-1712237400@www.lasalle.edu
SUMMARY:Peanut Butter and Jelly Making Event
DESCRIPTION:Peanut butter and Jelly Making event hosted by Pheed Philadelphia.
URL:https://www.lasalle.edu/event/peanut-butter-and-jelly-making-event/
LOCATION:La Salle Union Lobby Table
CATEGORIES:Entertainment
END:VEVENT
BEGIN:VEVENT
DTSTART;TZID=America/New_York:20240404T120000
DTEND;TZID=America/New_York:20240404T140000
DTSTAMP:20260423T192650
CREATED:20240209T043954Z
LAST-MODIFIED:20240404T173622Z
UID:10002600-1712232000-1712239200@www.lasalle.edu
SUMMARY:Employer Tabling: Sherman College of Chiropractic
DESCRIPTION:Stop by to meet with the representatives from Sherman College of Chiropractic!
URL:https://www.lasalle.edu/event/employer-tabling-sherman-college-of-chiropractic/
LOCATION:La Salle Union Lobby Table
CATEGORIES:Job/Career
END:VEVENT
BEGIN:VEVENT
DTSTART;TZID=America/New_York:20240403T130000
DTEND;TZID=America/New_York:20240403T140000
DTSTAMP:20260423T192650
CREATED:20240209T043950Z
LAST-MODIFIED:20240403T175249Z
UID:10002598-1712149200-1712152800@www.lasalle.edu
SUMMARY:Cookies and Consent
DESCRIPTION:Come decorate cookies and talk about the importance of consent!
URL:https://www.lasalle.edu/event/cookies-and-consent/
LOCATION:La Salle Union Lobby Table
CATEGORIES:Wellness/Recreation
END:VEVENT
BEGIN:VEVENT
DTSTART;TZID=America/New_York:20240402T120000
DTEND;TZID=America/New_York:20240402T140000
DTSTAMP:20260423T192650
CREATED:20240327T103246Z
LAST-MODIFIED:20240402T174101Z
UID:10002773-1712059200-1712066400@www.lasalle.edu
SUMMARY:Employer Tabling: Philadelphia Police
DESCRIPTION:Come visit the Philadelphia Police Department recruiters in the union lobby during free period to learn more about what opportunities they have to offer!
URL:https://www.lasalle.edu/event/employer-tabling-philadelphia-police-4/
LOCATION:La Salle Union Lobby Table
CATEGORIES:Job/Career
END:VEVENT
BEGIN:VEVENT
DTSTART;TZID=America/New_York:20240328T120000
DTEND;TZID=America/New_York:20240328T140000
DTSTAMP:20260423T192650
CREATED:20240209T043945Z
LAST-MODIFIED:20240328T173858Z
UID:10002591-1711627200-1711634400@www.lasalle.edu
SUMMARY:Employer Tabling: University of Saint Augustine for Health Sciences
DESCRIPTION:Stop by to meet the representatives from the University of Saint Augustine for Health Sciences to learn about their programs!
URL:https://www.lasalle.edu/event/employer-tabling-university-of-saint-augustine-for-health-sciences/
LOCATION:La Salle Union Lobby Table
CATEGORIES:Job/Career
END:VEVENT
BEGIN:VEVENT
DTSTART;TZID=America/New_York:20240326T120000
DTEND;TZID=America/New_York:20240326T140000
DTSTAMP:20260423T192650
CREATED:20240322T103615Z
LAST-MODIFIED:20240326T174650Z
UID:10002762-1711454400-1711461600@www.lasalle.edu
SUMMARY:Employer Tabling: Philadelphia Police
DESCRIPTION:Come visit the Philadelphia Police Department recruiters in the union lobby during free period to learn more about what opportunities they have to offer!
URL:https://www.lasalle.edu/event/employer-tabling-philadelphia-police-3/
LOCATION:La Salle Union Lobby Table
CATEGORIES:Job/Career
END:VEVENT
BEGIN:VEVENT
DTSTART;TZID=America/New_York:20240321T200000
DTEND;TZID=America/New_York:20240321T220000
DTSTAMP:20260423T192650
CREATED:20240310T083923Z
LAST-MODIFIED:20240310T083923Z
UID:10002724-1711051200-1711058400@www.lasalle.edu
SUMMARY:Talent Showcase
DESCRIPTION:Talent Showcase hosted by LNL.
URL:https://www.lasalle.edu/event/talent-showcase/
LOCATION:La Salle Union Lobby Table
CATEGORIES:Entertainment
END:VEVENT
BEGIN:VEVENT
DTSTART;TZID=America/New_York:20240320T120000
DTEND;TZID=America/New_York:20240320T140000
DTSTAMP:20260423T192650
CREATED:20240209T043934Z
LAST-MODIFIED:20240320T174847Z
UID:10002584-1710936000-1710943200@www.lasalle.edu
SUMMARY:Perfect Your Pitch - Wellness Wednesday
DESCRIPTION:Perfect Your Pitch – Wellness Wednesday
URL:https://www.lasalle.edu/event/perfect-your-pitch-wellness-wednesday/
LOCATION:La Salle Union Lobby Table
CATEGORIES:Job/Career
END:VEVENT
BEGIN:VEVENT
DTSTART;TZID=America/New_York:20240319T120000
DTEND;TZID=America/New_York:20240319T140000
DTSTAMP:20260423T192650
CREATED:20240306T104844Z
LAST-MODIFIED:20240319T173937Z
UID:10002708-1710849600-1710856800@www.lasalle.edu
SUMMARY:La Salle votes
DESCRIPTION:La Salle votes – . La Salle Votes wants to conduct and Mail in Ballot drive and a voting registration drive from 12:00-2:00pm on both days
URL:https://www.lasalle.edu/event/la-salle-votes-2/
LOCATION:La Salle Union Lobby Table
CATEGORIES:Leadership Development
END:VEVENT
BEGIN:VEVENT
DTSTART;TZID=America/New_York:20240319T120000
DTEND;TZID=America/New_York:20240319T140000
DTSTAMP:20260423T192650
CREATED:20240209T043927Z
LAST-MODIFIED:20240319T173755Z
UID:10002580-1710849600-1710856800@www.lasalle.edu
SUMMARY:Career Closet Pop Up Shop
DESCRIPTION:Career Closet Pop Up Shop
URL:https://www.lasalle.edu/event/career-closet-pop-up-shop/
LOCATION:La Salle Union Lobby Table
CATEGORIES:Job/Career
END:VEVENT
BEGIN:VEVENT
DTSTART;TZID=America/New_York:20240318T120000
DTEND;TZID=America/New_York:20240318T140000
DTSTAMP:20260423T192650
CREATED:20240306T064541Z
LAST-MODIFIED:20240318T173919Z
UID:10002705-1710763200-1710770400@www.lasalle.edu
SUMMARY:La Salle votes
DESCRIPTION:La Salle votes – . La Salle Votes wants to conduct and Mail in Ballot drive and a voting registration drive from 12:00-2:00pm on both days
URL:https://www.lasalle.edu/event/la-salle-votes/
LOCATION:La Salle Union Lobby Table
CATEGORIES:Leadership Development
END:VEVENT
BEGIN:VEVENT
DTSTART;TZID=America/New_York:20240318T120000
DTEND;TZID=America/New_York:20240318T140000
DTSTAMP:20260423T192650
CREATED:20240209T043924Z
LAST-MODIFIED:20240318T174010Z
UID:10002578-1710763200-1710770400@www.lasalle.edu
SUMMARY:Download for Donuts & Resume Reviews
DESCRIPTION:Download for Donuts & Resume Reviews
URL:https://www.lasalle.edu/event/download-for-donuts-resume-reviews/
LOCATION:La Salle Union Lobby Table
CATEGORIES:Job/Career
END:VEVENT
END:VCALENDAR