BEGIN:VCALENDAR
VERSION:2.0
PRODID:-//La Salle University - ECPv6.15.20//NONSGML v1.0//EN
CALSCALE:GREGORIAN
METHOD:PUBLISH
X-WR-CALNAME:La Salle University
X-ORIGINAL-URL:https://www.lasalle.edu
X-WR-CALDESC:Events for La Salle University
REFRESH-INTERVAL;VALUE=DURATION:PT1H
X-Robots-Tag:noindex
X-PUBLISHED-TTL:PT1H
BEGIN:VTIMEZONE
TZID:America/New_York
BEGIN:DAYLIGHT
TZOFFSETFROM:-0500
TZOFFSETTO:-0400
TZNAME:EDT
DTSTART:20220313T070000
END:DAYLIGHT
BEGIN:STANDARD
TZOFFSETFROM:-0400
TZOFFSETTO:-0500
TZNAME:EST
DTSTART:20221106T060000
END:STANDARD
BEGIN:DAYLIGHT
TZOFFSETFROM:-0500
TZOFFSETTO:-0400
TZNAME:EDT
DTSTART:20230312T070000
END:DAYLIGHT
BEGIN:STANDARD
TZOFFSETFROM:-0400
TZOFFSETTO:-0500
TZNAME:EST
DTSTART:20231105T060000
END:STANDARD
BEGIN:DAYLIGHT
TZOFFSETFROM:-0500
TZOFFSETTO:-0400
TZNAME:EDT
DTSTART:20240310T070000
END:DAYLIGHT
BEGIN:STANDARD
TZOFFSETFROM:-0400
TZOFFSETTO:-0500
TZNAME:EST
DTSTART:20241103T060000
END:STANDARD
END:VTIMEZONE
BEGIN:VEVENT
DTSTART;TZID=America/New_York:20231128T120000
DTEND;TZID=America/New_York:20231128T140000
DTSTAMP:20260424T151542
CREATED:20231014T143958Z
LAST-MODIFIED:20231128T183944Z
UID:10001815-1701172800-1701180000@www.lasalle.edu
SUMMARY:Deepher Dude
DESCRIPTION:Deepher Dude Tabling
URL:https://www.lasalle.edu/event/deepher-dude-12/
LOCATION:La Salle Union Lobby Table
CATEGORIES:Entertainment
END:VEVENT
BEGIN:VEVENT
DTSTART;TZID=America/New_York:20231123T120000
DTEND;TZID=America/New_York:20231123T140000
DTSTAMP:20260424T151542
CREATED:20231014T143957Z
LAST-MODIFIED:20231111T034548Z
UID:10001813-1700740800-1700748000@www.lasalle.edu
SUMMARY:Deepher Dude
DESCRIPTION:Deepher Dude Tabling
URL:https://www.lasalle.edu/event/deepher-dude-11/
LOCATION:La Salle Union Lobby Table
CATEGORIES:Entertainment
END:VEVENT
BEGIN:VEVENT
DTSTART;TZID=America/New_York:20231121T120000
DTEND;TZID=America/New_York:20231121T140000
DTSTAMP:20260424T151542
CREATED:20231014T143955Z
LAST-MODIFIED:20231121T114108Z
UID:10001811-1700568000-1700575200@www.lasalle.edu
SUMMARY:Deepher Dude
DESCRIPTION:Deepher Dude Tabling
URL:https://www.lasalle.edu/event/deepher-dude-10/
LOCATION:La Salle Union Lobby Table
CATEGORIES:Entertainment
END:VEVENT
BEGIN:VEVENT
DTSTART;TZID=America/New_York:20231116T123000
DTEND;TZID=America/New_York:20231116T133000
DTSTAMP:20260424T151542
CREATED:20231023T174458Z
LAST-MODIFIED:20231116T083839Z
UID:10001868-1700137800-1700141400@www.lasalle.edu
SUMMARY:La Salle Ambassadors Tabling
DESCRIPTION:Meet the La Salle Ambassadors in the Union lobby to learn more about what we do! Students today\, alumni tomorrow.
URL:https://www.lasalle.edu/event/la-salle-ambassadors-tabling/
LOCATION:La Salle Union Lobby Table
CATEGORIES:Leadership Development
END:VEVENT
BEGIN:VEVENT
DTSTART;TZID=America/New_York:20231116T120000
DTEND;TZID=America/New_York:20231116T140000
DTSTAMP:20260424T151542
CREATED:20231014T143953Z
LAST-MODIFIED:20231116T083838Z
UID:10001808-1700136000-1700143200@www.lasalle.edu
SUMMARY:Deepher Dude
DESCRIPTION:Deepher Dude Tabling
URL:https://www.lasalle.edu/event/deepher-dude-9/
LOCATION:La Salle Union Lobby Table
CATEGORIES:Entertainment
END:VEVENT
BEGIN:VEVENT
DTSTART;TZID=America/New_York:20231114T120000
DTEND;TZID=America/New_York:20231114T140000
DTSTAMP:20260424T151542
CREATED:20231014T143951Z
LAST-MODIFIED:20231114T063740Z
UID:10001805-1699963200-1699970400@www.lasalle.edu
SUMMARY:Deepher Dude
DESCRIPTION:Deepher Dude Tabling
URL:https://www.lasalle.edu/event/deepher-dude-8/
LOCATION:La Salle Union Lobby Table
CATEGORIES:Entertainment
END:VEVENT
BEGIN:VEVENT
DTSTART;TZID=America/New_York:20231109T120000
DTEND;TZID=America/New_York:20231109T140000
DTSTAMP:20260424T151542
CREATED:20231014T143946Z
LAST-MODIFIED:20231111T034407Z
UID:10001799-1699531200-1699538400@www.lasalle.edu
SUMMARY:Deepher Dude
DESCRIPTION:Deepher Dude Tabling
URL:https://www.lasalle.edu/event/deepher-dude-7/
LOCATION:La Salle Union Lobby Table
CATEGORIES:Entertainment
END:VEVENT
BEGIN:VEVENT
DTSTART;TZID=America/New_York:20231107T120000
DTEND;TZID=America/New_York:20231107T140000
DTSTAMP:20260424T151542
CREATED:20231014T143943Z
LAST-MODIFIED:20231111T034403Z
UID:10001797-1699358400-1699365600@www.lasalle.edu
SUMMARY:Deepher Dude
DESCRIPTION:Deepher Dude Tabling
URL:https://www.lasalle.edu/event/deepher-dude-6/
LOCATION:La Salle Union Lobby Table
CATEGORIES:Entertainment
END:VEVENT
BEGIN:VEVENT
DTSTART;TZID=America/New_York:20231106T100000
DTEND;TZID=America/New_York:20231106T130000
DTSTAMP:20260424T151542
CREATED:20231102T214758Z
LAST-MODIFIED:20231111T034401Z
UID:10001894-1699264800-1699275600@www.lasalle.edu
SUMMARY:Philadelphia Police - Employer Company Tabling
DESCRIPTION:“The Philadelphia Police Department is the police agency responsible for law enforcement and investigations within the City of Philadelphia\, Pennsylvania. The PPD is one of the oldest municipal police agencies\, fourth largest police force and sixth largest non-federal law enforcement agency in the United States.”
URL:https://www.lasalle.edu/event/philadelphia-police-employer-company-tabling/
LOCATION:La Salle Union Lobby Table
CATEGORIES:Job/Career
END:VEVENT
BEGIN:VEVENT
DTSTART;TZID=America/New_York:20231103T120000
DTEND;TZID=America/New_York:20231103T140000
DTSTAMP:20260424T151542
CREATED:20231023T174443Z
LAST-MODIFIED:20231102T214756Z
UID:10001864-1699012800-1699020000@www.lasalle.edu
SUMMARY:Pen to Paper\, Heart to Heart
DESCRIPTION:First Gen Day
URL:https://www.lasalle.edu/event/pen-to-paper-heart-to-heart/
LOCATION:La Salle Union Lobby Table
CATEGORIES:Leadership Development
END:VEVENT
BEGIN:VEVENT
DTSTART;TZID=America/New_York:20231102T120000
DTEND;TZID=America/New_York:20231102T140000
DTSTAMP:20260424T151542
CREATED:20231014T143939Z
LAST-MODIFIED:20231025T174540Z
UID:10001791-1698926400-1698933600@www.lasalle.edu
SUMMARY:Deepher Dude
DESCRIPTION:Deepher Dude Tabling
URL:https://www.lasalle.edu/event/deepher-dude-5/
LOCATION:La Salle Union Lobby Table
CATEGORIES:Entertainment
END:VEVENT
BEGIN:VEVENT
DTSTART;TZID=America/New_York:20231031T120000
DTEND;TZID=America/New_York:20231031T140000
DTSTAMP:20260424T151542
CREATED:20231014T143938Z
LAST-MODIFIED:20231025T174539Z
UID:10001790-1698753600-1698760800@www.lasalle.edu
SUMMARY:Deepher Dude
DESCRIPTION:Deepher Dude Tabling
URL:https://www.lasalle.edu/event/deepher-dude-4/
LOCATION:La Salle Union Lobby Table
CATEGORIES:Entertainment
END:VEVENT
BEGIN:VEVENT
DTSTART;TZID=America/New_York:20231026T120000
DTEND;TZID=America/New_York:20231026T140000
DTSTAMP:20260424T151542
CREATED:20231014T143935Z
LAST-MODIFIED:20231025T174535Z
UID:10001785-1698321600-1698328800@www.lasalle.edu
SUMMARY:Deepher Dude
DESCRIPTION:Deepher Dude Tabling
URL:https://www.lasalle.edu/event/deepher-dude-3/
LOCATION:La Salle Union Lobby Table
CATEGORIES:Entertainment
END:VEVENT
BEGIN:VEVENT
DTSTART;TZID=America/New_York:20231024T120000
DTEND;TZID=America/New_York:20231024T140000
DTSTAMP:20260424T151542
CREATED:20231014T143933Z
LAST-MODIFIED:20231024T174404Z
UID:10001782-1698148800-1698156000@www.lasalle.edu
SUMMARY:Deepher Dude - Pie a Guy
DESCRIPTION:Deepher Dude Tabling
URL:https://www.lasalle.edu/event/deepher-dude-pie-a-guy/
LOCATION:La Salle Union Lobby Table
CATEGORIES:Entertainment
END:VEVENT
BEGIN:VEVENT
DTSTART;TZID=America/New_York:20231019T120000
DTEND;TZID=America/New_York:20231019T140000
DTSTAMP:20260424T151542
CREATED:20231014T143929Z
LAST-MODIFIED:20231016T153717Z
UID:10001777-1697716800-1697724000@www.lasalle.edu
SUMMARY:Deepher Dude
DESCRIPTION:Deepher Dude Tabling
URL:https://www.lasalle.edu/event/deepher-dude-2/
LOCATION:La Salle Union Lobby Table
CATEGORIES:Entertainment
END:VEVENT
END:VCALENDAR