BEGIN:VCALENDAR
VERSION:2.0
PRODID:-//La Salle University - ECPv6.15.20//NONSGML v1.0//EN
CALSCALE:GREGORIAN
METHOD:PUBLISH
X-WR-CALNAME:La Salle University
X-ORIGINAL-URL:https://www.lasalle.edu
X-WR-CALDESC:Events for La Salle University
REFRESH-INTERVAL;VALUE=DURATION:PT1H
X-Robots-Tag:noindex
X-PUBLISHED-TTL:PT1H
BEGIN:VTIMEZONE
TZID:America/New_York
BEGIN:DAYLIGHT
TZOFFSETFROM:-0500
TZOFFSETTO:-0400
TZNAME:EDT
DTSTART:20220313T070000
END:DAYLIGHT
BEGIN:STANDARD
TZOFFSETFROM:-0400
TZOFFSETTO:-0500
TZNAME:EST
DTSTART:20221106T060000
END:STANDARD
BEGIN:DAYLIGHT
TZOFFSETFROM:-0500
TZOFFSETTO:-0400
TZNAME:EDT
DTSTART:20230312T070000
END:DAYLIGHT
BEGIN:STANDARD
TZOFFSETFROM:-0400
TZOFFSETTO:-0500
TZNAME:EST
DTSTART:20231105T060000
END:STANDARD
BEGIN:DAYLIGHT
TZOFFSETFROM:-0500
TZOFFSETTO:-0400
TZNAME:EDT
DTSTART:20240310T070000
END:DAYLIGHT
BEGIN:STANDARD
TZOFFSETFROM:-0400
TZOFFSETTO:-0500
TZNAME:EST
DTSTART:20241103T060000
END:STANDARD
END:VTIMEZONE
BEGIN:VEVENT
DTSTART;TZID=America/New_York:20231026T120000
DTEND;TZID=America/New_York:20231026T140000
DTSTAMP:20260424T170626
CREATED:20231014T143935Z
LAST-MODIFIED:20231025T174535Z
UID:10001785-1698321600-1698328800@www.lasalle.edu
SUMMARY:Deepher Dude
DESCRIPTION:Deepher Dude Tabling
URL:https://www.lasalle.edu/event/deepher-dude-3/
LOCATION:La Salle Union Lobby Table
CATEGORIES:Entertainment
END:VEVENT
BEGIN:VEVENT
DTSTART;TZID=America/New_York:20231024T120000
DTEND;TZID=America/New_York:20231024T140000
DTSTAMP:20260424T170626
CREATED:20231014T143933Z
LAST-MODIFIED:20231024T174404Z
UID:10001782-1698148800-1698156000@www.lasalle.edu
SUMMARY:Deepher Dude - Pie a Guy
DESCRIPTION:Deepher Dude Tabling
URL:https://www.lasalle.edu/event/deepher-dude-pie-a-guy/
LOCATION:La Salle Union Lobby Table
CATEGORIES:Entertainment
END:VEVENT
BEGIN:VEVENT
DTSTART;TZID=America/New_York:20231019T120000
DTEND;TZID=America/New_York:20231019T140000
DTSTAMP:20260424T170626
CREATED:20231014T143929Z
LAST-MODIFIED:20231016T153717Z
UID:10001777-1697716800-1697724000@www.lasalle.edu
SUMMARY:Deepher Dude
DESCRIPTION:Deepher Dude Tabling
URL:https://www.lasalle.edu/event/deepher-dude-2/
LOCATION:La Salle Union Lobby Table
CATEGORIES:Entertainment
END:VEVENT
END:VCALENDAR